{"text_format":"1","workbook":"xlsx","n_sheets":2,"sheets":["CO","Desplegables"],"not_rendered":{"charts":0,"images":1,"macros":1,"external_links":0,"defined_names":12,"comments":0,"pivot_tables":0},"unopened":[],"bounds":{"document_bytes":16777216,"sheet_cells":100000,"rows_first":2000,"rows_last":500,"rows_between":2000,"halvings":0,"cell_chars":16384,"cell_head_chars":4096},"cells_cut":0,"cells_raw":0,"read":"whole","date_system":"1900"}

{"sheet":"CO","index":0,"n_rows":621,"n_cols":19,"rows_kept":621,"cut":false,"hidden":false,"merged":[[7,10,7,13],[7,0,8,0],[7,1,8,1],[7,2,8,2],[7,3,8,3],[7,4,7,9],[2,0,2,13],[1,0,1,13],[3,12,3,13],[4,11,5,11],[4,12,5,13],[4,0,5,1],[3,0,3,1],[4,2,5,10],[3,2,3,10]]}
[]
["RELACIÓN DE OFERTAS PRESENTADAS Y ELEGIDAS"]
["DATOS DE LA ENTIDAD SOLICITANTE"]
["RAZÓN SOCIAL:",null,null,null,null,null,null,null,null,null,null,"NIF:"]
["NOMBRE DE LA PROPUPESTA DE ACTIVIDADES DE SERVICIOS DE ASESORAMIENTO: ",null,null,null,null,null,null,null,null,null,null,"PROGRAMA:"]
[]
[]
["Nº Orden según el Cuadro Repertoriado","Actividad para la que se requiere\n","Conceptos de gasto de cada actividad","Límite anexo","Ofertas solicitadas",null,null,null,null,null,"Ofertas elegidas"]
[null,null,null,null,"Proveedor","Pais","NIF","Codigo pais NIF","Importe (sin IVA) euros","Importe (con IVA) euros","Proveedor seleccionado","Criterio de selección","Se adjunta memoria (Sí/No)","Requiere autorización art. 29 de la Ley General de Subvenciones (Sí/no)"]
[null,null,null,null,null,null,null,{"$f":"IF(AND(F10<>\"\",G10<>\"\"),VLOOKUP(F10,Desplegables!$E$2:$F$275,2,0)&G10,\"\")","v":""},null,null,null,null,null,null,null,{"$f":"IF(C10<>\"\",VLOOKUP(C10,Desplegables!$A$3:$B$12,2,0),\"\")","v":""},{"$f":"IF(D10<>\"\",VLOOKUP(D10,Desplegables!$A$26:$C$38,3,0),\"\")","v":""},{"$f":"IF(C10<>\"\",VLOOKUP(C10,Desplegables!$A$3:$C$12,3,0),\"\")","v":""},{"$f":"IF(D10<>\"\",VLOOKUP(D10,Desplegables!$A$12:$B$38,2,0),\"\")","v":""}]
[null,null,null,null,null,null,null,{"$f":"IF(AND(F11<>\"\",G11<>\"\"),VLOOKUP(F11,Desplegables!$E$2:$F$275,2,0)&G11,\"\")","v":""},null,null,null,null,null,null,null,{"$f":"IF(C11<>\"\",VLOOKUP(C11,Desplegables!$A$3:$B$12,2,0),\"\")","v":""},{"$f":"IF(D11<>\"\",VLOOKUP(D11,Desplegables!$A$26:$C$38,3,0),\"\")","v":""},{"$f":"IF(C11<>\"\",VLOOKUP(C11,Desplegables!$A$3:$C$12,3,0),\"\")","v":""},{"$f":"IF(D11<>\"\",VLOOKUP(D11,Desplegables!$A$12:$B$38,2,0),\"\")","v":""}]
[null,null,null,null,null,null,null,{"$f":"IF(AND(F12<>\"\",G12<>\"\"),VLOOKUP(F12,Desplegables!$E$2:$F$275,2,0)&G12,\"\")","v":""},null,null,null,null,null,null,null,{"$f":"IF(C12<>\"\",VLOOKUP(C12,Desplegables!$A$3:$B$12,2,0),\"\")","v":""},{"$f":"IF(D12<>\"\",VLOOKUP(D12,Desplegables!$A$26:$C$38,3,0),\"\")","v":""},{"$f":"IF(C12<>\"\",VLOOKUP(C12,Desplegables!$A$3:$C$12,3,0),\"\")","v":""},{"$f":"IF(D12<>\"\",VLOOKUP(D12,Desplegables!$A$12:$B$38,2,0),\"\")","v":""}]
[null,null,null,null,null,null,null,{"$f":"IF(AND(F13<>\"\",G13<>\"\"),VLOOKUP(F13,Desplegables!$E$2:$F$275,2,0)&G13,\"\")","v":""},null,null,null,null,null,null,null,{"$f":"IF(C13<>\"\",VLOOKUP(C13,Desplegables!$A$3:$B$12,2,0),\"\")","v":""},{"$f":"IF(D13<>\"\",VLOOKUP(D13,Desplegables!$A$26:$C$38,3,0),\"\")","v":""},{"$f":"IF(C13<>\"\",VLOOKUP(C13,Desplegables!$A$3:$C$12,3,0),\"\")","v":""},{"$f":"IF(D13<>\"\",VLOOKUP(D13,Desplegables!$A$12:$B$38,2,0),\"\")","v":""}]
[null,null,null,null,null,null,null,{"$f":"IF(AND(F14<>\"\",G14<>\"\"),VLOOKUP(F14,Desplegables!$E$2:$F$275,2,0)&G14,\"\")","v":""},null,null,null,null,null,null,null,{"$f":"IF(C14<>\"\",VLOOKUP(C14,Desplegables!$A$3:$B$12,2,0),\"\")","v":""},{"$f":"IF(D14<>\"\",VLOOKUP(D14,Desplegables!$A$26:$C$38,3,0),\"\")","v":""},{"$f":"IF(C14<>\"\",VLOOKUP(C14,Desplegables!$A$3:$C$12,3,0),\"\")","v":""},{"$f":"IF(D14<>\"\",VLOOKUP(D14,Desplegables!$A$12:$B$38,2,0),\"\")","v":""}]
[null,null,null,null,null,null,null,{"$f":"IF(AND(F15<>\"\",G15<>\"\"),VLOOKUP(F15,Desplegables!$E$2:$F$275,2,0)&G15,\"\")","v":""},null,null,null,null,null,null,null,{"$f":"IF(C15<>\"\",VLOOKUP(C15,Desplegables!$A$3:$B$12,2,0),\"\")","v":""},{"$f":"IF(D15<>\"\",VLOOKUP(D15,Desplegables!$A$26:$C$38,3,0),\"\")","v":""},{"$f":"IF(C15<>\"\",VLOOKUP(C15,Desplegables!$A$3:$C$12,3,0),\"\")","v":""},{"$f":"IF(D15<>\"\",VLOOKUP(D15,Desplegables!$A$12:$B$38,2,0),\"\")","v":""}]
[null,null,null,null,null,null,null,{"$f":"IF(AND(F16<>\"\",G16<>\"\"),VLOOKUP(F16,Desplegables!$E$2:$F$275,2,0)&G16,\"\")","v":""},null,null,null,null,null,null,null,{"$f":"IF(C16<>\"\",VLOOKUP(C16,Desplegables!$A$3:$B$12,2,0),\"\")","v":""},{"$f":"IF(D16<>\"\",VLOOKUP(D16,Desplegables!$A$26:$C$38,3,0),\"\")","v":""},{"$f":"IF(C16<>\"\",VLOOKUP(C16,Desplegables!$A$3:$C$12,3,0),\"\")","v":""},{"$f":"IF(D16<>\"\",VLOOKUP(D16,Desplegables!$A$12:$B$38,2,0),\"\")","v":""}]
[null,null,null,null,null,null,null,{"$f":"IF(AND(F17<>\"\",G17<>\"\"),VLOOKUP(F17,Desplegables!$E$2:$F$275,2,0)&G17,\"\")","v":""},null,null,null,null,null,null,null,{"$f":"IF(C17<>\"\",VLOOKUP(C17,Desplegables!$A$3:$B$12,2,0),\"\")","v":""},{"$f":"IF(D17<>\"\",VLOOKUP(D17,Desplegables!$A$26:$C$38,3,0),\"\")","v":""},{"$f":"IF(C17<>\"\",VLOOKUP(C17,Desplegables!$A$3:$C$12,3,0),\"\")","v":""},{"$f":"IF(D17<>\"\",VLOOKUP(D17,Desplegables!$A$12:$B$38,2,0),\"\")","v":""}]
[null,null,null,null,null,null,null,{"$f":"IF(AND(F18<>\"\",G18<>\"\"),VLOOKUP(F18,Desplegables!$E$2:$F$275,2,0)&G18,\"\")","v":""},null,null,null,null,null,null,null,{"$f":"IF(C18<>\"\",VLOOKUP(C18,Desplegables!$A$3:$B$12,2,0),\"\")","v":""},{"$f":"IF(D18<>\"\",VLOOKUP(D18,Desplegables!$A$26:$C$38,3,0),\"\")","v":""},{"$f":"IF(C18<>\"\",VLOOKUP(C18,Desplegables!$A$3:$C$12,3,0),\"\")","v":""},{"$f":"IF(D18<>\"\",VLOOKUP(D18,Desplegables!$A$12:$B$38,2,0),\"\")","v":""}]
[null,null,null,null,null,null,null,{"$f":"IF(AND(F19<>\"\",G19<>\"\"),VLOOKUP(F19,Desplegables!$E$2:$F$275,2,0)&G19,\"\")","v":""},null,null,null,null,null,null,null,{"$f":"IF(C19<>\"\",VLOOKUP(C19,Desplegables!$A$3:$B$12,2,0),\"\")","v":""},{"$f":"IF(D19<>\"\",VLOOKUP(D19,Desplegables!$A$26:$C$38,3,0),\"\")","v":""},{"$f":"IF(C19<>\"\",VLOOKUP(C19,Desplegables!$A$3:$C$12,3,0),\"\")","v":""},{"$f":"IF(D19<>\"\",VLOOKUP(D19,Desplegables!$A$12:$B$38,2,0),\"\")","v":""}]
[{"$f":"IF(A19<>\"\",A19,\"\")","v":""},{"$f":"IF(B19<>\"\",B19,\"\")","v":""},{"$f":"IF(C19<>\"\",C19,\"\")","v":""},{"$f":"IF(D19<>\"\",D19,\"\")","v":""},null,null,null,{"$f":"IF(AND(F20<>\"\",G20<>\"\"),VLOOKUP(F20,Desplegables!$E$2:$F$275,2,0)&G20,\"\")","v":""},null,null,null,null,null,null,null,{"$f":"IF(C20<>\"\",VLOOKUP(C20,Desplegables!$A$3:$B$12,2,0),\"\")","v":""},{"$f":"IF(D20<>\"\",VLOOKUP(D20,Desplegables!$A$26:$C$38,3,0),\"\")","v":""},{"$f":"IF(C20<>\"\",VLOOKUP(C20,Desplegables!$A$3:$C$12,3,0),\"\")","v":""},{"$f":"IF(D20<>\"\",VLOOKUP(D20,Desplegables!$A$12:$B$38,2,0),\"\")","v":""}]
[{"$f":"IF(A19<>\"\",A19,\"\")","v":""},{"$f":"IF(B19<>\"\",B19,\"\")","v":""},{"$f":"IF(C19<>\"\",C19,\"\")","v":""},{"$f":"IF(D19<>\"\",D19,\"\")","v":""},null,null,null,{"$f":"IF(AND(F21<>\"\",G21<>\"\"),VLOOKUP(F21,Desplegables!$E$2:$F$275,2,0)&G21,\"\")","v":""},null,null,null,null,null,null,null,{"$f":"IF(C21<>\"\",VLOOKUP(C21,Desplegables!$A$3:$B$12,2,0),\"\")","v":""},{"$f":"IF(D21<>\"\",VLOOKUP(D21,Desplegables!$A$26:$C$38,3,0),\"\")","v":""},{"$f":"IF(C21<>\"\",VLOOKUP(C21,Desplegables!$A$3:$C$12,3,0),\"\")","v":""},{"$f":"IF(D21<>\"\",VLOOKUP(D21,Desplegables!$A$12:$B$38,2,0),\"\")","v":""}]
[null,null,null,null,null,null,null,{"$f":"IF(AND(F22<>\"\",G22<>\"\"),VLOOKUP(F22,Desplegables!$E$2:$F$275,2,0)&G22,\"\")","v":""},null,null,null,null,null,null,null,{"$f":"IF(C22<>\"\",VLOOKUP(C22,Desplegables!$A$3:$B$12,2,0),\"\")","v":""},{"$f":"IF(D22<>\"\",VLOOKUP(D22,Desplegables!$A$26:$C$38,3,0),\"\")","v":""},{"$f":"IF(C22<>\"\",VLOOKUP(C22,Desplegables!$A$3:$C$12,3,0),\"\")","v":""},{"$f":"IF(D22<>\"\",VLOOKUP(D22,Desplegables!$A$12:$B$38,2,0),\"\")","v":""}]
[{"$f":"IF(A22<>\"\",A22,\"\")","v":""},{"$f":"IF(B22<>\"\",B22,\"\")","v":""},{"$f":"IF(C22<>\"\",C22,\"\")","v":""},{"$f":"IF(D22<>\"\",D22,\"\")","v":""},null,null,null,{"$f":"IF(AND(F23<>\"\",G23<>\"\"),VLOOKUP(F23,Desplegables!$E$2:$F$275,2,0)&G23,\"\")","v":""},null,null,null,null,null,null,null,{"$f":"IF(C23<>\"\",VLOOKUP(C23,Desplegables!$A$3:$B$12,2,0),\"\")","v":""},{"$f":"IF(D23<>\"\",VLOOKUP(D23,Desplegables!$A$26:$C$38,3,0),\"\")","v":""},{"$f":"IF(C23<>\"\",VLOOKUP(C23,Desplegables!$A$3:$C$12,3,0),\"\")","v":""},{"$f":"IF(D23<>\"\",VLOOKUP(D23,Desplegables!$A$12:$B$38,2,0),\"\")","v":""}]
[{"$f":"IF(A22<>\"\",A22,\"\")","v":""},{"$f":"IF(B22<>\"\",B22,\"\")","v":""},{"$f":"IF(C22<>\"\",C22,\"\")","v":""},{"$f":"IF(D22<>\"\",D22,\"\")","v":""},null,null,null,{"$f":"IF(AND(F24<>\"\",G24<>\"\"),VLOOKUP(F24,Desplegables!$E$2:$F$275,2,0)&G24,\"\")","v":""},null,null,null,null,null,null,null,{"$f":"IF(C24<>\"\",VLOOKUP(C24,Desplegables!$A$3:$B$12,2,0),\"\")","v":""},{"$f":"IF(D24<>\"\",VLOOKUP(D24,Desplegables!$A$26:$C$38,3,0),\"\")","v":""},{"$f":"IF(C24<>\"\",VLOOKUP(C24,Desplegables!$A$3:$C$12,3,0),\"\")","v":""},{"$f":"IF(D24<>\"\",VLOOKUP(D24,Desplegables!$A$12:$B$38,2,0),\"\")","v":""}]
[null,null,null,null,null,null,null,{"$f":"IF(AND(F25<>\"\",G25<>\"\"),VLOOKUP(F25,Desplegables!$E$2:$F$275,2,0)&G25,\"\")","v":""},null,null,null,null,null,null,null,{"$f":"IF(C25<>\"\",VLOOKUP(C25,Desplegables!$A$3:$B$12,2,0),\"\")","v":""},{"$f":"IF(D25<>\"\",VLOOKUP(D25,Desplegables!$A$26:$C$38,3,0),\"\")","v":""},{"$f":"IF(C25<>\"\",VLOOKUP(C25,Desplegables!$A$3:$C$12,3,0),\"\")","v":""},{"$f":"IF(D25<>\"\",VLOOKUP(D25,Desplegables!$A$12:$B$38,2,0),\"\")","v":""}]
[{"$f":"IF(A25<>\"\",A25,\"\")","v":""},{"$f":"IF(B25<>\"\",B25,\"\")","v":""},{"$f":"IF(C25<>\"\",C25,\"\")","v":""},{"$f":"IF(D25<>\"\",D25,\"\")","v":""},null,null,null,{"$f":"IF(AND(F26<>\"\",G26<>\"\"),VLOOKUP(F26,Desplegables!$E$2:$F$275,2,0)&G26,\"\")","v":""},null,null,null,null,null,null,null,{"$f":"IF(C26<>\"\",VLOOKUP(C26,Desplegables!$A$3:$B$12,2,0),\"\")","v":""},{"$f":"IF(D26<>\"\",VLOOKUP(D26,Desplegables!$A$26:$C$38,3,0),\"\")","v":""},{"$f":"IF(C26<>\"\",VLOOKUP(C26,Desplegables!$A$3:$C$12,3,0),\"\")","v":""},{"$f":"IF(D26<>\"\",VLOOKUP(D26,Desplegables!$A$12:$B$38,2,0),\"\")","v":""}]
[{"$f":"IF(A25<>\"\",A25,\"\")","v":""},{"$f":"IF(B25<>\"\",B25,\"\")","v":""},{"$f":"IF(C25<>\"\",C25,\"\")","v":""},{"$f":"IF(D25<>\"\",D25,\"\")","v":""},null,null,null,{"$f":"IF(AND(F27<>\"\",G27<>\"\"),VLOOKUP(F27,Desplegables!$E$2:$F$275,2,0)&G27,\"\")","v":""},null,null,null,null,null,null,null,{"$f":"IF(C27<>\"\",VLOOKUP(C27,Desplegables!$A$3:$B$12,2,0),\"\")","v":""},{"$f":"IF(D27<>\"\",VLOOKUP(D27,Desplegables!$A$26:$C$38,3,0),\"\")","v":""},{"$f":"IF(C27<>\"\",VLOOKUP(C27,Desplegables!$A$3:$C$12,3,0),\"\")","v":""},{"$f":"IF(D27<>\"\",VLOOKUP(D27,Desplegables!$A$12:$B$38,2,0),\"\")","v":""}]
[null,null,null,null,null,null,null,{"$f":"IF(AND(F28<>\"\",G28<>\"\"),VLOOKUP(F28,Desplegables!$E$2:$F$275,2,0)&G28,\"\")","v":""},null,null,null,null,null,null,null,{"$f":"IF(C28<>\"\",VLOOKUP(C28,Desplegables!$A$3:$B$12,2,0),\"\")","v":""},{"$f":"IF(D28<>\"\",VLOOKUP(D28,Desplegables!$A$26:$C$38,3,0),\"\")","v":""},{"$f":"IF(C28<>\"\",VLOOKUP(C28,Desplegables!$A$3:$C$12,3,0),\"\")","v":""},{"$f":"IF(D28<>\"\",VLOOKUP(D28,Desplegables!$A$12:$B$38,2,0),\"\")","v":""}]
[{"$f":"IF(A28<>\"\",A28,\"\")","v":""},{"$f":"IF(B28<>\"\",B28,\"\")","v":""},{"$f":"IF(C28<>\"\",C28,\"\")","v":""},{"$f":"IF(D28<>\"\",D28,\"\")","v":""},null,null,null,{"$f":"IF(AND(F29<>\"\",G29<>\"\"),VLOOKUP(F29,Desplegables!$E$2:$F$275,2,0)&G29,\"\")","v":""},null,null,null,null,null,null,null,{"$f":"IF(C29<>\"\",VLOOKUP(C29,Desplegables!$A$3:$B$12,2,0),\"\")","v":""},{"$f":"IF(D29<>\"\",VLOOKUP(D29,Desplegables!$A$26:$C$38,3,0),\"\")","v":""},{"$f":"IF(C29<>\"\",VLOOKUP(C29,Desplegables!$A$3:$C$12,3,0),\"\")","v":""},{"$f":"IF(D29<>\"\",VLOOKUP(D29,Desplegables!$A$12:$B$38,2,0),\"\")","v":""}]
[{"$f":"IF(A28<>\"\",A28,\"\")","v":""},{"$f":"IF(B28<>\"\",B28,\"\")","v":""},{"$f":"IF(C28<>\"\",C28,\"\")","v":""},{"$f":"IF(D28<>\"\",D28,\"\")","v":""},null,null,null,{"$f":"IF(AND(F30<>\"\",G30<>\"\"),VLOOKUP(F30,Desplegables!$E$2:$F$275,2,0)&G30,\"\")","v":""},null,null,null,null,null,null,null,{"$f":"IF(C30<>\"\",VLOOKUP(C30,Desplegables!$A$3:$B$12,2,0),\"\")","v":""},{"$f":"IF(D30<>\"\",VLOOKUP(D30,Desplegables!$A$26:$C$38,3,0),\"\")","v":""},{"$f":"IF(C30<>\"\",VLOOKUP(C30,Desplegables!$A$3:$C$12,3,0),\"\")","v":""},{"$f":"IF(D30<>\"\",VLOOKUP(D30,Desplegables!$A$12:$B$38,2,0),\"\")","v":""}]
[null,null,null,null,null,null,null,{"$f":"IF(AND(F31<>\"\",G31<>\"\"),VLOOKUP(F31,Desplegables!$E$2:$F$275,2,0)&G31,\"\")","v":""},null,null,null,null,null,null,null,{"$f":"IF(C31<>\"\",VLOOKUP(C31,Desplegables!$A$3:$B$12,2,0),\"\")","v":""},{"$f":"IF(D31<>\"\",VLOOKUP(D31,Desplegables!$A$26:$C$38,3,0),\"\")","v":""},{"$f":"IF(C31<>\"\",VLOOKUP(C31,Desplegables!$A$3:$C$12,3,0),\"\")","v":""},{"$f":"IF(D31<>\"\",VLOOKUP(D31,Desplegables!$A$12:$B$38,2,0),\"\")","v":""}]
[{"$f":"IF(A31<>\"\",A31,\"\")","v":""},{"$f":"IF(B31<>\"\",B31,\"\")","v":""},{"$f":"IF(C31<>\"\",C31,\"\")","v":""},{"$f":"IF(D31<>\"\",D31,\"\")","v":""},null,null,null,{"$f":"IF(AND(F32<>\"\",G32<>\"\"),VLOOKUP(F32,Desplegables!$E$2:$F$275,2,0)&G32,\"\")","v":""},null,null,null,null,null,null,null,{"$f":"IF(C32<>\"\",VLOOKUP(C32,Desplegables!$A$3:$B$12,2,0),\"\")","v":""},{"$f":"IF(D32<>\"\",VLOOKUP(D32,Desplegables!$A$26:$C$38,3,0),\"\")","v":""},{"$f":"IF(C32<>\"\",VLOOKUP(C32,Desplegables!$A$3:$C$12,3,0),\"\")","v":""},{"$f":"IF(D32<>\"\",VLOOKUP(D32,Desplegables!$A$12:$B$38,2,0),\"\")","v":""}]
[{"$f":"IF(A31<>\"\",A31,\"\")","v":""},{"$f":"IF(B31<>\"\",B31,\"\")","v":""},{"$f":"IF(C31<>\"\",C31,\"\")","v":""},{"$f":"IF(D31<>\"\",D31,\"\")","v":""},null,null,null,{"$f":"IF(AND(F33<>\"\",G33<>\"\"),VLOOKUP(F33,Desplegables!$E$2:$F$275,2,0)&G33,\"\")","v":""},null,null,null,null,null,null,null,{"$f":"IF(C33<>\"\",VLOOKUP(C33,Desplegables!$A$3:$B$12,2,0),\"\")","v":""},{"$f":"IF(D33<>\"\",VLOOKUP(D33,Desplegables!$A$26:$C$38,3,0),\"\")","v":""},{"$f":"IF(C33<>\"\",VLOOKUP(C33,Desplegables!$A$3:$C$12,3,0),\"\")","v":""},{"$f":"IF(D33<>\"\",VLOOKUP(D33,Desplegables!$A$12:$B$38,2,0),\"\")","v":""}]
[null,null,null,null,null,null,null,{"$f":"IF(AND(F34<>\"\",G34<>\"\"),VLOOKUP(F34,Desplegables!$E$2:$F$275,2,0)&G34,\"\")","v":""},null,null,null,null,null,null,null,{"$f":"IF(C34<>\"\",VLOOKUP(C34,Desplegables!$A$3:$B$12,2,0),\"\")","v":""},{"$f":"IF(D34<>\"\",VLOOKUP(D34,Desplegables!$A$26:$C$38,3,0),\"\")","v":""},{"$f":"IF(C34<>\"\",VLOOKUP(C34,Desplegables!$A$3:$C$12,3,0),\"\")","v":""},{"$f":"IF(D34<>\"\",VLOOKUP(D34,Desplegables!$A$12:$B$38,2,0),\"\")","v":""}]
[{"$f":"IF(A34<>\"\",A34,\"\")","v":""},{"$f":"IF(B34<>\"\",B34,\"\")","v":""},{"$f":"IF(C34<>\"\",C34,\"\")","v":""},{"$f":"IF(D34<>\"\",D34,\"\")","v":""},null,null,null,{"$f":"IF(AND(F35<>\"\",G35<>\"\"),VLOOKUP(F35,Desplegables!$E$2:$F$275,2,0)&G35,\"\")","v":""},null,null,null,null,null,null,null,{"$f":"IF(C35<>\"\",VLOOKUP(C35,Desplegables!$A$3:$B$12,2,0),\"\")","v":""},{"$f":"IF(D35<>\"\",VLOOKUP(D35,Desplegables!$A$26:$C$38,3,0),\"\")","v":""},{"$f":"IF(C35<>\"\",VLOOKUP(C35,Desplegables!$A$3:$C$12,3,0),\"\")","v":""},{"$f":"IF(D35<>\"\",VLOOKUP(D35,Desplegables!$A$12:$B$38,2,0),\"\")","v":""}]
[{"$f":"IF(A34<>\"\",A34,\"\")","v":""},{"$f":"IF(B34<>\"\",B34,\"\")","v":""},{"$f":"IF(C34<>\"\",C34,\"\")","v":""},{"$f":"IF(D34<>\"\",D34,\"\")","v":""},null,null,null,{"$f":"IF(AND(F36<>\"\",G36<>\"\"),VLOOKUP(F36,Desplegables!$E$2:$F$275,2,0)&G36,\"\")","v":""},null,null,null,null,null,null,null,{"$f":"IF(C36<>\"\",VLOOKUP(C36,Desplegables!$A$3:$B$12,2,0),\"\")","v":""},{"$f":"IF(D36<>\"\",VLOOKUP(D36,Desplegables!$A$26:$C$38,3,0),\"\")","v":""},{"$f":"IF(C36<>\"\",VLOOKUP(C36,Desplegables!$A$3:$C$12,3,0),\"\")","v":""},{"$f":"IF(D36<>\"\",VLOOKUP(D36,Desplegables!$A$12:$B$38,2,0),\"\")","v":""}]
[null,null,null,null,null,null,null,{"$f":"IF(AND(F37<>\"\",G37<>\"\"),VLOOKUP(F37,Desplegables!$E$2:$F$275,2,0)&G37,\"\")","v":""},null,null,null,null,null,null,null,{"$f":"IF(C37<>\"\",VLOOKUP(C37,Desplegables!$A$3:$B$12,2,0),\"\")","v":""},{"$f":"IF(D37<>\"\",VLOOKUP(D37,Desplegables!$A$26:$C$38,3,0),\"\")","v":""},{"$f":"IF(C37<>\"\",VLOOKUP(C37,Desplegables!$A$3:$C$12,3,0),\"\")","v":""},{"$f":"IF(D37<>\"\",VLOOKUP(D37,Desplegables!$A$12:$B$38,2,0),\"\")","v":""}]
[{"$f":"IF(A37<>\"\",A37,\"\")","v":""},{"$f":"IF(B37<>\"\",B37,\"\")","v":""},{"$f":"IF(C37<>\"\",C37,\"\")","v":""},{"$f":"IF(D37<>\"\",D37,\"\")","v":""},null,null,null,{"$f":"IF(AND(F38<>\"\",G38<>\"\"),VLOOKUP(F38,Desplegables!$E$2:$F$275,2,0)&G38,\"\")","v":""},null,null,null,null,null,null,null,{"$f":"IF(C38<>\"\",VLOOKUP(C38,Desplegables!$A$3:$B$12,2,0),\"\")","v":""},{"$f":"IF(D38<>\"\",VLOOKUP(D38,Desplegables!$A$26:$C$38,3,0),\"\")","v":""},{"$f":"IF(C38<>\"\",VLOOKUP(C38,Desplegables!$A$3:$C$12,3,0),\"\")","v":""},{"$f":"IF(D38<>\"\",VLOOKUP(D38,Desplegables!$A$12:$B$38,2,0),\"\")","v":""}]
[{"$f":"IF(A37<>\"\",A37,\"\")","v":""},{"$f":"IF(B37<>\"\",B37,\"\")","v":""},{"$f":"IF(C37<>\"\",C37,\"\")","v":""},{"$f":"IF(D37<>\"\",D37,\"\")","v":""},null,null,null,{"$f":"IF(AND(F39<>\"\",G39<>\"\"),VLOOKUP(F39,Desplegables!$E$2:$F$275,2,0)&G39,\"\")","v":""},null,null,null,null,null,null,null,{"$f":"IF(C39<>\"\",VLOOKUP(C39,Desplegables!$A$3:$B$12,2,0),\"\")","v":""},{"$f":"IF(D39<>\"\",VLOOKUP(D39,Desplegables!$A$26:$C$38,3,0),\"\")","v":""},{"$f":"IF(C39<>\"\",VLOOKUP(C39,Desplegables!$A$3:$C$12,3,0),\"\")","v":""},{"$f":"IF(D39<>\"\",VLOOKUP(D39,Desplegables!$A$12:$B$38,2,0),\"\")","v":""}]
[null,null,null,null,null,null,null,{"$f":"IF(AND(F40<>\"\",G40<>\"\"),VLOOKUP(F40,Desplegables!$E$2:$F$275,2,0)&G40,\"\")","v":""},null,null,null,null,null,null,null,{"$f":"IF(C40<>\"\",VLOOKUP(C40,Desplegables!$A$3:$B$12,2,0),\"\")","v":""},{"$f":"IF(D40<>\"\",VLOOKUP(D40,Desplegables!$A$26:$C$38,3,0),\"\")","v":""},{"$f":"IF(C40<>\"\",VLOOKUP(C40,Desplegables!$A$3:$C$12,3,0),\"\")","v":""},{"$f":"IF(D40<>\"\",VLOOKUP(D40,Desplegables!$A$12:$B$38,2,0),\"\")","v":""}]
[{"$f":"IF(A40<>\"\",A40,\"\")","v":""},{"$f":"IF(B40<>\"\",B40,\"\")","v":""},{"$f":"IF(C40<>\"\",C40,\"\")","v":""},{"$f":"IF(D40<>\"\",D40,\"\")","v":""},null,null,null,{"$f":"IF(AND(F41<>\"\",G41<>\"\"),VLOOKUP(F41,Desplegables!$E$2:$F$275,2,0)&G41,\"\")","v":""},null,null,null,null,null,null,null,{"$f":"IF(C41<>\"\",VLOOKUP(C41,Desplegables!$A$3:$B$12,2,0),\"\")","v":""},{"$f":"IF(D41<>\"\",VLOOKUP(D41,Desplegables!$A$26:$C$38,3,0),\"\")","v":""},{"$f":"IF(C41<>\"\",VLOOKUP(C41,Desplegables!$A$3:$C$12,3,0),\"\")","v":""},{"$f":"IF(D41<>\"\",VLOOKUP(D41,Desplegables!$A$12:$B$38,2,0),\"\")","v":""}]
[{"$f":"IF(A40<>\"\",A40,\"\")","v":""},{"$f":"IF(B40<>\"\",B40,\"\")","v":""},{"$f":"IF(C40<>\"\",C40,\"\")","v":""},{"$f":"IF(D40<>\"\",D40,\"\")","v":""},null,null,null,{"$f":"IF(AND(F42<>\"\",G42<>\"\"),VLOOKUP(F42,Desplegables!$E$2:$F$275,2,0)&G42,\"\")","v":""},null,null,null,null,null,null,null,{"$f":"IF(C42<>\"\",VLOOKUP(C42,Desplegables!$A$3:$B$12,2,0),\"\")","v":""},{"$f":"IF(D42<>\"\",VLOOKUP(D42,Desplegables!$A$26:$C$38,3,0),\"\")","v":""},{"$f":"IF(C42<>\"\",VLOOKUP(C42,Desplegables!$A$3:$C$12,3,0),\"\")","v":""},{"$f":"IF(D42<>\"\",VLOOKUP(D42,Desplegables!$A$12:$B$38,2,0),\"\")","v":""}]
[null,null,null,null,null,null,null,{"$f":"IF(AND(F43<>\"\",G43<>\"\"),VLOOKUP(F43,Desplegables!$E$2:$F$275,2,0)&G43,\"\")","v":""},null,null,null,null,null,null,null,{"$f":"IF(C43<>\"\",VLOOKUP(C43,Desplegables!$A$3:$B$12,2,0),\"\")","v":""},{"$f":"IF(D43<>\"\",VLOOKUP(D43,Desplegables!$A$26:$C$38,3,0),\"\")","v":""},{"$f":"IF(C43<>\"\",VLOOKUP(C43,Desplegables!$A$3:$C$12,3,0),\"\")","v":""},{"$f":"IF(D43<>\"\",VLOOKUP(D43,Desplegables!$A$12:$B$38,2,0),\"\")","v":""}]
[{"$f":"IF(A43<>\"\",A43,\"\")","v":""},{"$f":"IF(B43<>\"\",B43,\"\")","v":""},{"$f":"IF(C43<>\"\",C43,\"\")","v":""},{"$f":"IF(D43<>\"\",D43,\"\")","v":""},null,null,null,{"$f":"IF(AND(F44<>\"\",G44<>\"\"),VLOOKUP(F44,Desplegables!$E$2:$F$275,2,0)&G44,\"\")","v":""},null,null,null,null,null,null,null,{"$f":"IF(C44<>\"\",VLOOKUP(C44,Desplegables!$A$3:$B$12,2,0),\"\")","v":""},{"$f":"IF(D44<>\"\",VLOOKUP(D44,Desplegables!$A$26:$C$38,3,0),\"\")","v":""},{"$f":"IF(C44<>\"\",VLOOKUP(C44,Desplegables!$A$3:$C$12,3,0),\"\")","v":""},{"$f":"IF(D44<>\"\",VLOOKUP(D44,Desplegables!$A$12:$B$38,2,0),\"\")","v":""}]
[{"$f":"IF(A43<>\"\",A43,\"\")","v":""},{"$f":"IF(B43<>\"\",B43,\"\")","v":""},{"$f":"IF(C43<>\"\",C43,\"\")","v":""},{"$f":"IF(D43<>\"\",D43,\"\")","v":""},null,null,null,{"$f":"IF(AND(F45<>\"\",G45<>\"\"),VLOOKUP(F45,Desplegables!$E$2:$F$275,2,0)&G45,\"\")","v":""},null,null,null,null,null,null,null,{"$f":"IF(C45<>\"\",VLOOKUP(C45,Desplegables!$A$3:$B$12,2,0),\"\")","v":""},{"$f":"IF(D45<>\"\",VLOOKUP(D45,Desplegables!$A$26:$C$38,3,0),\"\")","v":""},{"$f":"IF(C45<>\"\",VLOOKUP(C45,Desplegables!$A$3:$C$12,3,0),\"\")","v":""},{"$f":"IF(D45<>\"\",VLOOKUP(D45,Desplegables!$A$12:$B$38,2,0),\"\")","v":""}]
[null,null,null,null,null,null,null,{"$f":"IF(AND(F46<>\"\",G46<>\"\"),VLOOKUP(F46,Desplegables!$E$2:$F$275,2,0)&G46,\"\")","v":""},null,null,null,null,null,null,null,{"$f":"IF(C46<>\"\",VLOOKUP(C46,Desplegables!$A$3:$B$12,2,0),\"\")","v":""},{"$f":"IF(D46<>\"\",VLOOKUP(D46,Desplegables!$A$26:$C$38,3,0),\"\")","v":""},{"$f":"IF(C46<>\"\",VLOOKUP(C46,Desplegables!$A$3:$C$12,3,0),\"\")","v":""},{"$f":"IF(D46<>\"\",VLOOKUP(D46,Desplegables!$A$12:$B$38,2,0),\"\")","v":""}]
[{"$f":"IF(A46<>\"\",A46,\"\")","v":""},{"$f":"IF(B46<>\"\",B46,\"\")","v":""},{"$f":"IF(C46<>\"\",C46,\"\")","v":""},{"$f":"IF(D46<>\"\",D46,\"\")","v":""},null,null,null,{"$f":"IF(AND(F47<>\"\",G47<>\"\"),VLOOKUP(F47,Desplegables!$E$2:$F$275,2,0)&G47,\"\")","v":""},null,null,null,null,null,null,null,{"$f":"IF(C47<>\"\",VLOOKUP(C47,Desplegables!$A$3:$B$12,2,0),\"\")","v":""},{"$f":"IF(D47<>\"\",VLOOKUP(D47,Desplegables!$A$26:$C$38,3,0),\"\")","v":""},{"$f":"IF(C47<>\"\",VLOOKUP(C47,Desplegables!$A$3:$C$12,3,0),\"\")","v":""},{"$f":"IF(D47<>\"\",VLOOKUP(D47,Desplegables!$A$12:$B$38,2,0),\"\")","v":""}]
[{"$f":"IF(A46<>\"\",A46,\"\")","v":""},{"$f":"IF(B46<>\"\",B46,\"\")","v":""},{"$f":"IF(C46<>\"\",C46,\"\")","v":""},{"$f":"IF(D46<>\"\",D46,\"\")","v":""},null,null,null,{"$f":"IF(AND(F48<>\"\",G48<>\"\"),VLOOKUP(F48,Desplegables!$E$2:$F$275,2,0)&G48,\"\")","v":""},null,null,null,null,null,null,null,{"$f":"IF(C48<>\"\",VLOOKUP(C48,Desplegables!$A$3:$B$12,2,0),\"\")","v":""},{"$f":"IF(D48<>\"\",VLOOKUP(D48,Desplegables!$A$26:$C$38,3,0),\"\")","v":""},{"$f":"IF(C48<>\"\",VLOOKUP(C48,Desplegables!$A$3:$C$12,3,0),\"\")","v":""},{"$f":"IF(D48<>\"\",VLOOKUP(D48,Desplegables!$A$12:$B$38,2,0),\"\")","v":""}]
[null,null,null,null,null,null,null,{"$f":"IF(AND(F49<>\"\",G49<>\"\"),VLOOKUP(F49,Desplegables!$E$2:$F$275,2,0)&G49,\"\")","v":""},null,null,null,null,null,null,null,{"$f":"IF(C49<>\"\",VLOOKUP(C49,Desplegables!$A$3:$B$12,2,0),\"\")","v":""},{"$f":"IF(D49<>\"\",VLOOKUP(D49,Desplegables!$A$26:$C$38,3,0),\"\")","v":""},{"$f":"IF(C49<>\"\",VLOOKUP(C49,Desplegables!$A$3:$C$12,3,0),\"\")","v":""},{"$f":"IF(D49<>\"\",VLOOKUP(D49,Desplegables!$A$12:$B$38,2,0),\"\")","v":""}]
[{"$f":"IF(A49<>\"\",A49,\"\")","v":""},{"$f":"IF(B49<>\"\",B49,\"\")","v":""},{"$f":"IF(C49<>\"\",C49,\"\")","v":""},{"$f":"IF(D49<>\"\",D49,\"\")","v":""},null,null,null,{"$f":"IF(AND(F50<>\"\",G50<>\"\"),VLOOKUP(F50,Desplegables!$E$2:$F$275,2,0)&G50,\"\")","v":""},null,null,null,null,null,null,null,{"$f":"IF(C50<>\"\",VLOOKUP(C50,Desplegables!$A$3:$B$12,2,0),\"\")","v":""},{"$f":"IF(D50<>\"\",VLOOKUP(D50,Desplegables!$A$26:$C$38,3,0),\"\")","v":""},{"$f":"IF(C50<>\"\",VLOOKUP(C50,Desplegables!$A$3:$C$12,3,0),\"\")","v":""},{"$f":"IF(D50<>\"\",VLOOKUP(D50,Desplegables!$A$12:$B$38,2,0),\"\")","v":""}]
[{"$f":"IF(A49<>\"\",A49,\"\")","v":""},{"$f":"IF(B49<>\"\",B49,\"\")","v":""},{"$f":"IF(C49<>\"\",C49,\"\")","v":""},{"$f":"IF(D49<>\"\",D49,\"\")","v":""},null,null,null,{"$f":"IF(AND(F51<>\"\",G51<>\"\"),VLOOKUP(F51,Desplegables!$E$2:$F$275,2,0)&G51,\"\")","v":""},null,null,null,null,null,null,null,{"$f":"IF(C51<>\"\",VLOOKUP(C51,Desplegables!$A$3:$B$12,2,0),\"\")","v":""},{"$f":"IF(D51<>\"\",VLOOKUP(D51,Desplegables!$A$26:$C$38,3,0),\"\")","v":""},{"$f":"IF(C51<>\"\",VLOOKUP(C51,Desplegables!$A$3:$C$12,3,0),\"\")","v":""},{"$f":"IF(D51<>\"\",VLOOKUP(D51,Desplegables!$A$12:$B$38,2,0),\"\")","v":""}]
[null,null,null,null,null,null,null,{"$f":"IF(AND(F52<>\"\",G52<>\"\"),VLOOKUP(F52,Desplegables!$E$2:$F$275,2,0)&G52,\"\")","v":""},null,null,null,null,null,null,null,{"$f":"IF(C52<>\"\",VLOOKUP(C52,Desplegables!$A$3:$B$12,2,0),\"\")","v":""},{"$f":"IF(D52<>\"\",VLOOKUP(D52,Desplegables!$A$26:$C$38,3,0),\"\")","v":""},{"$f":"IF(C52<>\"\",VLOOKUP(C52,Desplegables!$A$3:$C$12,3,0),\"\")","v":""},{"$f":"IF(D52<>\"\",VLOOKUP(D52,Desplegables!$A$12:$B$38,2,0),\"\")","v":""}]
[{"$f":"IF(A52<>\"\",A52,\"\")","v":""},{"$f":"IF(B52<>\"\",B52,\"\")","v":""},{"$f":"IF(C52<>\"\",C52,\"\")","v":""},{"$f":"IF(D52<>\"\",D52,\"\")","v":""},null,null,null,{"$f":"IF(AND(F53<>\"\",G53<>\"\"),VLOOKUP(F53,Desplegables!$E$2:$F$275,2,0)&G53,\"\")","v":""},null,null,null,null,null,null,null,{"$f":"IF(C53<>\"\",VLOOKUP(C53,Desplegables!$A$3:$B$12,2,0),\"\")","v":""},{"$f":"IF(D53<>\"\",VLOOKUP(D53,Desplegables!$A$26:$C$38,3,0),\"\")","v":""},{"$f":"IF(C53<>\"\",VLOOKUP(C53,Desplegables!$A$3:$C$12,3,0),\"\")","v":""},{"$f":"IF(D53<>\"\",VLOOKUP(D53,Desplegables!$A$12:$B$38,2,0),\"\")","v":""}]
[{"$f":"IF(A52<>\"\",A52,\"\")","v":""},{"$f":"IF(B52<>\"\",B52,\"\")","v":""},{"$f":"IF(C52<>\"\",C52,\"\")","v":""},{"$f":"IF(D52<>\"\",D52,\"\")","v":""},null,null,null,{"$f":"IF(AND(F54<>\"\",G54<>\"\"),VLOOKUP(F54,Desplegables!$E$2:$F$275,2,0)&G54,\"\")","v":""},null,null,null,null,null,null,null,{"$f":"IF(C54<>\"\",VLOOKUP(C54,Desplegables!$A$3:$B$12,2,0),\"\")","v":""},{"$f":"IF(D54<>\"\",VLOOKUP(D54,Desplegables!$A$26:$C$38,3,0),\"\")","v":""},{"$f":"IF(C54<>\"\",VLOOKUP(C54,Desplegables!$A$3:$C$12,3,0),\"\")","v":""},{"$f":"IF(D54<>\"\",VLOOKUP(D54,Desplegables!$A$12:$B$38,2,0),\"\")","v":""}]
[null,null,null,null,null,null,null,{"$f":"IF(AND(F55<>\"\",G55<>\"\"),VLOOKUP(F55,Desplegables!$E$2:$F$275,2,0)&G55,\"\")","v":""},null,null,null,null,null,null,null,{"$f":"IF(C55<>\"\",VLOOKUP(C55,Desplegables!$A$3:$B$12,2,0),\"\")","v":""},{"$f":"IF(D55<>\"\",VLOOKUP(D55,Desplegables!$A$26:$C$38,3,0),\"\")","v":""},{"$f":"IF(C55<>\"\",VLOOKUP(C55,Desplegables!$A$3:$C$12,3,0),\"\")","v":""},{"$f":"IF(D55<>\"\",VLOOKUP(D55,Desplegables!$A$12:$B$38,2,0),\"\")","v":""}]
[{"$f":"IF(A55<>\"\",A55,\"\")","v":""},{"$f":"IF(B55<>\"\",B55,\"\")","v":""},{"$f":"IF(C55<>\"\",C55,\"\")","v":""},{"$f":"IF(D55<>\"\",D55,\"\")","v":""},null,null,null,{"$f":"IF(AND(F56<>\"\",G56<>\"\"),VLOOKUP(F56,Desplegables!$E$2:$F$275,2,0)&G56,\"\")","v":""},null,null,null,null,null,null,null,{"$f":"IF(C56<>\"\",VLOOKUP(C56,Desplegables!$A$3:$B$12,2,0),\"\")","v":""},{"$f":"IF(D56<>\"\",VLOOKUP(D56,Desplegables!$A$26:$C$38,3,0),\"\")","v":""},{"$f":"IF(C56<>\"\",VLOOKUP(C56,Desplegables!$A$3:$C$12,3,0),\"\")","v":""},{"$f":"IF(D56<>\"\",VLOOKUP(D56,Desplegables!$A$12:$B$38,2,0),\"\")","v":""}]
[{"$f":"IF(A55<>\"\",A55,\"\")","v":""},{"$f":"IF(B55<>\"\",B55,\"\")","v":""},{"$f":"IF(C55<>\"\",C55,\"\")","v":""},{"$f":"IF(D55<>\"\",D55,\"\")","v":""},null,null,null,{"$f":"IF(AND(F57<>\"\",G57<>\"\"),VLOOKUP(F57,Desplegables!$E$2:$F$275,2,0)&G57,\"\")","v":""},null,null,null,null,null,null,null,{"$f":"IF(C57<>\"\",VLOOKUP(C57,Desplegables!$A$3:$B$12,2,0),\"\")","v":""},{"$f":"IF(D57<>\"\",VLOOKUP(D57,Desplegables!$A$26:$C$38,3,0),\"\")","v":""},{"$f":"IF(C57<>\"\",VLOOKUP(C57,Desplegables!$A$3:$C$12,3,0),\"\")","v":""},{"$f":"IF(D57<>\"\",VLOOKUP(D57,Desplegables!$A$12:$B$38,2,0),\"\")","v":""}]
[null,null,null,null,null,null,null,{"$f":"IF(AND(F58<>\"\",G58<>\"\"),VLOOKUP(F58,Desplegables!$E$2:$F$275,2,0)&G58,\"\")","v":""},null,null,null,null,null,null,null,{"$f":"IF(C58<>\"\",VLOOKUP(C58,Desplegables!$A$3:$B$12,2,0),\"\")","v":""},{"$f":"IF(D58<>\"\",VLOOKUP(D58,Desplegables!$A$26:$C$38,3,0),\"\")","v":""},{"$f":"IF(C58<>\"\",VLOOKUP(C58,Desplegables!$A$3:$C$12,3,0),\"\")","v":""},{"$f":"IF(D58<>\"\",VLOOKUP(D58,Desplegables!$A$12:$B$38,2,0),\"\")","v":""}]
[{"$f":"IF(A58<>\"\",A58,\"\")","v":""},{"$f":"IF(B58<>\"\",B58,\"\")","v":""},{"$f":"IF(C58<>\"\",C58,\"\")","v":""},{"$f":"IF(D58<>\"\",D58,\"\")","v":""},null,null,null,{"$f":"IF(AND(F59<>\"\",G59<>\"\"),VLOOKUP(F59,Desplegables!$E$2:$F$275,2,0)&G59,\"\")","v":""},null,null,null,null,null,null,null,{"$f":"IF(C59<>\"\",VLOOKUP(C59,Desplegables!$A$3:$B$12,2,0),\"\")","v":""},{"$f":"IF(D59<>\"\",VLOOKUP(D59,Desplegables!$A$26:$C$38,3,0),\"\")","v":""},{"$f":"IF(C59<>\"\",VLOOKUP(C59,Desplegables!$A$3:$C$12,3,0),\"\")","v":""},{"$f":"IF(D59<>\"\",VLOOKUP(D59,Desplegables!$A$12:$B$38,2,0),\"\")","v":""}]
[{"$f":"IF(A58<>\"\",A58,\"\")","v":""},{"$f":"IF(B58<>\"\",B58,\"\")","v":""},{"$f":"IF(C58<>\"\",C58,\"\")","v":""},{"$f":"IF(D58<>\"\",D58,\"\")","v":""},null,null,null,{"$f":"IF(AND(F60<>\"\",G60<>\"\"),VLOOKUP(F60,Desplegables!$E$2:$F$275,2,0)&G60,\"\")","v":""},null,null,null,null,null,null,null,{"$f":"IF(C60<>\"\",VLOOKUP(C60,Desplegables!$A$3:$B$12,2,0),\"\")","v":""},{"$f":"IF(D60<>\"\",VLOOKUP(D60,Desplegables!$A$26:$C$38,3,0),\"\")","v":""},{"$f":"IF(C60<>\"\",VLOOKUP(C60,Desplegables!$A$3:$C$12,3,0),\"\")","v":""},{"$f":"IF(D60<>\"\",VLOOKUP(D60,Desplegables!$A$12:$B$38,2,0),\"\")","v":""}]
[null,null,null,null,null,null,null,{"$f":"IF(AND(F61<>\"\",G61<>\"\"),VLOOKUP(F61,Desplegables!$E$2:$F$275,2,0)&G61,\"\")","v":""},null,null,null,null,null,null,null,{"$f":"IF(C61<>\"\",VLOOKUP(C61,Desplegables!$A$3:$B$12,2,0),\"\")","v":""},{"$f":"IF(D61<>\"\",VLOOKUP(D61,Desplegables!$A$26:$C$38,3,0),\"\")","v":""},{"$f":"IF(C61<>\"\",VLOOKUP(C61,Desplegables!$A$3:$C$12,3,0),\"\")","v":""},{"$f":"IF(D61<>\"\",VLOOKUP(D61,Desplegables!$A$12:$B$38,2,0),\"\")","v":""}]
[{"$f":"IF(A61<>\"\",A61,\"\")","v":""},{"$f":"IF(B61<>\"\",B61,\"\")","v":""},{"$f":"IF(C61<>\"\",C61,\"\")","v":""},{"$f":"IF(D61<>\"\",D61,\"\")","v":""},null,null,null,{"$f":"IF(AND(F62<>\"\",G62<>\"\"),VLOOKUP(F62,Desplegables!$E$2:$F$275,2,0)&G62,\"\")","v":""},null,null,null,null,null,null,null,{"$f":"IF(C62<>\"\",VLOOKUP(C62,Desplegables!$A$3:$B$12,2,0),\"\")","v":""},{"$f":"IF(D62<>\"\",VLOOKUP(D62,Desplegables!$A$26:$C$38,3,0),\"\")","v":""},{"$f":"IF(C62<>\"\",VLOOKUP(C62,Desplegables!$A$3:$C$12,3,0),\"\")","v":""},{"$f":"IF(D62<>\"\",VLOOKUP(D62,Desplegables!$A$12:$B$38,2,0),\"\")","v":""}]
[{"$f":"IF(A61<>\"\",A61,\"\")","v":""},{"$f":"IF(B61<>\"\",B61,\"\")","v":""},{"$f":"IF(C61<>\"\",C61,\"\")","v":""},{"$f":"IF(D61<>\"\",D61,\"\")","v":""},null,null,null,{"$f":"IF(AND(F63<>\"\",G63<>\"\"),VLOOKUP(F63,Desplegables!$E$2:$F$275,2,0)&G63,\"\")","v":""},null,null,null,null,null,null,null,{"$f":"IF(C63<>\"\",VLOOKUP(C63,Desplegables!$A$3:$B$12,2,0),\"\")","v":""},{"$f":"IF(D63<>\"\",VLOOKUP(D63,Desplegables!$A$26:$C$38,3,0),\"\")","v":""},{"$f":"IF(C63<>\"\",VLOOKUP(C63,Desplegables!$A$3:$C$12,3,0),\"\")","v":""},{"$f":"IF(D63<>\"\",VLOOKUP(D63,Desplegables!$A$12:$B$38,2,0),\"\")","v":""}]
[null,null,null,null,null,null,null,{"$f":"IF(AND(F64<>\"\",G64<>\"\"),VLOOKUP(F64,Desplegables!$E$2:$F$275,2,0)&G64,\"\")","v":""},null,null,null,null,null,null,null,{"$f":"IF(C64<>\"\",VLOOKUP(C64,Desplegables!$A$3:$B$12,2,0),\"\")","v":""},{"$f":"IF(D64<>\"\",VLOOKUP(D64,Desplegables!$A$26:$C$38,3,0),\"\")","v":""},{"$f":"IF(C64<>\"\",VLOOKUP(C64,Desplegables!$A$3:$C$12,3,0),\"\")","v":""},{"$f":"IF(D64<>\"\",VLOOKUP(D64,Desplegables!$A$12:$B$38,2,0),\"\")","v":""}]
[{"$f":"IF(A64<>\"\",A64,\"\")","v":""},{"$f":"IF(B64<>\"\",B64,\"\")","v":""},{"$f":"IF(C64<>\"\",C64,\"\")","v":""},{"$f":"IF(D64<>\"\",D64,\"\")","v":""},null,null,null,{"$f":"IF(AND(F65<>\"\",G65<>\"\"),VLOOKUP(F65,Desplegables!$E$2:$F$275,2,0)&G65,\"\")","v":""},null,null,null,null,null,null,null,{"$f":"IF(C65<>\"\",VLOOKUP(C65,Desplegables!$A$3:$B$12,2,0),\"\")","v":""},{"$f":"IF(D65<>\"\",VLOOKUP(D65,Desplegables!$A$26:$C$38,3,0),\"\")","v":""},{"$f":"IF(C65<>\"\",VLOOKUP(C65,Desplegables!$A$3:$C$12,3,0),\"\")","v":""},{"$f":"IF(D65<>\"\",VLOOKUP(D65,Desplegables!$A$12:$B$38,2,0),\"\")","v":""}]
[{"$f":"IF(A64<>\"\",A64,\"\")","v":""},{"$f":"IF(B64<>\"\",B64,\"\")","v":""},{"$f":"IF(C64<>\"\",C64,\"\")","v":""},{"$f":"IF(D64<>\"\",D64,\"\")","v":""},null,null,null,{"$f":"IF(AND(F66<>\"\",G66<>\"\"),VLOOKUP(F66,Desplegables!$E$2:$F$275,2,0)&G66,\"\")","v":""},null,null,null,null,null,null,null,{"$f":"IF(C66<>\"\",VLOOKUP(C66,Desplegables!$A$3:$B$12,2,0),\"\")","v":""},{"$f":"IF(D66<>\"\",VLOOKUP(D66,Desplegables!$A$26:$C$38,3,0),\"\")","v":""},{"$f":"IF(C66<>\"\",VLOOKUP(C66,Desplegables!$A$3:$C$12,3,0),\"\")","v":""},{"$f":"IF(D66<>\"\",VLOOKUP(D66,Desplegables!$A$12:$B$38,2,0),\"\")","v":""}]
[null,null,null,null,null,null,null,{"$f":"IF(AND(F67<>\"\",G67<>\"\"),VLOOKUP(F67,Desplegables!$E$2:$F$275,2,0)&G67,\"\")","v":""},null,null,null,null,null,null,null,{"$f":"IF(C67<>\"\",VLOOKUP(C67,Desplegables!$A$3:$B$12,2,0),\"\")","v":""},{"$f":"IF(D67<>\"\",VLOOKUP(D67,Desplegables!$A$26:$C$38,3,0),\"\")","v":""},{"$f":"IF(C67<>\"\",VLOOKUP(C67,Desplegables!$A$3:$C$12,3,0),\"\")","v":""},{"$f":"IF(D67<>\"\",VLOOKUP(D67,Desplegables!$A$12:$B$38,2,0),\"\")","v":""}]
[{"$f":"IF(A67<>\"\",A67,\"\")","v":""},{"$f":"IF(B67<>\"\",B67,\"\")","v":""},{"$f":"IF(C67<>\"\",C67,\"\")","v":""},{"$f":"IF(D67<>\"\",D67,\"\")","v":""},null,null,null,{"$f":"IF(AND(F68<>\"\",G68<>\"\"),VLOOKUP(F68,Desplegables!$E$2:$F$275,2,0)&G68,\"\")","v":""},null,null,null,null,null,null,null,{"$f":"IF(C68<>\"\",VLOOKUP(C68,Desplegables!$A$3:$B$12,2,0),\"\")","v":""},{"$f":"IF(D68<>\"\",VLOOKUP(D68,Desplegables!$A$26:$C$38,3,0),\"\")","v":""},{"$f":"IF(C68<>\"\",VLOOKUP(C68,Desplegables!$A$3:$C$12,3,0),\"\")","v":""},{"$f":"IF(D68<>\"\",VLOOKUP(D68,Desplegables!$A$12:$B$38,2,0),\"\")","v":""}]
[{"$f":"IF(A67<>\"\",A67,\"\")","v":""},{"$f":"IF(B67<>\"\",B67,\"\")","v":""},{"$f":"IF(C67<>\"\",C67,\"\")","v":""},{"$f":"IF(D67<>\"\",D67,\"\")","v":""},null,null,null,{"$f":"IF(AND(F69<>\"\",G69<>\"\"),VLOOKUP(F69,Desplegables!$E$2:$F$275,2,0)&G69,\"\")","v":""},null,null,null,null,null,null,null,{"$f":"IF(C69<>\"\",VLOOKUP(C69,Desplegables!$A$3:$B$12,2,0),\"\")","v":""},{"$f":"IF(D69<>\"\",VLOOKUP(D69,Desplegables!$A$26:$C$38,3,0),\"\")","v":""},{"$f":"IF(C69<>\"\",VLOOKUP(C69,Desplegables!$A$3:$C$12,3,0),\"\")","v":""},{"$f":"IF(D69<>\"\",VLOOKUP(D69,Desplegables!$A$12:$B$38,2,0),\"\")","v":""}]
[null,null,null,null,null,null,null,{"$f":"IF(AND(F70<>\"\",G70<>\"\"),VLOOKUP(F70,Desplegables!$E$2:$F$275,2,0)&G70,\"\")","v":""},null,null,null,null,null,null,null,{"$f":"IF(C70<>\"\",VLOOKUP(C70,Desplegables!$A$3:$B$12,2,0),\"\")","v":""},{"$f":"IF(D70<>\"\",VLOOKUP(D70,Desplegables!$A$26:$C$38,3,0),\"\")","v":""},{"$f":"IF(C70<>\"\",VLOOKUP(C70,Desplegables!$A$3:$C$12,3,0),\"\")","v":""},{"$f":"IF(D70<>\"\",VLOOKUP(D70,Desplegables!$A$12:$B$38,2,0),\"\")","v":""}]
[{"$f":"IF(A70<>\"\",A70,\"\")","v":""},{"$f":"IF(B70<>\"\",B70,\"\")","v":""},{"$f":"IF(C70<>\"\",C70,\"\")","v":""},{"$f":"IF(D70<>\"\",D70,\"\")","v":""},null,null,null,{"$f":"IF(AND(F71<>\"\",G71<>\"\"),VLOOKUP(F71,Desplegables!$E$2:$F$275,2,0)&G71,\"\")","v":""},null,null,null,null,null,null,null,{"$f":"IF(C71<>\"\",VLOOKUP(C71,Desplegables!$A$3:$B$12,2,0),\"\")","v":""},{"$f":"IF(D71<>\"\",VLOOKUP(D71,Desplegables!$A$26:$C$38,3,0),\"\")","v":""},{"$f":"IF(C71<>\"\",VLOOKUP(C71,Desplegables!$A$3:$C$12,3,0),\"\")","v":""},{"$f":"IF(D71<>\"\",VLOOKUP(D71,Desplegables!$A$12:$B$38,2,0),\"\")","v":""}]
[{"$f":"IF(A70<>\"\",A70,\"\")","v":""},{"$f":"IF(B70<>\"\",B70,\"\")","v":""},{"$f":"IF(C70<>\"\",C70,\"\")","v":""},{"$f":"IF(D70<>\"\",D70,\"\")","v":""},null,null,null,{"$f":"IF(AND(F72<>\"\",G72<>\"\"),VLOOKUP(F72,Desplegables!$E$2:$F$275,2,0)&G72,\"\")","v":""},null,null,null,null,null,null,null,{"$f":"IF(C72<>\"\",VLOOKUP(C72,Desplegables!$A$3:$B$12,2,0),\"\")","v":""},{"$f":"IF(D72<>\"\",VLOOKUP(D72,Desplegables!$A$26:$C$38,3,0),\"\")","v":""},{"$f":"IF(C72<>\"\",VLOOKUP(C72,Desplegables!$A$3:$C$12,3,0),\"\")","v":""},{"$f":"IF(D72<>\"\",VLOOKUP(D72,Desplegables!$A$12:$B$38,2,0),\"\")","v":""}]
[null,null,null,null,null,null,null,{"$f":"IF(AND(F73<>\"\",G73<>\"\"),VLOOKUP(F73,Desplegables!$E$2:$F$275,2,0)&G73,\"\")","v":""},null,null,null,null,null,null,null,{"$f":"IF(C73<>\"\",VLOOKUP(C73,Desplegables!$A$3:$B$12,2,0),\"\")","v":""},{"$f":"IF(D73<>\"\",VLOOKUP(D73,Desplegables!$A$26:$C$38,3,0),\"\")","v":""},{"$f":"IF(C73<>\"\",VLOOKUP(C73,Desplegables!$A$3:$C$12,3,0),\"\")","v":""},{"$f":"IF(D73<>\"\",VLOOKUP(D73,Desplegables!$A$12:$B$38,2,0),\"\")","v":""}]
[{"$f":"IF(A73<>\"\",A73,\"\")","v":""},{"$f":"IF(B73<>\"\",B73,\"\")","v":""},{"$f":"IF(C73<>\"\",C73,\"\")","v":""},{"$f":"IF(D73<>\"\",D73,\"\")","v":""},null,null,null,{"$f":"IF(AND(F74<>\"\",G74<>\"\"),VLOOKUP(F74,Desplegables!$E$2:$F$275,2,0)&G74,\"\")","v":""},null,null,null,null,null,null,null,{"$f":"IF(C74<>\"\",VLOOKUP(C74,Desplegables!$A$3:$B$12,2,0),\"\")","v":""},{"$f":"IF(D74<>\"\",VLOOKUP(D74,Desplegables!$A$26:$C$38,3,0),\"\")","v":""},{"$f":"IF(C74<>\"\",VLOOKUP(C74,Desplegables!$A$3:$C$12,3,0),\"\")","v":""},{"$f":"IF(D74<>\"\",VLOOKUP(D74,Desplegables!$A$12:$B$38,2,0),\"\")","v":""}]
[{"$f":"IF(A73<>\"\",A73,\"\")","v":""},{"$f":"IF(B73<>\"\",B73,\"\")","v":""},{"$f":"IF(C73<>\"\",C73,\"\")","v":""},{"$f":"IF(D73<>\"\",D73,\"\")","v":""},null,null,null,{"$f":"IF(AND(F75<>\"\",G75<>\"\"),VLOOKUP(F75,Desplegables!$E$2:$F$275,2,0)&G75,\"\")","v":""},null,null,null,null,null,null,null,{"$f":"IF(C75<>\"\",VLOOKUP(C75,Desplegables!$A$3:$B$12,2,0),\"\")","v":""},{"$f":"IF(D75<>\"\",VLOOKUP(D75,Desplegables!$A$26:$C$38,3,0),\"\")","v":""},{"$f":"IF(C75<>\"\",VLOOKUP(C75,Desplegables!$A$3:$C$12,3,0),\"\")","v":""},{"$f":"IF(D75<>\"\",VLOOKUP(D75,Desplegables!$A$12:$B$38,2,0),\"\")","v":""}]
[null,null,null,null,null,null,null,{"$f":"IF(AND(F76<>\"\",G76<>\"\"),VLOOKUP(F76,Desplegables!$E$2:$F$275,2,0)&G76,\"\")","v":""},null,null,null,null,null,null,null,{"$f":"IF(C76<>\"\",VLOOKUP(C76,Desplegables!$A$3:$B$12,2,0),\"\")","v":""},{"$f":"IF(D76<>\"\",VLOOKUP(D76,Desplegables!$A$26:$C$38,3,0),\"\")","v":""},{"$f":"IF(C76<>\"\",VLOOKUP(C76,Desplegables!$A$3:$C$12,3,0),\"\")","v":""},{"$f":"IF(D76<>\"\",VLOOKUP(D76,Desplegables!$A$12:$B$38,2,0),\"\")","v":""}]
[{"$f":"IF(A76<>\"\",A76,\"\")","v":""},{"$f":"IF(B76<>\"\",B76,\"\")","v":""},{"$f":"IF(C76<>\"\",C76,\"\")","v":""},{"$f":"IF(D76<>\"\",D76,\"\")","v":""},null,null,null,{"$f":"IF(AND(F77<>\"\",G77<>\"\"),VLOOKUP(F77,Desplegables!$E$2:$F$275,2,0)&G77,\"\")","v":""},null,null,null,null,null,null,null,{"$f":"IF(C77<>\"\",VLOOKUP(C77,Desplegables!$A$3:$B$12,2,0),\"\")","v":""},{"$f":"IF(D77<>\"\",VLOOKUP(D77,Desplegables!$A$26:$C$38,3,0),\"\")","v":""},{"$f":"IF(C77<>\"\",VLOOKUP(C77,Desplegables!$A$3:$C$12,3,0),\"\")","v":""},{"$f":"IF(D77<>\"\",VLOOKUP(D77,Desplegables!$A$12:$B$38,2,0),\"\")","v":""}]
[{"$f":"IF(A76<>\"\",A76,\"\")","v":""},{"$f":"IF(B76<>\"\",B76,\"\")","v":""},{"$f":"IF(C76<>\"\",C76,\"\")","v":""},{"$f":"IF(D76<>\"\",D76,\"\")","v":""},null,null,null,{"$f":"IF(AND(F78<>\"\",G78<>\"\"),VLOOKUP(F78,Desplegables!$E$2:$F$275,2,0)&G78,\"\")","v":""},null,null,null,null,null,null,null,{"$f":"IF(C78<>\"\",VLOOKUP(C78,Desplegables!$A$3:$B$12,2,0),\"\")","v":""},{"$f":"IF(D78<>\"\",VLOOKUP(D78,Desplegables!$A$26:$C$38,3,0),\"\")","v":""},{"$f":"IF(C78<>\"\",VLOOKUP(C78,Desplegables!$A$3:$C$12,3,0),\"\")","v":""},{"$f":"IF(D78<>\"\",VLOOKUP(D78,Desplegables!$A$12:$B$38,2,0),\"\")","v":""}]
[null,null,null,null,null,null,null,{"$f":"IF(AND(F79<>\"\",G79<>\"\"),VLOOKUP(F79,Desplegables!$E$2:$F$275,2,0)&G79,\"\")","v":""},null,null,null,null,null,null,null,{"$f":"IF(C79<>\"\",VLOOKUP(C79,Desplegables!$A$3:$B$12,2,0),\"\")","v":""},{"$f":"IF(D79<>\"\",VLOOKUP(D79,Desplegables!$A$26:$C$38,3,0),\"\")","v":""},{"$f":"IF(C79<>\"\",VLOOKUP(C79,Desplegables!$A$3:$C$12,3,0),\"\")","v":""},{"$f":"IF(D79<>\"\",VLOOKUP(D79,Desplegables!$A$12:$B$38,2,0),\"\")","v":""}]
[{"$f":"IF(A79<>\"\",A79,\"\")","v":""},{"$f":"IF(B79<>\"\",B79,\"\")","v":""},{"$f":"IF(C79<>\"\",C79,\"\")","v":""},{"$f":"IF(D79<>\"\",D79,\"\")","v":""},null,null,null,{"$f":"IF(AND(F80<>\"\",G80<>\"\"),VLOOKUP(F80,Desplegables!$E$2:$F$275,2,0)&G80,\"\")","v":""},null,null,null,null,null,null,null,{"$f":"IF(C80<>\"\",VLOOKUP(C80,Desplegables!$A$3:$B$12,2,0),\"\")","v":""},{"$f":"IF(D80<>\"\",VLOOKUP(D80,Desplegables!$A$26:$C$38,3,0),\"\")","v":""},{"$f":"IF(C80<>\"\",VLOOKUP(C80,Desplegables!$A$3:$C$12,3,0),\"\")","v":""},{"$f":"IF(D80<>\"\",VLOOKUP(D80,Desplegables!$A$12:$B$38,2,0),\"\")","v":""}]
[{"$f":"IF(A79<>\"\",A79,\"\")","v":""},{"$f":"IF(B79<>\"\",B79,\"\")","v":""},{"$f":"IF(C79<>\"\",C79,\"\")","v":""},{"$f":"IF(D79<>\"\",D79,\"\")","v":""},null,null,null,{"$f":"IF(AND(F81<>\"\",G81<>\"\"),VLOOKUP(F81,Desplegables!$E$2:$F$275,2,0)&G81,\"\")","v":""},null,null,null,null,null,null,null,{"$f":"IF(C81<>\"\",VLOOKUP(C81,Desplegables!$A$3:$B$12,2,0),\"\")","v":""},{"$f":"IF(D81<>\"\",VLOOKUP(D81,Desplegables!$A$26:$C$38,3,0),\"\")","v":""},{"$f":"IF(C81<>\"\",VLOOKUP(C81,Desplegables!$A$3:$C$12,3,0),\"\")","v":""},{"$f":"IF(D81<>\"\",VLOOKUP(D81,Desplegables!$A$12:$B$38,2,0),\"\")","v":""}]
[null,null,null,null,null,null,null,{"$f":"IF(AND(F82<>\"\",G82<>\"\"),VLOOKUP(F82,Desplegables!$E$2:$F$275,2,0)&G82,\"\")","v":""},null,null,null,null,null,null,null,{"$f":"IF(C82<>\"\",VLOOKUP(C82,Desplegables!$A$3:$B$12,2,0),\"\")","v":""},{"$f":"IF(D82<>\"\",VLOOKUP(D82,Desplegables!$A$26:$C$38,3,0),\"\")","v":""},{"$f":"IF(C82<>\"\",VLOOKUP(C82,Desplegables!$A$3:$C$12,3,0),\"\")","v":""},{"$f":"IF(D82<>\"\",VLOOKUP(D82,Desplegables!$A$12:$B$38,2,0),\"\")","v":""}]
[{"$f":"IF(A82<>\"\",A82,\"\")","v":""},{"$f":"IF(B82<>\"\",B82,\"\")","v":""},{"$f":"IF(C82<>\"\",C82,\"\")","v":""},{"$f":"IF(D82<>\"\",D82,\"\")","v":""},null,null,null,{"$f":"IF(AND(F83<>\"\",G83<>\"\"),VLOOKUP(F83,Desplegables!$E$2:$F$275,2,0)&G83,\"\")","v":""},null,null,null,null,null,null,null,{"$f":"IF(C83<>\"\",VLOOKUP(C83,Desplegables!$A$3:$B$12,2,0),\"\")","v":""},{"$f":"IF(D83<>\"\",VLOOKUP(D83,Desplegables!$A$26:$C$38,3,0),\"\")","v":""},{"$f":"IF(C83<>\"\",VLOOKUP(C83,Desplegables!$A$3:$C$12,3,0),\"\")","v":""},{"$f":"IF(D83<>\"\",VLOOKUP(D83,Desplegables!$A$12:$B$38,2,0),\"\")","v":""}]
[{"$f":"IF(A82<>\"\",A82,\"\")","v":""},{"$f":"IF(B82<>\"\",B82,\"\")","v":""},{"$f":"IF(C82<>\"\",C82,\"\")","v":""},{"$f":"IF(D82<>\"\",D82,\"\")","v":""},null,null,null,{"$f":"IF(AND(F84<>\"\",G84<>\"\"),VLOOKUP(F84,Desplegables!$E$2:$F$275,2,0)&G84,\"\")","v":""},null,null,null,null,null,null,null,{"$f":"IF(C84<>\"\",VLOOKUP(C84,Desplegables!$A$3:$B$12,2,0),\"\")","v":""},{"$f":"IF(D84<>\"\",VLOOKUP(D84,Desplegables!$A$26:$C$38,3,0),\"\")","v":""},{"$f":"IF(C84<>\"\",VLOOKUP(C84,Desplegables!$A$3:$C$12,3,0),\"\")","v":""},{"$f":"IF(D84<>\"\",VLOOKUP(D84,Desplegables!$A$12:$B$38,2,0),\"\")","v":""}]
[null,null,null,null,null,null,null,{"$f":"IF(AND(F85<>\"\",G85<>\"\"),VLOOKUP(F85,Desplegables!$E$2:$F$275,2,0)&G85,\"\")","v":""},null,null,null,null,null,null,null,{"$f":"IF(C85<>\"\",VLOOKUP(C85,Desplegables!$A$3:$B$12,2,0),\"\")","v":""},{"$f":"IF(D85<>\"\",VLOOKUP(D85,Desplegables!$A$26:$C$38,3,0),\"\")","v":""},{"$f":"IF(C85<>\"\",VLOOKUP(C85,Desplegables!$A$3:$C$12,3,0),\"\")","v":""},{"$f":"IF(D85<>\"\",VLOOKUP(D85,Desplegables!$A$12:$B$38,2,0),\"\")","v":""}]
[{"$f":"IF(A85<>\"\",A85,\"\")","v":""},{"$f":"IF(B85<>\"\",B85,\"\")","v":""},{"$f":"IF(C85<>\"\",C85,\"\")","v":""},{"$f":"IF(D85<>\"\",D85,\"\")","v":""},null,null,null,{"$f":"IF(AND(F86<>\"\",G86<>\"\"),VLOOKUP(F86,Desplegables!$E$2:$F$275,2,0)&G86,\"\")","v":""},null,null,null,null,null,null,null,{"$f":"IF(C86<>\"\",VLOOKUP(C86,Desplegables!$A$3:$B$12,2,0),\"\")","v":""},{"$f":"IF(D86<>\"\",VLOOKUP(D86,Desplegables!$A$26:$C$38,3,0),\"\")","v":""},{"$f":"IF(C86<>\"\",VLOOKUP(C86,Desplegables!$A$3:$C$12,3,0),\"\")","v":""},{"$f":"IF(D86<>\"\",VLOOKUP(D86,Desplegables!$A$12:$B$38,2,0),\"\")","v":""}]
[{"$f":"IF(A85<>\"\",A85,\"\")","v":""},{"$f":"IF(B85<>\"\",B85,\"\")","v":""},{"$f":"IF(C85<>\"\",C85,\"\")","v":""},{"$f":"IF(D85<>\"\",D85,\"\")","v":""},null,null,null,{"$f":"IF(AND(F87<>\"\",G87<>\"\"),VLOOKUP(F87,Desplegables!$E$2:$F$275,2,0)&G87,\"\")","v":""},null,null,null,null,null,null,null,{"$f":"IF(C87<>\"\",VLOOKUP(C87,Desplegables!$A$3:$B$12,2,0),\"\")","v":""},{"$f":"IF(D87<>\"\",VLOOKUP(D87,Desplegables!$A$26:$C$38,3,0),\"\")","v":""},{"$f":"IF(C87<>\"\",VLOOKUP(C87,Desplegables!$A$3:$C$12,3,0),\"\")","v":""},{"$f":"IF(D87<>\"\",VLOOKUP(D87,Desplegables!$A$12:$B$38,2,0),\"\")","v":""}]
[null,null,null,null,null,null,null,{"$f":"IF(AND(F88<>\"\",G88<>\"\"),VLOOKUP(F88,Desplegables!$E$2:$F$275,2,0)&G88,\"\")","v":""},null,null,null,null,null,null,null,{"$f":"IF(C88<>\"\",VLOOKUP(C88,Desplegables!$A$3:$B$12,2,0),\"\")","v":""},{"$f":"IF(D88<>\"\",VLOOKUP(D88,Desplegables!$A$26:$C$38,3,0),\"\")","v":""},{"$f":"IF(C88<>\"\",VLOOKUP(C88,Desplegables!$A$3:$C$12,3,0),\"\")","v":""},{"$f":"IF(D88<>\"\",VLOOKUP(D88,Desplegables!$A$12:$B$38,2,0),\"\")","v":""}]
[{"$f":"IF(A88<>\"\",A88,\"\")","v":""},{"$f":"IF(B88<>\"\",B88,\"\")","v":""},{"$f":"IF(C88<>\"\",C88,\"\")","v":""},{"$f":"IF(D88<>\"\",D88,\"\")","v":""},null,null,null,{"$f":"IF(AND(F89<>\"\",G89<>\"\"),VLOOKUP(F89,Desplegables!$E$2:$F$275,2,0)&G89,\"\")","v":""},null,null,null,null,null,null,null,{"$f":"IF(C89<>\"\",VLOOKUP(C89,Desplegables!$A$3:$B$12,2,0),\"\")","v":""},{"$f":"IF(D89<>\"\",VLOOKUP(D89,Desplegables!$A$26:$C$38,3,0),\"\")","v":""},{"$f":"IF(C89<>\"\",VLOOKUP(C89,Desplegables!$A$3:$C$12,3,0),\"\")","v":""},{"$f":"IF(D89<>\"\",VLOOKUP(D89,Desplegables!$A$12:$B$38,2,0),\"\")","v":""}]
[{"$f":"IF(A88<>\"\",A88,\"\")","v":""},{"$f":"IF(B88<>\"\",B88,\"\")","v":""},{"$f":"IF(C88<>\"\",C88,\"\")","v":""},{"$f":"IF(D88<>\"\",D88,\"\")","v":""},null,null,null,{"$f":"IF(AND(F90<>\"\",G90<>\"\"),VLOOKUP(F90,Desplegables!$E$2:$F$275,2,0)&G90,\"\")","v":""},null,null,null,null,null,null,null,{"$f":"IF(C90<>\"\",VLOOKUP(C90,Desplegables!$A$3:$B$12,2,0),\"\")","v":""},{"$f":"IF(D90<>\"\",VLOOKUP(D90,Desplegables!$A$26:$C$38,3,0),\"\")","v":""},{"$f":"IF(C90<>\"\",VLOOKUP(C90,Desplegables!$A$3:$C$12,3,0),\"\")","v":""},{"$f":"IF(D90<>\"\",VLOOKUP(D90,Desplegables!$A$12:$B$38,2,0),\"\")","v":""}]
[null,null,null,null,null,null,null,{"$f":"IF(AND(F91<>\"\",G91<>\"\"),VLOOKUP(F91,Desplegables!$E$2:$F$275,2,0)&G91,\"\")","v":""},null,null,null,null,null,null,null,{"$f":"IF(C91<>\"\",VLOOKUP(C91,Desplegables!$A$3:$B$12,2,0),\"\")","v":""},{"$f":"IF(D91<>\"\",VLOOKUP(D91,Desplegables!$A$26:$C$38,3,0),\"\")","v":""},{"$f":"IF(C91<>\"\",VLOOKUP(C91,Desplegables!$A$3:$C$12,3,0),\"\")","v":""},{"$f":"IF(D91<>\"\",VLOOKUP(D91,Desplegables!$A$12:$B$38,2,0),\"\")","v":""}]
[{"$f":"IF(A91<>\"\",A91,\"\")","v":""},{"$f":"IF(B91<>\"\",B91,\"\")","v":""},{"$f":"IF(C91<>\"\",C91,\"\")","v":""},{"$f":"IF(D91<>\"\",D91,\"\")","v":""},null,null,null,{"$f":"IF(AND(F92<>\"\",G92<>\"\"),VLOOKUP(F92,Desplegables!$E$2:$F$275,2,0)&G92,\"\")","v":""},null,null,null,null,null,null,null,{"$f":"IF(C92<>\"\",VLOOKUP(C92,Desplegables!$A$3:$B$12,2,0),\"\")","v":""},{"$f":"IF(D92<>\"\",VLOOKUP(D92,Desplegables!$A$26:$C$38,3,0),\"\")","v":""},{"$f":"IF(C92<>\"\",VLOOKUP(C92,Desplegables!$A$3:$C$12,3,0),\"\")","v":""},{"$f":"IF(D92<>\"\",VLOOKUP(D92,Desplegables!$A$12:$B$38,2,0),\"\")","v":""}]
[{"$f":"IF(A91<>\"\",A91,\"\")","v":""},{"$f":"IF(B91<>\"\",B91,\"\")","v":""},{"$f":"IF(C91<>\"\",C91,\"\")","v":""},{"$f":"IF(D91<>\"\",D91,\"\")","v":""},null,null,null,{"$f":"IF(AND(F93<>\"\",G93<>\"\"),VLOOKUP(F93,Desplegables!$E$2:$F$275,2,0)&G93,\"\")","v":""},null,null,null,null,null,null,null,{"$f":"IF(C93<>\"\",VLOOKUP(C93,Desplegables!$A$3:$B$12,2,0),\"\")","v":""},{"$f":"IF(D93<>\"\",VLOOKUP(D93,Desplegables!$A$26:$C$38,3,0),\"\")","v":""},{"$f":"IF(C93<>\"\",VLOOKUP(C93,Desplegables!$A$3:$C$12,3,0),\"\")","v":""},{"$f":"IF(D93<>\"\",VLOOKUP(D93,Desplegables!$A$12:$B$38,2,0),\"\")","v":""}]
[null,null,null,null,null,null,null,{"$f":"IF(AND(F94<>\"\",G94<>\"\"),VLOOKUP(F94,Desplegables!$E$2:$F$275,2,0)&G94,\"\")","v":""},null,null,null,null,null,null,null,{"$f":"IF(C94<>\"\",VLOOKUP(C94,Desplegables!$A$3:$B$12,2,0),\"\")","v":""},{"$f":"IF(D94<>\"\",VLOOKUP(D94,Desplegables!$A$26:$C$38,3,0),\"\")","v":""},{"$f":"IF(C94<>\"\",VLOOKUP(C94,Desplegables!$A$3:$C$12,3,0),\"\")","v":""},{"$f":"IF(D94<>\"\",VLOOKUP(D94,Desplegables!$A$12:$B$38,2,0),\"\")","v":""}]
[{"$f":"IF(A94<>\"\",A94,\"\")","v":""},{"$f":"IF(B94<>\"\",B94,\"\")","v":""},{"$f":"IF(C94<>\"\",C94,\"\")","v":""},{"$f":"IF(D94<>\"\",D94,\"\")","v":""},null,null,null,{"$f":"IF(AND(F95<>\"\",G95<>\"\"),VLOOKUP(F95,Desplegables!$E$2:$F$275,2,0)&G95,\"\")","v":""},null,null,null,null,null,null,null,{"$f":"IF(C95<>\"\",VLOOKUP(C95,Desplegables!$A$3:$B$12,2,0),\"\")","v":""},{"$f":"IF(D95<>\"\",VLOOKUP(D95,Desplegables!$A$26:$C$38,3,0),\"\")","v":""},{"$f":"IF(C95<>\"\",VLOOKUP(C95,Desplegables!$A$3:$C$12,3,0),\"\")","v":""},{"$f":"IF(D95<>\"\",VLOOKUP(D95,Desplegables!$A$12:$B$38,2,0),\"\")","v":""}]
[{"$f":"IF(A94<>\"\",A94,\"\")","v":""},{"$f":"IF(B94<>\"\",B94,\"\")","v":""},{"$f":"IF(C94<>\"\",C94,\"\")","v":""},{"$f":"IF(D94<>\"\",D94,\"\")","v":""},null,null,null,{"$f":"IF(AND(F96<>\"\",G96<>\"\"),VLOOKUP(F96,Desplegables!$E$2:$F$275,2,0)&G96,\"\")","v":""},null,null,null,null,null,null,null,{"$f":"IF(C96<>\"\",VLOOKUP(C96,Desplegables!$A$3:$B$12,2,0),\"\")","v":""},{"$f":"IF(D96<>\"\",VLOOKUP(D96,Desplegables!$A$26:$C$38,3,0),\"\")","v":""},{"$f":"IF(C96<>\"\",VLOOKUP(C96,Desplegables!$A$3:$C$12,3,0),\"\")","v":""},{"$f":"IF(D96<>\"\",VLOOKUP(D96,Desplegables!$A$12:$B$38,2,0),\"\")","v":""}]
[null,null,null,null,null,null,null,{"$f":"IF(AND(F97<>\"\",G97<>\"\"),VLOOKUP(F97,Desplegables!$E$2:$F$275,2,0)&G97,\"\")","v":""},null,null,null,null,null,null,null,{"$f":"IF(C97<>\"\",VLOOKUP(C97,Desplegables!$A$3:$B$12,2,0),\"\")","v":""},{"$f":"IF(D97<>\"\",VLOOKUP(D97,Desplegables!$A$26:$C$38,3,0),\"\")","v":""},{"$f":"IF(C97<>\"\",VLOOKUP(C97,Desplegables!$A$3:$C$12,3,0),\"\")","v":""},{"$f":"IF(D97<>\"\",VLOOKUP(D97,Desplegables!$A$12:$B$38,2,0),\"\")","v":""}]
[{"$f":"IF(A97<>\"\",A97,\"\")","v":""},{"$f":"IF(B97<>\"\",B97,\"\")","v":""},{"$f":"IF(C97<>\"\",C97,\"\")","v":""},{"$f":"IF(D97<>\"\",D97,\"\")","v":""},null,null,null,{"$f":"IF(AND(F98<>\"\",G98<>\"\"),VLOOKUP(F98,Desplegables!$E$2:$F$275,2,0)&G98,\"\")","v":""},null,null,null,null,null,null,null,{"$f":"IF(C98<>\"\",VLOOKUP(C98,Desplegables!$A$3:$B$12,2,0),\"\")","v":""},{"$f":"IF(D98<>\"\",VLOOKUP(D98,Desplegables!$A$26:$C$38,3,0),\"\")","v":""},{"$f":"IF(C98<>\"\",VLOOKUP(C98,Desplegables!$A$3:$C$12,3,0),\"\")","v":""},{"$f":"IF(D98<>\"\",VLOOKUP(D98,Desplegables!$A$12:$B$38,2,0),\"\")","v":""}]
[{"$f":"IF(A97<>\"\",A97,\"\")","v":""},{"$f":"IF(B97<>\"\",B97,\"\")","v":""},{"$f":"IF(C97<>\"\",C97,\"\")","v":""},{"$f":"IF(D97<>\"\",D97,\"\")","v":""},null,null,null,{"$f":"IF(AND(F99<>\"\",G99<>\"\"),VLOOKUP(F99,Desplegables!$E$2:$F$275,2,0)&G99,\"\")","v":""},null,null,null,null,null,null,null,{"$f":"IF(C99<>\"\",VLOOKUP(C99,Desplegables!$A$3:$B$12,2,0),\"\")","v":""},{"$f":"IF(D99<>\"\",VLOOKUP(D99,Desplegables!$A$26:$C$38,3,0),\"\")","v":""},{"$f":"IF(C99<>\"\",VLOOKUP(C99,Desplegables!$A$3:$C$12,3,0),\"\")","v":""},{"$f":"IF(D99<>\"\",VLOOKUP(D99,Desplegables!$A$12:$B$38,2,0),\"\")","v":""}]
[null,null,null,null,null,null,null,{"$f":"IF(AND(F100<>\"\",G100<>\"\"),VLOOKUP(F100,Desplegables!$E$2:$F$275,2,0)&G100,\"\")","v":""},null,null,null,null,null,null,null,{"$f":"IF(C100<>\"\",VLOOKUP(C100,Desplegables!$A$3:$B$12,2,0),\"\")","v":""},{"$f":"IF(D100<>\"\",VLOOKUP(D100,Desplegables!$A$26:$C$38,3,0),\"\")","v":""},{"$f":"IF(C100<>\"\",VLOOKUP(C100,Desplegables!$A$3:$C$12,3,0),\"\")","v":""},{"$f":"IF(D100<>\"\",VLOOKUP(D100,Desplegables!$A$12:$B$38,2,0),\"\")","v":""}]
[{"$f":"IF(A100<>\"\",A100,\"\")","v":""},{"$f":"IF(B100<>\"\",B100,\"\")","v":""},{"$f":"IF(C100<>\"\",C100,\"\")","v":""},{"$f":"IF(D100<>\"\",D100,\"\")","v":""},null,null,null,{"$f":"IF(AND(F101<>\"\",G101<>\"\"),VLOOKUP(F101,Desplegables!$E$2:$F$275,2,0)&G101,\"\")","v":""},null,null,null,null,null,null,null,{"$f":"IF(C101<>\"\",VLOOKUP(C101,Desplegables!$A$3:$B$12,2,0),\"\")","v":""},{"$f":"IF(D101<>\"\",VLOOKUP(D101,Desplegables!$A$26:$C$38,3,0),\"\")","v":""},{"$f":"IF(C101<>\"\",VLOOKUP(C101,Desplegables!$A$3:$C$12,3,0),\"\")","v":""},{"$f":"IF(D101<>\"\",VLOOKUP(D101,Desplegables!$A$12:$B$38,2,0),\"\")","v":""}]
[{"$f":"IF(A100<>\"\",A100,\"\")","v":""},{"$f":"IF(B100<>\"\",B100,\"\")","v":""},{"$f":"IF(C100<>\"\",C100,\"\")","v":""},{"$f":"IF(D100<>\"\",D100,\"\")","v":""},null,null,null,{"$f":"IF(AND(F102<>\"\",G102<>\"\"),VLOOKUP(F102,Desplegables!$E$2:$F$275,2,0)&G102,\"\")","v":""},null,null,null,null,null,null,null,{"$f":"IF(C102<>\"\",VLOOKUP(C102,Desplegables!$A$3:$B$12,2,0),\"\")","v":""},{"$f":"IF(D102<>\"\",VLOOKUP(D102,Desplegables!$A$26:$C$38,3,0),\"\")","v":""},{"$f":"IF(C102<>\"\",VLOOKUP(C102,Desplegables!$A$3:$C$12,3,0),\"\")","v":""},{"$f":"IF(D102<>\"\",VLOOKUP(D102,Desplegables!$A$12:$B$38,2,0),\"\")","v":""}]
[null,null,null,null,null,null,null,{"$f":"IF(AND(F103<>\"\",G103<>\"\"),VLOOKUP(F103,Desplegables!$E$2:$F$275,2,0)&G103,\"\")","v":""},null,null,null,null,null,null,null,{"$f":"IF(C103<>\"\",VLOOKUP(C103,Desplegables!$A$3:$B$12,2,0),\"\")","v":""},{"$f":"IF(D103<>\"\",VLOOKUP(D103,Desplegables!$A$26:$C$38,3,0),\"\")","v":""},{"$f":"IF(C103<>\"\",VLOOKUP(C103,Desplegables!$A$3:$C$12,3,0),\"\")","v":""},{"$f":"IF(D103<>\"\",VLOOKUP(D103,Desplegables!$A$12:$B$38,2,0),\"\")","v":""}]
[{"$f":"IF(A103<>\"\",A103,\"\")","v":""},{"$f":"IF(B103<>\"\",B103,\"\")","v":""},{"$f":"IF(C103<>\"\",C103,\"\")","v":""},{"$f":"IF(D103<>\"\",D103,\"\")","v":""},null,null,null,{"$f":"IF(AND(F104<>\"\",G104<>\"\"),VLOOKUP(F104,Desplegables!$E$2:$F$275,2,0)&G104,\"\")","v":""},null,null,null,null,null,null,null,{"$f":"IF(C104<>\"\",VLOOKUP(C104,Desplegables!$A$3:$B$12,2,0),\"\")","v":""},{"$f":"IF(D104<>\"\",VLOOKUP(D104,Desplegables!$A$26:$C$38,3,0),\"\")","v":""},{"$f":"IF(C104<>\"\",VLOOKUP(C104,Desplegables!$A$3:$C$12,3,0),\"\")","v":""},{"$f":"IF(D104<>\"\",VLOOKUP(D104,Desplegables!$A$12:$B$38,2,0),\"\")","v":""}]
[{"$f":"IF(A103<>\"\",A103,\"\")","v":""},{"$f":"IF(B103<>\"\",B103,\"\")","v":""},{"$f":"IF(C103<>\"\",C103,\"\")","v":""},{"$f":"IF(D103<>\"\",D103,\"\")","v":""},null,null,null,{"$f":"IF(AND(F105<>\"\",G105<>\"\"),VLOOKUP(F105,Desplegables!$E$2:$F$275,2,0)&G105,\"\")","v":""},null,null,null,null,null,null,null,{"$f":"IF(C105<>\"\",VLOOKUP(C105,Desplegables!$A$3:$B$12,2,0),\"\")","v":""},{"$f":"IF(D105<>\"\",VLOOKUP(D105,Desplegables!$A$26:$C$38,3,0),\"\")","v":""},{"$f":"IF(C105<>\"\",VLOOKUP(C105,Desplegables!$A$3:$C$12,3,0),\"\")","v":""},{"$f":"IF(D105<>\"\",VLOOKUP(D105,Desplegables!$A$12:$B$38,2,0),\"\")","v":""}]
[null,null,null,null,null,null,null,{"$f":"IF(AND(F106<>\"\",G106<>\"\"),VLOOKUP(F106,Desplegables!$E$2:$F$275,2,0)&G106,\"\")","v":""},null,null,null,null,null,null,null,{"$f":"IF(C106<>\"\",VLOOKUP(C106,Desplegables!$A$3:$B$12,2,0),\"\")","v":""},{"$f":"IF(D106<>\"\",VLOOKUP(D106,Desplegables!$A$26:$C$38,3,0),\"\")","v":""},{"$f":"IF(C106<>\"\",VLOOKUP(C106,Desplegables!$A$3:$C$12,3,0),\"\")","v":""},{"$f":"IF(D106<>\"\",VLOOKUP(D106,Desplegables!$A$12:$B$38,2,0),\"\")","v":""}]
[{"$f":"IF(A106<>\"\",A106,\"\")","v":""},{"$f":"IF(B106<>\"\",B106,\"\")","v":""},{"$f":"IF(C106<>\"\",C106,\"\")","v":""},{"$f":"IF(D106<>\"\",D106,\"\")","v":""},null,null,null,{"$f":"IF(AND(F107<>\"\",G107<>\"\"),VLOOKUP(F107,Desplegables!$E$2:$F$275,2,0)&G107,\"\")","v":""},null,null,null,null,null,null,null,{"$f":"IF(C107<>\"\",VLOOKUP(C107,Desplegables!$A$3:$B$12,2,0),\"\")","v":""},{"$f":"IF(D107<>\"\",VLOOKUP(D107,Desplegables!$A$26:$C$38,3,0),\"\")","v":""},{"$f":"IF(C107<>\"\",VLOOKUP(C107,Desplegables!$A$3:$C$12,3,0),\"\")","v":""},{"$f":"IF(D107<>\"\",VLOOKUP(D107,Desplegables!$A$12:$B$38,2,0),\"\")","v":""}]
[{"$f":"IF(A106<>\"\",A106,\"\")","v":""},{"$f":"IF(B106<>\"\",B106,\"\")","v":""},{"$f":"IF(C106<>\"\",C106,\"\")","v":""},{"$f":"IF(D106<>\"\",D106,\"\")","v":""},null,null,null,{"$f":"IF(AND(F108<>\"\",G108<>\"\"),VLOOKUP(F108,Desplegables!$E$2:$F$275,2,0)&G108,\"\")","v":""},null,null,null,null,null,null,null,{"$f":"IF(C108<>\"\",VLOOKUP(C108,Desplegables!$A$3:$B$12,2,0),\"\")","v":""},{"$f":"IF(D108<>\"\",VLOOKUP(D108,Desplegables!$A$26:$C$38,3,0),\"\")","v":""},{"$f":"IF(C108<>\"\",VLOOKUP(C108,Desplegables!$A$3:$C$12,3,0),\"\")","v":""},{"$f":"IF(D108<>\"\",VLOOKUP(D108,Desplegables!$A$12:$B$38,2,0),\"\")","v":""}]
[null,null,null,null,null,null,null,{"$f":"IF(AND(F109<>\"\",G109<>\"\"),VLOOKUP(F109,Desplegables!$E$2:$F$275,2,0)&G109,\"\")","v":""},null,null,null,null,null,null,null,{"$f":"IF(C109<>\"\",VLOOKUP(C109,Desplegables!$A$3:$B$12,2,0),\"\")","v":""},{"$f":"IF(D109<>\"\",VLOOKUP(D109,Desplegables!$A$26:$C$38,3,0),\"\")","v":""},{"$f":"IF(C109<>\"\",VLOOKUP(C109,Desplegables!$A$3:$C$12,3,0),\"\")","v":""},{"$f":"IF(D109<>\"\",VLOOKUP(D109,Desplegables!$A$12:$B$38,2,0),\"\")","v":""}]
[{"$f":"IF(A109<>\"\",A109,\"\")","v":""},{"$f":"IF(B109<>\"\",B109,\"\")","v":""},{"$f":"IF(C109<>\"\",C109,\"\")","v":""},{"$f":"IF(D109<>\"\",D109,\"\")","v":""},null,null,null,{"$f":"IF(AND(F110<>\"\",G110<>\"\"),VLOOKUP(F110,Desplegables!$E$2:$F$275,2,0)&G110,\"\")","v":""},null,null,null,null,null,null,null,{"$f":"IF(C110<>\"\",VLOOKUP(C110,Desplegables!$A$3:$B$12,2,0),\"\")","v":""},{"$f":"IF(D110<>\"\",VLOOKUP(D110,Desplegables!$A$26:$C$38,3,0),\"\")","v":""},{"$f":"IF(C110<>\"\",VLOOKUP(C110,Desplegables!$A$3:$C$12,3,0),\"\")","v":""},{"$f":"IF(D110<>\"\",VLOOKUP(D110,Desplegables!$A$12:$B$38,2,0),\"\")","v":""}]
[{"$f":"IF(A109<>\"\",A109,\"\")","v":""},{"$f":"IF(B109<>\"\",B109,\"\")","v":""},{"$f":"IF(C109<>\"\",C109,\"\")","v":""},{"$f":"IF(D109<>\"\",D109,\"\")","v":""},null,null,null,{"$f":"IF(AND(F111<>\"\",G111<>\"\"),VLOOKUP(F111,Desplegables!$E$2:$F$275,2,0)&G111,\"\")","v":""},null,null,null,null,null,null,null,{"$f":"IF(C111<>\"\",VLOOKUP(C111,Desplegables!$A$3:$B$12,2,0),\"\")","v":""},{"$f":"IF(D111<>\"\",VLOOKUP(D111,Desplegables!$A$26:$C$38,3,0),\"\")","v":""},{"$f":"IF(C111<>\"\",VLOOKUP(C111,Desplegables!$A$3:$C$12,3,0),\"\")","v":""},{"$f":"IF(D111<>\"\",VLOOKUP(D111,Desplegables!$A$12:$B$38,2,0),\"\")","v":""}]
[null,null,null,null,null,null,null,{"$f":"IF(AND(F112<>\"\",G112<>\"\"),VLOOKUP(F112,Desplegables!$E$2:$F$275,2,0)&G112,\"\")","v":""},null,null,null,null,null,null,null,{"$f":"IF(C112<>\"\",VLOOKUP(C112,Desplegables!$A$3:$B$12,2,0),\"\")","v":""},{"$f":"IF(D112<>\"\",VLOOKUP(D112,Desplegables!$A$26:$C$38,3,0),\"\")","v":""},{"$f":"IF(C112<>\"\",VLOOKUP(C112,Desplegables!$A$3:$C$12,3,0),\"\")","v":""},{"$f":"IF(D112<>\"\",VLOOKUP(D112,Desplegables!$A$12:$B$38,2,0),\"\")","v":""}]
[{"$f":"IF(A112<>\"\",A112,\"\")","v":""},{"$f":"IF(B112<>\"\",B112,\"\")","v":""},{"$f":"IF(C112<>\"\",C112,\"\")","v":""},{"$f":"IF(D112<>\"\",D112,\"\")","v":""},null,null,null,{"$f":"IF(AND(F113<>\"\",G113<>\"\"),VLOOKUP(F113,Desplegables!$E$2:$F$275,2,0)&G113,\"\")","v":""},null,null,null,null,null,null,null,{"$f":"IF(C113<>\"\",VLOOKUP(C113,Desplegables!$A$3:$B$12,2,0),\"\")","v":""},{"$f":"IF(D113<>\"\",VLOOKUP(D113,Desplegables!$A$26:$C$38,3,0),\"\")","v":""},{"$f":"IF(C113<>\"\",VLOOKUP(C113,Desplegables!$A$3:$C$12,3,0),\"\")","v":""},{"$f":"IF(D113<>\"\",VLOOKUP(D113,Desplegables!$A$12:$B$38,2,0),\"\")","v":""}]
[{"$f":"IF(A112<>\"\",A112,\"\")","v":""},{"$f":"IF(B112<>\"\",B112,\"\")","v":""},{"$f":"IF(C112<>\"\",C112,\"\")","v":""},{"$f":"IF(D112<>\"\",D112,\"\")","v":""},null,null,null,{"$f":"IF(AND(F114<>\"\",G114<>\"\"),VLOOKUP(F114,Desplegables!$E$2:$F$275,2,0)&G114,\"\")","v":""},null,null,null,null,null,null,null,{"$f":"IF(C114<>\"\",VLOOKUP(C114,Desplegables!$A$3:$B$12,2,0),\"\")","v":""},{"$f":"IF(D114<>\"\",VLOOKUP(D114,Desplegables!$A$26:$C$38,3,0),\"\")","v":""},{"$f":"IF(C114<>\"\",VLOOKUP(C114,Desplegables!$A$3:$C$12,3,0),\"\")","v":""},{"$f":"IF(D114<>\"\",VLOOKUP(D114,Desplegables!$A$12:$B$38,2,0),\"\")","v":""}]
[null,null,null,null,null,null,null,{"$f":"IF(AND(F115<>\"\",G115<>\"\"),VLOOKUP(F115,Desplegables!$E$2:$F$275,2,0)&G115,\"\")","v":""},null,null,null,null,null,null,null,{"$f":"IF(C115<>\"\",VLOOKUP(C115,Desplegables!$A$3:$B$12,2,0),\"\")","v":""},{"$f":"IF(D115<>\"\",VLOOKUP(D115,Desplegables!$A$26:$C$38,3,0),\"\")","v":""},{"$f":"IF(C115<>\"\",VLOOKUP(C115,Desplegables!$A$3:$C$12,3,0),\"\")","v":""},{"$f":"IF(D115<>\"\",VLOOKUP(D115,Desplegables!$A$12:$B$38,2,0),\"\")","v":""}]
[{"$f":"IF(A115<>\"\",A115,\"\")","v":""},{"$f":"IF(B115<>\"\",B115,\"\")","v":""},{"$f":"IF(C115<>\"\",C115,\"\")","v":""},{"$f":"IF(D115<>\"\",D115,\"\")","v":""},null,null,null,{"$f":"IF(AND(F116<>\"\",G116<>\"\"),VLOOKUP(F116,Desplegables!$E$2:$F$275,2,0)&G116,\"\")","v":""},null,null,null,null,null,null,null,{"$f":"IF(C116<>\"\",VLOOKUP(C116,Desplegables!$A$3:$B$12,2,0),\"\")","v":""},{"$f":"IF(D116<>\"\",VLOOKUP(D116,Desplegables!$A$26:$C$38,3,0),\"\")","v":""},{"$f":"IF(C116<>\"\",VLOOKUP(C116,Desplegables!$A$3:$C$12,3,0),\"\")","v":""},{"$f":"IF(D116<>\"\",VLOOKUP(D116,Desplegables!$A$12:$B$38,2,0),\"\")","v":""}]
[{"$f":"IF(A115<>\"\",A115,\"\")","v":""},{"$f":"IF(B115<>\"\",B115,\"\")","v":""},{"$f":"IF(C115<>\"\",C115,\"\")","v":""},{"$f":"IF(D115<>\"\",D115,\"\")","v":""},null,null,null,{"$f":"IF(AND(F117<>\"\",G117<>\"\"),VLOOKUP(F117,Desplegables!$E$2:$F$275,2,0)&G117,\"\")","v":""},null,null,null,null,null,null,null,{"$f":"IF(C117<>\"\",VLOOKUP(C117,Desplegables!$A$3:$B$12,2,0),\"\")","v":""},{"$f":"IF(D117<>\"\",VLOOKUP(D117,Desplegables!$A$26:$C$38,3,0),\"\")","v":""},{"$f":"IF(C117<>\"\",VLOOKUP(C117,Desplegables!$A$3:$C$12,3,0),\"\")","v":""},{"$f":"IF(D117<>\"\",VLOOKUP(D117,Desplegables!$A$12:$B$38,2,0),\"\")","v":""}]
[null,null,null,null,null,null,null,{"$f":"IF(AND(F118<>\"\",G118<>\"\"),VLOOKUP(F118,Desplegables!$E$2:$F$275,2,0)&G118,\"\")","v":""},null,null,null,null,null,null,null,{"$f":"IF(C118<>\"\",VLOOKUP(C118,Desplegables!$A$3:$B$12,2,0),\"\")","v":""},{"$f":"IF(D118<>\"\",VLOOKUP(D118,Desplegables!$A$26:$C$38,3,0),\"\")","v":""},{"$f":"IF(C118<>\"\",VLOOKUP(C118,Desplegables!$A$3:$C$12,3,0),\"\")","v":""},{"$f":"IF(D118<>\"\",VLOOKUP(D118,Desplegables!$A$12:$B$38,2,0),\"\")","v":""}]
[{"$f":"IF(A118<>\"\",A118,\"\")","v":""},{"$f":"IF(B118<>\"\",B118,\"\")","v":""},{"$f":"IF(C118<>\"\",C118,\"\")","v":""},{"$f":"IF(D118<>\"\",D118,\"\")","v":""},null,null,null,{"$f":"IF(AND(F119<>\"\",G119<>\"\"),VLOOKUP(F119,Desplegables!$E$2:$F$275,2,0)&G119,\"\")","v":""},null,null,null,null,null,null,null,{"$f":"IF(C119<>\"\",VLOOKUP(C119,Desplegables!$A$3:$B$12,2,0),\"\")","v":""},{"$f":"IF(D119<>\"\",VLOOKUP(D119,Desplegables!$A$26:$C$38,3,0),\"\")","v":""},{"$f":"IF(C119<>\"\",VLOOKUP(C119,Desplegables!$A$3:$C$12,3,0),\"\")","v":""},{"$f":"IF(D119<>\"\",VLOOKUP(D119,Desplegables!$A$12:$B$38,2,0),\"\")","v":""}]
[{"$f":"IF(A118<>\"\",A118,\"\")","v":""},{"$f":"IF(B118<>\"\",B118,\"\")","v":""},{"$f":"IF(C118<>\"\",C118,\"\")","v":""},{"$f":"IF(D118<>\"\",D118,\"\")","v":""},null,null,null,{"$f":"IF(AND(F120<>\"\",G120<>\"\"),VLOOKUP(F120,Desplegables!$E$2:$F$275,2,0)&G120,\"\")","v":""},null,null,null,null,null,null,null,{"$f":"IF(C120<>\"\",VLOOKUP(C120,Desplegables!$A$3:$B$12,2,0),\"\")","v":""},{"$f":"IF(D120<>\"\",VLOOKUP(D120,Desplegables!$A$26:$C$38,3,0),\"\")","v":""},{"$f":"IF(C120<>\"\",VLOOKUP(C120,Desplegables!$A$3:$C$12,3,0),\"\")","v":""},{"$f":"IF(D120<>\"\",VLOOKUP(D120,Desplegables!$A$12:$B$38,2,0),\"\")","v":""}]
[null,null,null,null,null,null,null,{"$f":"IF(AND(F121<>\"\",G121<>\"\"),VLOOKUP(F121,Desplegables!$E$2:$F$275,2,0)&G121,\"\")","v":""},null,null,null,null,null,null,null,{"$f":"IF(C121<>\"\",VLOOKUP(C121,Desplegables!$A$3:$B$12,2,0),\"\")","v":""},{"$f":"IF(D121<>\"\",VLOOKUP(D121,Desplegables!$A$26:$C$38,3,0),\"\")","v":""},{"$f":"IF(C121<>\"\",VLOOKUP(C121,Desplegables!$A$3:$C$12,3,0),\"\")","v":""},{"$f":"IF(D121<>\"\",VLOOKUP(D121,Desplegables!$A$12:$B$38,2,0),\"\")","v":""}]
[{"$f":"IF(A121<>\"\",A121,\"\")","v":""},{"$f":"IF(B121<>\"\",B121,\"\")","v":""},{"$f":"IF(C121<>\"\",C121,\"\")","v":""},{"$f":"IF(D121<>\"\",D121,\"\")","v":""},null,null,null,{"$f":"IF(AND(F122<>\"\",G122<>\"\"),VLOOKUP(F122,Desplegables!$E$2:$F$275,2,0)&G122,\"\")","v":""},null,null,null,null,null,null,null,{"$f":"IF(C122<>\"\",VLOOKUP(C122,Desplegables!$A$3:$B$12,2,0),\"\")","v":""},{"$f":"IF(D122<>\"\",VLOOKUP(D122,Desplegables!$A$26:$C$38,3,0),\"\")","v":""},{"$f":"IF(C122<>\"\",VLOOKUP(C122,Desplegables!$A$3:$C$12,3,0),\"\")","v":""},{"$f":"IF(D122<>\"\",VLOOKUP(D122,Desplegables!$A$12:$B$38,2,0),\"\")","v":""}]
[{"$f":"IF(A121<>\"\",A121,\"\")","v":""},{"$f":"IF(B121<>\"\",B121,\"\")","v":""},{"$f":"IF(C121<>\"\",C121,\"\")","v":""},{"$f":"IF(D121<>\"\",D121,\"\")","v":""},null,null,null,{"$f":"IF(AND(F123<>\"\",G123<>\"\"),VLOOKUP(F123,Desplegables!$E$2:$F$275,2,0)&G123,\"\")","v":""},null,null,null,null,null,null,null,{"$f":"IF(C123<>\"\",VLOOKUP(C123,Desplegables!$A$3:$B$12,2,0),\"\")","v":""},{"$f":"IF(D123<>\"\",VLOOKUP(D123,Desplegables!$A$26:$C$38,3,0),\"\")","v":""},{"$f":"IF(C123<>\"\",VLOOKUP(C123,Desplegables!$A$3:$C$12,3,0),\"\")","v":""},{"$f":"IF(D123<>\"\",VLOOKUP(D123,Desplegables!$A$12:$B$38,2,0),\"\")","v":""}]
[null,null,null,null,null,null,null,{"$f":"IF(AND(F124<>\"\",G124<>\"\"),VLOOKUP(F124,Desplegables!$E$2:$F$275,2,0)&G124,\"\")","v":""},null,null,null,null,null,null,null,{"$f":"IF(C124<>\"\",VLOOKUP(C124,Desplegables!$A$3:$B$12,2,0),\"\")","v":""},{"$f":"IF(D124<>\"\",VLOOKUP(D124,Desplegables!$A$26:$C$38,3,0),\"\")","v":""},{"$f":"IF(C124<>\"\",VLOOKUP(C124,Desplegables!$A$3:$C$12,3,0),\"\")","v":""},{"$f":"IF(D124<>\"\",VLOOKUP(D124,Desplegables!$A$12:$B$38,2,0),\"\")","v":""}]
[{"$f":"IF(A124<>\"\",A124,\"\")","v":""},{"$f":"IF(B124<>\"\",B124,\"\")","v":""},{"$f":"IF(C124<>\"\",C124,\"\")","v":""},{"$f":"IF(D124<>\"\",D124,\"\")","v":""},null,null,null,{"$f":"IF(AND(F125<>\"\",G125<>\"\"),VLOOKUP(F125,Desplegables!$E$2:$F$275,2,0)&G125,\"\")","v":""},null,null,null,null,null,null,null,{"$f":"IF(C125<>\"\",VLOOKUP(C125,Desplegables!$A$3:$B$12,2,0),\"\")","v":""},{"$f":"IF(D125<>\"\",VLOOKUP(D125,Desplegables!$A$26:$C$38,3,0),\"\")","v":""},{"$f":"IF(C125<>\"\",VLOOKUP(C125,Desplegables!$A$3:$C$12,3,0),\"\")","v":""},{"$f":"IF(D125<>\"\",VLOOKUP(D125,Desplegables!$A$12:$B$38,2,0),\"\")","v":""}]
[{"$f":"IF(A124<>\"\",A124,\"\")","v":""},{"$f":"IF(B124<>\"\",B124,\"\")","v":""},{"$f":"IF(C124<>\"\",C124,\"\")","v":""},{"$f":"IF(D124<>\"\",D124,\"\")","v":""},null,null,null,{"$f":"IF(AND(F126<>\"\",G126<>\"\"),VLOOKUP(F126,Desplegables!$E$2:$F$275,2,0)&G126,\"\")","v":""},null,null,null,null,null,null,null,{"$f":"IF(C126<>\"\",VLOOKUP(C126,Desplegables!$A$3:$B$12,2,0),\"\")","v":""},{"$f":"IF(D126<>\"\",VLOOKUP(D126,Desplegables!$A$26:$C$38,3,0),\"\")","v":""},{"$f":"IF(C126<>\"\",VLOOKUP(C126,Desplegables!$A$3:$C$12,3,0),\"\")","v":""},{"$f":"IF(D126<>\"\",VLOOKUP(D126,Desplegables!$A$12:$B$38,2,0),\"\")","v":""}]
[null,null,null,null,null,null,null,{"$f":"IF(AND(F127<>\"\",G127<>\"\"),VLOOKUP(F127,Desplegables!$E$2:$F$275,2,0)&G127,\"\")","v":""},null,null,null,null,null,null,null,{"$f":"IF(C127<>\"\",VLOOKUP(C127,Desplegables!$A$3:$B$12,2,0),\"\")","v":""},{"$f":"IF(D127<>\"\",VLOOKUP(D127,Desplegables!$A$26:$C$38,3,0),\"\")","v":""},{"$f":"IF(C127<>\"\",VLOOKUP(C127,Desplegables!$A$3:$C$12,3,0),\"\")","v":""},{"$f":"IF(D127<>\"\",VLOOKUP(D127,Desplegables!$A$12:$B$38,2,0),\"\")","v":""}]
[{"$f":"IF(A127<>\"\",A127,\"\")","v":""},{"$f":"IF(B127<>\"\",B127,\"\")","v":""},{"$f":"IF(C127<>\"\",C127,\"\")","v":""},{"$f":"IF(D127<>\"\",D127,\"\")","v":""},null,null,null,{"$f":"IF(AND(F128<>\"\",G128<>\"\"),VLOOKUP(F128,Desplegables!$E$2:$F$275,2,0)&G128,\"\")","v":""},null,null,null,null,null,null,null,{"$f":"IF(C128<>\"\",VLOOKUP(C128,Desplegables!$A$3:$B$12,2,0),\"\")","v":""},{"$f":"IF(D128<>\"\",VLOOKUP(D128,Desplegables!$A$26:$C$38,3,0),\"\")","v":""},{"$f":"IF(C128<>\"\",VLOOKUP(C128,Desplegables!$A$3:$C$12,3,0),\"\")","v":""},{"$f":"IF(D128<>\"\",VLOOKUP(D128,Desplegables!$A$12:$B$38,2,0),\"\")","v":""}]
[{"$f":"IF(A127<>\"\",A127,\"\")","v":""},{"$f":"IF(B127<>\"\",B127,\"\")","v":""},{"$f":"IF(C127<>\"\",C127,\"\")","v":""},{"$f":"IF(D127<>\"\",D127,\"\")","v":""},null,null,null,{"$f":"IF(AND(F129<>\"\",G129<>\"\"),VLOOKUP(F129,Desplegables!$E$2:$F$275,2,0)&G129,\"\")","v":""},null,null,null,null,null,null,null,{"$f":"IF(C129<>\"\",VLOOKUP(C129,Desplegables!$A$3:$B$12,2,0),\"\")","v":""},{"$f":"IF(D129<>\"\",VLOOKUP(D129,Desplegables!$A$26:$C$38,3,0),\"\")","v":""},{"$f":"IF(C129<>\"\",VLOOKUP(C129,Desplegables!$A$3:$C$12,3,0),\"\")","v":""},{"$f":"IF(D129<>\"\",VLOOKUP(D129,Desplegables!$A$12:$B$38,2,0),\"\")","v":""}]
[null,null,null,null,null,null,null,{"$f":"IF(AND(F130<>\"\",G130<>\"\"),VLOOKUP(F130,Desplegables!$E$2:$F$275,2,0)&G130,\"\")","v":""},null,null,null,null,null,null,null,{"$f":"IF(C130<>\"\",VLOOKUP(C130,Desplegables!$A$3:$B$12,2,0),\"\")","v":""},{"$f":"IF(D130<>\"\",VLOOKUP(D130,Desplegables!$A$26:$C$38,3,0),\"\")","v":""},{"$f":"IF(C130<>\"\",VLOOKUP(C130,Desplegables!$A$3:$C$12,3,0),\"\")","v":""},{"$f":"IF(D130<>\"\",VLOOKUP(D130,Desplegables!$A$12:$B$38,2,0),\"\")","v":""}]
[{"$f":"IF(A130<>\"\",A130,\"\")","v":""},{"$f":"IF(B130<>\"\",B130,\"\")","v":""},{"$f":"IF(C130<>\"\",C130,\"\")","v":""},{"$f":"IF(D130<>\"\",D130,\"\")","v":""},null,null,null,{"$f":"IF(AND(F131<>\"\",G131<>\"\"),VLOOKUP(F131,Desplegables!$E$2:$F$275,2,0)&G131,\"\")","v":""},null,null,null,null,null,null,null,{"$f":"IF(C131<>\"\",VLOOKUP(C131,Desplegables!$A$3:$B$12,2,0),\"\")","v":""},{"$f":"IF(D131<>\"\",VLOOKUP(D131,Desplegables!$A$26:$C$38,3,0),\"\")","v":""},{"$f":"IF(C131<>\"\",VLOOKUP(C131,Desplegables!$A$3:$C$12,3,0),\"\")","v":""},{"$f":"IF(D131<>\"\",VLOOKUP(D131,Desplegables!$A$12:$B$38,2,0),\"\")","v":""}]
[{"$f":"IF(A130<>\"\",A130,\"\")","v":""},{"$f":"IF(B130<>\"\",B130,\"\")","v":""},{"$f":"IF(C130<>\"\",C130,\"\")","v":""},{"$f":"IF(D130<>\"\",D130,\"\")","v":""},null,null,null,{"$f":"IF(AND(F132<>\"\",G132<>\"\"),VLOOKUP(F132,Desplegables!$E$2:$F$275,2,0)&G132,\"\")","v":""},null,null,null,null,null,null,null,{"$f":"IF(C132<>\"\",VLOOKUP(C132,Desplegables!$A$3:$B$12,2,0),\"\")","v":""},{"$f":"IF(D132<>\"\",VLOOKUP(D132,Desplegables!$A$26:$C$38,3,0),\"\")","v":""},{"$f":"IF(C132<>\"\",VLOOKUP(C132,Desplegables!$A$3:$C$12,3,0),\"\")","v":""},{"$f":"IF(D132<>\"\",VLOOKUP(D132,Desplegables!$A$12:$B$38,2,0),\"\")","v":""}]
[null,null,null,null,null,null,null,{"$f":"IF(AND(F133<>\"\",G133<>\"\"),VLOOKUP(F133,Desplegables!$E$2:$F$275,2,0)&G133,\"\")","v":""},null,null,null,null,null,null,null,{"$f":"IF(C133<>\"\",VLOOKUP(C133,Desplegables!$A$3:$B$12,2,0),\"\")","v":""},{"$f":"IF(D133<>\"\",VLOOKUP(D133,Desplegables!$A$26:$C$38,3,0),\"\")","v":""},{"$f":"IF(C133<>\"\",VLOOKUP(C133,Desplegables!$A$3:$C$12,3,0),\"\")","v":""},{"$f":"IF(D133<>\"\",VLOOKUP(D133,Desplegables!$A$12:$B$38,2,0),\"\")","v":""}]
[{"$f":"IF(A133<>\"\",A133,\"\")","v":""},{"$f":"IF(B133<>\"\",B133,\"\")","v":""},{"$f":"IF(C133<>\"\",C133,\"\")","v":""},{"$f":"IF(D133<>\"\",D133,\"\")","v":""},null,null,null,{"$f":"IF(AND(F134<>\"\",G134<>\"\"),VLOOKUP(F134,Desplegables!$E$2:$F$275,2,0)&G134,\"\")","v":""},null,null,null,null,null,null,null,{"$f":"IF(C134<>\"\",VLOOKUP(C134,Desplegables!$A$3:$B$12,2,0),\"\")","v":""},{"$f":"IF(D134<>\"\",VLOOKUP(D134,Desplegables!$A$26:$C$38,3,0),\"\")","v":""},{"$f":"IF(C134<>\"\",VLOOKUP(C134,Desplegables!$A$3:$C$12,3,0),\"\")","v":""},{"$f":"IF(D134<>\"\",VLOOKUP(D134,Desplegables!$A$12:$B$38,2,0),\"\")","v":""}]
[{"$f":"IF(A133<>\"\",A133,\"\")","v":""},{"$f":"IF(B133<>\"\",B133,\"\")","v":""},{"$f":"IF(C133<>\"\",C133,\"\")","v":""},{"$f":"IF(D133<>\"\",D133,\"\")","v":""},null,null,null,{"$f":"IF(AND(F135<>\"\",G135<>\"\"),VLOOKUP(F135,Desplegables!$E$2:$F$275,2,0)&G135,\"\")","v":""},null,null,null,null,null,null,null,{"$f":"IF(C135<>\"\",VLOOKUP(C135,Desplegables!$A$3:$B$12,2,0),\"\")","v":""},{"$f":"IF(D135<>\"\",VLOOKUP(D135,Desplegables!$A$26:$C$38,3,0),\"\")","v":""},{"$f":"IF(C135<>\"\",VLOOKUP(C135,Desplegables!$A$3:$C$12,3,0),\"\")","v":""},{"$f":"IF(D135<>\"\",VLOOKUP(D135,Desplegables!$A$12:$B$38,2,0),\"\")","v":""}]
[null,null,null,null,null,null,null,{"$f":"IF(AND(F136<>\"\",G136<>\"\"),VLOOKUP(F136,Desplegables!$E$2:$F$275,2,0)&G136,\"\")","v":""},null,null,null,null,null,null,null,{"$f":"IF(C136<>\"\",VLOOKUP(C136,Desplegables!$A$3:$B$12,2,0),\"\")","v":""},{"$f":"IF(D136<>\"\",VLOOKUP(D136,Desplegables!$A$26:$C$38,3,0),\"\")","v":""},{"$f":"IF(C136<>\"\",VLOOKUP(C136,Desplegables!$A$3:$C$12,3,0),\"\")","v":""},{"$f":"IF(D136<>\"\",VLOOKUP(D136,Desplegables!$A$12:$B$38,2,0),\"\")","v":""}]
[{"$f":"IF(A136<>\"\",A136,\"\")","v":""},{"$f":"IF(B136<>\"\",B136,\"\")","v":""},{"$f":"IF(C136<>\"\",C136,\"\")","v":""},{"$f":"IF(D136<>\"\",D136,\"\")","v":""},null,null,null,{"$f":"IF(AND(F137<>\"\",G137<>\"\"),VLOOKUP(F137,Desplegables!$E$2:$F$275,2,0)&G137,\"\")","v":""},null,null,null,null,null,null,null,{"$f":"IF(C137<>\"\",VLOOKUP(C137,Desplegables!$A$3:$B$12,2,0),\"\")","v":""},{"$f":"IF(D137<>\"\",VLOOKUP(D137,Desplegables!$A$26:$C$38,3,0),\"\")","v":""},{"$f":"IF(C137<>\"\",VLOOKUP(C137,Desplegables!$A$3:$C$12,3,0),\"\")","v":""},{"$f":"IF(D137<>\"\",VLOOKUP(D137,Desplegables!$A$12:$B$38,2,0),\"\")","v":""}]
[{"$f":"IF(A136<>\"\",A136,\"\")","v":""},{"$f":"IF(B136<>\"\",B136,\"\")","v":""},{"$f":"IF(C136<>\"\",C136,\"\")","v":""},{"$f":"IF(D136<>\"\",D136,\"\")","v":""},null,null,null,{"$f":"IF(AND(F138<>\"\",G138<>\"\"),VLOOKUP(F138,Desplegables!$E$2:$F$275,2,0)&G138,\"\")","v":""},null,null,null,null,null,null,null,{"$f":"IF(C138<>\"\",VLOOKUP(C138,Desplegables!$A$3:$B$12,2,0),\"\")","v":""},{"$f":"IF(D138<>\"\",VLOOKUP(D138,Desplegables!$A$26:$C$38,3,0),\"\")","v":""},{"$f":"IF(C138<>\"\",VLOOKUP(C138,Desplegables!$A$3:$C$12,3,0),\"\")","v":""},{"$f":"IF(D138<>\"\",VLOOKUP(D138,Desplegables!$A$12:$B$38,2,0),\"\")","v":""}]
[null,null,null,null,null,null,null,{"$f":"IF(AND(F139<>\"\",G139<>\"\"),VLOOKUP(F139,Desplegables!$E$2:$F$275,2,0)&G139,\"\")","v":""},null,null,null,null,null,null,null,{"$f":"IF(C139<>\"\",VLOOKUP(C139,Desplegables!$A$3:$B$12,2,0),\"\")","v":""},{"$f":"IF(D139<>\"\",VLOOKUP(D139,Desplegables!$A$26:$C$38,3,0),\"\")","v":""},{"$f":"IF(C139<>\"\",VLOOKUP(C139,Desplegables!$A$3:$C$12,3,0),\"\")","v":""},{"$f":"IF(D139<>\"\",VLOOKUP(D139,Desplegables!$A$12:$B$38,2,0),\"\")","v":""}]
[{"$f":"IF(A139<>\"\",A139,\"\")","v":""},{"$f":"IF(B139<>\"\",B139,\"\")","v":""},{"$f":"IF(C139<>\"\",C139,\"\")","v":""},{"$f":"IF(D139<>\"\",D139,\"\")","v":""},null,null,null,{"$f":"IF(AND(F140<>\"\",G140<>\"\"),VLOOKUP(F140,Desplegables!$E$2:$F$275,2,0)&G140,\"\")","v":""},null,null,null,null,null,null,null,{"$f":"IF(C140<>\"\",VLOOKUP(C140,Desplegables!$A$3:$B$12,2,0),\"\")","v":""},{"$f":"IF(D140<>\"\",VLOOKUP(D140,Desplegables!$A$26:$C$38,3,0),\"\")","v":""},{"$f":"IF(C140<>\"\",VLOOKUP(C140,Desplegables!$A$3:$C$12,3,0),\"\")","v":""},{"$f":"IF(D140<>\"\",VLOOKUP(D140,Desplegables!$A$12:$B$38,2,0),\"\")","v":""}]
[{"$f":"IF(A139<>\"\",A139,\"\")","v":""},{"$f":"IF(B139<>\"\",B139,\"\")","v":""},{"$f":"IF(C139<>\"\",C139,\"\")","v":""},{"$f":"IF(D139<>\"\",D139,\"\")","v":""},null,null,null,{"$f":"IF(AND(F141<>\"\",G141<>\"\"),VLOOKUP(F141,Desplegables!$E$2:$F$275,2,0)&G141,\"\")","v":""},null,null,null,null,null,null,null,{"$f":"IF(C141<>\"\",VLOOKUP(C141,Desplegables!$A$3:$B$12,2,0),\"\")","v":""},{"$f":"IF(D141<>\"\",VLOOKUP(D141,Desplegables!$A$26:$C$38,3,0),\"\")","v":""},{"$f":"IF(C141<>\"\",VLOOKUP(C141,Desplegables!$A$3:$C$12,3,0),\"\")","v":""},{"$f":"IF(D141<>\"\",VLOOKUP(D141,Desplegables!$A$12:$B$38,2,0),\"\")","v":""}]
[null,null,null,null,null,null,null,{"$f":"IF(AND(F142<>\"\",G142<>\"\"),VLOOKUP(F142,Desplegables!$E$2:$F$275,2,0)&G142,\"\")","v":""},null,null,null,null,null,null,null,{"$f":"IF(C142<>\"\",VLOOKUP(C142,Desplegables!$A$3:$B$12,2,0),\"\")","v":""},{"$f":"IF(D142<>\"\",VLOOKUP(D142,Desplegables!$A$26:$C$38,3,0),\"\")","v":""},{"$f":"IF(C142<>\"\",VLOOKUP(C142,Desplegables!$A$3:$C$12,3,0),\"\")","v":""},{"$f":"IF(D142<>\"\",VLOOKUP(D142,Desplegables!$A$12:$B$38,2,0),\"\")","v":""}]
[{"$f":"IF(A142<>\"\",A142,\"\")","v":""},{"$f":"IF(B142<>\"\",B142,\"\")","v":""},{"$f":"IF(C142<>\"\",C142,\"\")","v":""},{"$f":"IF(D142<>\"\",D142,\"\")","v":""},null,null,null,{"$f":"IF(AND(F143<>\"\",G143<>\"\"),VLOOKUP(F143,Desplegables!$E$2:$F$275,2,0)&G143,\"\")","v":""},null,null,null,null,null,null,null,{"$f":"IF(C143<>\"\",VLOOKUP(C143,Desplegables!$A$3:$B$12,2,0),\"\")","v":""},{"$f":"IF(D143<>\"\",VLOOKUP(D143,Desplegables!$A$26:$C$38,3,0),\"\")","v":""},{"$f":"IF(C143<>\"\",VLOOKUP(C143,Desplegables!$A$3:$C$12,3,0),\"\")","v":""},{"$f":"IF(D143<>\"\",VLOOKUP(D143,Desplegables!$A$12:$B$38,2,0),\"\")","v":""}]
[{"$f":"IF(A142<>\"\",A142,\"\")","v":""},{"$f":"IF(B142<>\"\",B142,\"\")","v":""},{"$f":"IF(C142<>\"\",C142,\"\")","v":""},{"$f":"IF(D142<>\"\",D142,\"\")","v":""},null,null,null,{"$f":"IF(AND(F144<>\"\",G144<>\"\"),VLOOKUP(F144,Desplegables!$E$2:$F$275,2,0)&G144,\"\")","v":""},null,null,null,null,null,null,null,{"$f":"IF(C144<>\"\",VLOOKUP(C144,Desplegables!$A$3:$B$12,2,0),\"\")","v":""},{"$f":"IF(D144<>\"\",VLOOKUP(D144,Desplegables!$A$26:$C$38,3,0),\"\")","v":""},{"$f":"IF(C144<>\"\",VLOOKUP(C144,Desplegables!$A$3:$C$12,3,0),\"\")","v":""},{"$f":"IF(D144<>\"\",VLOOKUP(D144,Desplegables!$A$12:$B$38,2,0),\"\")","v":""}]
[null,null,null,null,null,null,null,{"$f":"IF(AND(F145<>\"\",G145<>\"\"),VLOOKUP(F145,Desplegables!$E$2:$F$275,2,0)&G145,\"\")","v":""},null,null,null,null,null,null,null,{"$f":"IF(C145<>\"\",VLOOKUP(C145,Desplegables!$A$3:$B$12,2,0),\"\")","v":""},{"$f":"IF(D145<>\"\",VLOOKUP(D145,Desplegables!$A$26:$C$38,3,0),\"\")","v":""},{"$f":"IF(C145<>\"\",VLOOKUP(C145,Desplegables!$A$3:$C$12,3,0),\"\")","v":""},{"$f":"IF(D145<>\"\",VLOOKUP(D145,Desplegables!$A$12:$B$38,2,0),\"\")","v":""}]
[{"$f":"IF(A145<>\"\",A145,\"\")","v":""},{"$f":"IF(B145<>\"\",B145,\"\")","v":""},{"$f":"IF(C145<>\"\",C145,\"\")","v":""},{"$f":"IF(D145<>\"\",D145,\"\")","v":""},null,null,null,{"$f":"IF(AND(F146<>\"\",G146<>\"\"),VLOOKUP(F146,Desplegables!$E$2:$F$275,2,0)&G146,\"\")","v":""},null,null,null,null,null,null,null,{"$f":"IF(C146<>\"\",VLOOKUP(C146,Desplegables!$A$3:$B$12,2,0),\"\")","v":""},{"$f":"IF(D146<>\"\",VLOOKUP(D146,Desplegables!$A$26:$C$38,3,0),\"\")","v":""},{"$f":"IF(C146<>\"\",VLOOKUP(C146,Desplegables!$A$3:$C$12,3,0),\"\")","v":""},{"$f":"IF(D146<>\"\",VLOOKUP(D146,Desplegables!$A$12:$B$38,2,0),\"\")","v":""}]
[{"$f":"IF(A145<>\"\",A145,\"\")","v":""},{"$f":"IF(B145<>\"\",B145,\"\")","v":""},{"$f":"IF(C145<>\"\",C145,\"\")","v":""},{"$f":"IF(D145<>\"\",D145,\"\")","v":""},null,null,null,{"$f":"IF(AND(F147<>\"\",G147<>\"\"),VLOOKUP(F147,Desplegables!$E$2:$F$275,2,0)&G147,\"\")","v":""},null,null,null,null,null,null,null,{"$f":"IF(C147<>\"\",VLOOKUP(C147,Desplegables!$A$3:$B$12,2,0),\"\")","v":""},{"$f":"IF(D147<>\"\",VLOOKUP(D147,Desplegables!$A$26:$C$38,3,0),\"\")","v":""},{"$f":"IF(C147<>\"\",VLOOKUP(C147,Desplegables!$A$3:$C$12,3,0),\"\")","v":""},{"$f":"IF(D147<>\"\",VLOOKUP(D147,Desplegables!$A$12:$B$38,2,0),\"\")","v":""}]
[null,null,null,null,null,null,null,{"$f":"IF(AND(F148<>\"\",G148<>\"\"),VLOOKUP(F148,Desplegables!$E$2:$F$275,2,0)&G148,\"\")","v":""},null,null,null,null,null,null,null,{"$f":"IF(C148<>\"\",VLOOKUP(C148,Desplegables!$A$3:$B$12,2,0),\"\")","v":""},{"$f":"IF(D148<>\"\",VLOOKUP(D148,Desplegables!$A$26:$C$38,3,0),\"\")","v":""},{"$f":"IF(C148<>\"\",VLOOKUP(C148,Desplegables!$A$3:$C$12,3,0),\"\")","v":""},{"$f":"IF(D148<>\"\",VLOOKUP(D148,Desplegables!$A$12:$B$38,2,0),\"\")","v":""}]
[{"$f":"IF(A148<>\"\",A148,\"\")","v":""},{"$f":"IF(B148<>\"\",B148,\"\")","v":""},{"$f":"IF(C148<>\"\",C148,\"\")","v":""},{"$f":"IF(D148<>\"\",D148,\"\")","v":""},null,null,null,{"$f":"IF(AND(F149<>\"\",G149<>\"\"),VLOOKUP(F149,Desplegables!$E$2:$F$275,2,0)&G149,\"\")","v":""},null,null,null,null,null,null,null,{"$f":"IF(C149<>\"\",VLOOKUP(C149,Desplegables!$A$3:$B$12,2,0),\"\")","v":""},{"$f":"IF(D149<>\"\",VLOOKUP(D149,Desplegables!$A$26:$C$38,3,0),\"\")","v":""},{"$f":"IF(C149<>\"\",VLOOKUP(C149,Desplegables!$A$3:$C$12,3,0),\"\")","v":""},{"$f":"IF(D149<>\"\",VLOOKUP(D149,Desplegables!$A$12:$B$38,2,0),\"\")","v":""}]
[{"$f":"IF(A148<>\"\",A148,\"\")","v":""},{"$f":"IF(B148<>\"\",B148,\"\")","v":""},{"$f":"IF(C148<>\"\",C148,\"\")","v":""},{"$f":"IF(D148<>\"\",D148,\"\")","v":""},null,null,null,{"$f":"IF(AND(F150<>\"\",G150<>\"\"),VLOOKUP(F150,Desplegables!$E$2:$F$275,2,0)&G150,\"\")","v":""},null,null,null,null,null,null,null,{"$f":"IF(C150<>\"\",VLOOKUP(C150,Desplegables!$A$3:$B$12,2,0),\"\")","v":""},{"$f":"IF(D150<>\"\",VLOOKUP(D150,Desplegables!$A$26:$C$38,3,0),\"\")","v":""},{"$f":"IF(C150<>\"\",VLOOKUP(C150,Desplegables!$A$3:$C$12,3,0),\"\")","v":""},{"$f":"IF(D150<>\"\",VLOOKUP(D150,Desplegables!$A$12:$B$38,2,0),\"\")","v":""}]
[null,null,null,null,null,null,null,{"$f":"IF(AND(F151<>\"\",G151<>\"\"),VLOOKUP(F151,Desplegables!$E$2:$F$275,2,0)&G151,\"\")","v":""},null,null,null,null,null,null,null,{"$f":"IF(C151<>\"\",VLOOKUP(C151,Desplegables!$A$3:$B$12,2,0),\"\")","v":""},{"$f":"IF(D151<>\"\",VLOOKUP(D151,Desplegables!$A$26:$C$38,3,0),\"\")","v":""},{"$f":"IF(C151<>\"\",VLOOKUP(C151,Desplegables!$A$3:$C$12,3,0),\"\")","v":""},{"$f":"IF(D151<>\"\",VLOOKUP(D151,Desplegables!$A$12:$B$38,2,0),\"\")","v":""}]
[{"$f":"IF(A151<>\"\",A151,\"\")","v":""},{"$f":"IF(B151<>\"\",B151,\"\")","v":""},{"$f":"IF(C151<>\"\",C151,\"\")","v":""},{"$f":"IF(D151<>\"\",D151,\"\")","v":""},null,null,null,{"$f":"IF(AND(F152<>\"\",G152<>\"\"),VLOOKUP(F152,Desplegables!$E$2:$F$275,2,0)&G152,\"\")","v":""},null,null,null,null,null,null,null,{"$f":"IF(C152<>\"\",VLOOKUP(C152,Desplegables!$A$3:$B$12,2,0),\"\")","v":""},{"$f":"IF(D152<>\"\",VLOOKUP(D152,Desplegables!$A$26:$C$38,3,0),\"\")","v":""},{"$f":"IF(C152<>\"\",VLOOKUP(C152,Desplegables!$A$3:$C$12,3,0),\"\")","v":""},{"$f":"IF(D152<>\"\",VLOOKUP(D152,Desplegables!$A$12:$B$38,2,0),\"\")","v":""}]
[{"$f":"IF(A151<>\"\",A151,\"\")","v":""},{"$f":"IF(B151<>\"\",B151,\"\")","v":""},{"$f":"IF(C151<>\"\",C151,\"\")","v":""},{"$f":"IF(D151<>\"\",D151,\"\")","v":""},null,null,null,{"$f":"IF(AND(F153<>\"\",G153<>\"\"),VLOOKUP(F153,Desplegables!$E$2:$F$275,2,0)&G153,\"\")","v":""},null,null,null,null,null,null,null,{"$f":"IF(C153<>\"\",VLOOKUP(C153,Desplegables!$A$3:$B$12,2,0),\"\")","v":""},{"$f":"IF(D153<>\"\",VLOOKUP(D153,Desplegables!$A$26:$C$38,3,0),\"\")","v":""},{"$f":"IF(C153<>\"\",VLOOKUP(C153,Desplegables!$A$3:$C$12,3,0),\"\")","v":""},{"$f":"IF(D153<>\"\",VLOOKUP(D153,Desplegables!$A$12:$B$38,2,0),\"\")","v":""}]
[null,null,null,null,null,null,null,{"$f":"IF(AND(F154<>\"\",G154<>\"\"),VLOOKUP(F154,Desplegables!$E$2:$F$275,2,0)&G154,\"\")","v":""},null,null,null,null,null,null,null,{"$f":"IF(C154<>\"\",VLOOKUP(C154,Desplegables!$A$3:$B$12,2,0),\"\")","v":""},{"$f":"IF(D154<>\"\",VLOOKUP(D154,Desplegables!$A$26:$C$38,3,0),\"\")","v":""},{"$f":"IF(C154<>\"\",VLOOKUP(C154,Desplegables!$A$3:$C$12,3,0),\"\")","v":""},{"$f":"IF(D154<>\"\",VLOOKUP(D154,Desplegables!$A$12:$B$38,2,0),\"\")","v":""}]
[{"$f":"IF(A154<>\"\",A154,\"\")","v":""},{"$f":"IF(B154<>\"\",B154,\"\")","v":""},{"$f":"IF(C154<>\"\",C154,\"\")","v":""},{"$f":"IF(D154<>\"\",D154,\"\")","v":""},null,null,null,{"$f":"IF(AND(F155<>\"\",G155<>\"\"),VLOOKUP(F155,Desplegables!$E$2:$F$275,2,0)&G155,\"\")","v":""},null,null,null,null,null,null,null,{"$f":"IF(C155<>\"\",VLOOKUP(C155,Desplegables!$A$3:$B$12,2,0),\"\")","v":""},{"$f":"IF(D155<>\"\",VLOOKUP(D155,Desplegables!$A$26:$C$38,3,0),\"\")","v":""},{"$f":"IF(C155<>\"\",VLOOKUP(C155,Desplegables!$A$3:$C$12,3,0),\"\")","v":""},{"$f":"IF(D155<>\"\",VLOOKUP(D155,Desplegables!$A$12:$B$38,2,0),\"\")","v":""}]
[{"$f":"IF(A154<>\"\",A154,\"\")","v":""},{"$f":"IF(B154<>\"\",B154,\"\")","v":""},{"$f":"IF(C154<>\"\",C154,\"\")","v":""},{"$f":"IF(D154<>\"\",D154,\"\")","v":""},null,null,null,{"$f":"IF(AND(F156<>\"\",G156<>\"\"),VLOOKUP(F156,Desplegables!$E$2:$F$275,2,0)&G156,\"\")","v":""},null,null,null,null,null,null,null,{"$f":"IF(C156<>\"\",VLOOKUP(C156,Desplegables!$A$3:$B$12,2,0),\"\")","v":""},{"$f":"IF(D156<>\"\",VLOOKUP(D156,Desplegables!$A$26:$C$38,3,0),\"\")","v":""},{"$f":"IF(C156<>\"\",VLOOKUP(C156,Desplegables!$A$3:$C$12,3,0),\"\")","v":""},{"$f":"IF(D156<>\"\",VLOOKUP(D156,Desplegables!$A$12:$B$38,2,0),\"\")","v":""}]
[null,null,null,null,null,null,null,{"$f":"IF(AND(F157<>\"\",G157<>\"\"),VLOOKUP(F157,Desplegables!$E$2:$F$275,2,0)&G157,\"\")","v":""},null,null,null,null,null,null,null,{"$f":"IF(C157<>\"\",VLOOKUP(C157,Desplegables!$A$3:$B$12,2,0),\"\")","v":""},{"$f":"IF(D157<>\"\",VLOOKUP(D157,Desplegables!$A$26:$C$38,3,0),\"\")","v":""},{"$f":"IF(C157<>\"\",VLOOKUP(C157,Desplegables!$A$3:$C$12,3,0),\"\")","v":""},{"$f":"IF(D157<>\"\",VLOOKUP(D157,Desplegables!$A$12:$B$38,2,0),\"\")","v":""}]
[{"$f":"IF(A157<>\"\",A157,\"\")","v":""},{"$f":"IF(B157<>\"\",B157,\"\")","v":""},{"$f":"IF(C157<>\"\",C157,\"\")","v":""},{"$f":"IF(D157<>\"\",D157,\"\")","v":""},null,null,null,{"$f":"IF(AND(F158<>\"\",G158<>\"\"),VLOOKUP(F158,Desplegables!$E$2:$F$275,2,0)&G158,\"\")","v":""},null,null,null,null,null,null,null,{"$f":"IF(C158<>\"\",VLOOKUP(C158,Desplegables!$A$3:$B$12,2,0),\"\")","v":""},{"$f":"IF(D158<>\"\",VLOOKUP(D158,Desplegables!$A$26:$C$38,3,0),\"\")","v":""},{"$f":"IF(C158<>\"\",VLOOKUP(C158,Desplegables!$A$3:$C$12,3,0),\"\")","v":""},{"$f":"IF(D158<>\"\",VLOOKUP(D158,Desplegables!$A$12:$B$38,2,0),\"\")","v":""}]
[{"$f":"IF(A157<>\"\",A157,\"\")","v":""},{"$f":"IF(B157<>\"\",B157,\"\")","v":""},{"$f":"IF(C157<>\"\",C157,\"\")","v":""},{"$f":"IF(D157<>\"\",D157,\"\")","v":""},null,null,null,{"$f":"IF(AND(F159<>\"\",G159<>\"\"),VLOOKUP(F159,Desplegables!$E$2:$F$275,2,0)&G159,\"\")","v":""},null,null,null,null,null,null,null,{"$f":"IF(C159<>\"\",VLOOKUP(C159,Desplegables!$A$3:$B$12,2,0),\"\")","v":""},{"$f":"IF(D159<>\"\",VLOOKUP(D159,Desplegables!$A$26:$C$38,3,0),\"\")","v":""},{"$f":"IF(C159<>\"\",VLOOKUP(C159,Desplegables!$A$3:$C$12,3,0),\"\")","v":""},{"$f":"IF(D159<>\"\",VLOOKUP(D159,Desplegables!$A$12:$B$38,2,0),\"\")","v":""}]
[null,null,null,null,null,null,null,{"$f":"IF(AND(F160<>\"\",G160<>\"\"),VLOOKUP(F160,Desplegables!$E$2:$F$275,2,0)&G160,\"\")","v":""},null,null,null,null,null,null,null,{"$f":"IF(C160<>\"\",VLOOKUP(C160,Desplegables!$A$3:$B$12,2,0),\"\")","v":""},{"$f":"IF(D160<>\"\",VLOOKUP(D160,Desplegables!$A$26:$C$38,3,0),\"\")","v":""},{"$f":"IF(C160<>\"\",VLOOKUP(C160,Desplegables!$A$3:$C$12,3,0),\"\")","v":""},{"$f":"IF(D160<>\"\",VLOOKUP(D160,Desplegables!$A$12:$B$38,2,0),\"\")","v":""}]
[{"$f":"IF(A160<>\"\",A160,\"\")","v":""},{"$f":"IF(B160<>\"\",B160,\"\")","v":""},{"$f":"IF(C160<>\"\",C160,\"\")","v":""},{"$f":"IF(D160<>\"\",D160,\"\")","v":""},null,null,null,{"$f":"IF(AND(F161<>\"\",G161<>\"\"),VLOOKUP(F161,Desplegables!$E$2:$F$275,2,0)&G161,\"\")","v":""},null,null,null,null,null,null,null,{"$f":"IF(C161<>\"\",VLOOKUP(C161,Desplegables!$A$3:$B$12,2,0),\"\")","v":""},{"$f":"IF(D161<>\"\",VLOOKUP(D161,Desplegables!$A$26:$C$38,3,0),\"\")","v":""},{"$f":"IF(C161<>\"\",VLOOKUP(C161,Desplegables!$A$3:$C$12,3,0),\"\")","v":""},{"$f":"IF(D161<>\"\",VLOOKUP(D161,Desplegables!$A$12:$B$38,2,0),\"\")","v":""}]
[{"$f":"IF(A160<>\"\",A160,\"\")","v":""},{"$f":"IF(B160<>\"\",B160,\"\")","v":""},{"$f":"IF(C160<>\"\",C160,\"\")","v":""},{"$f":"IF(D160<>\"\",D160,\"\")","v":""},null,null,null,{"$f":"IF(AND(F162<>\"\",G162<>\"\"),VLOOKUP(F162,Desplegables!$E$2:$F$275,2,0)&G162,\"\")","v":""},null,null,null,null,null,null,null,{"$f":"IF(C162<>\"\",VLOOKUP(C162,Desplegables!$A$3:$B$12,2,0),\"\")","v":""},{"$f":"IF(D162<>\"\",VLOOKUP(D162,Desplegables!$A$26:$C$38,3,0),\"\")","v":""},{"$f":"IF(C162<>\"\",VLOOKUP(C162,Desplegables!$A$3:$C$12,3,0),\"\")","v":""},{"$f":"IF(D162<>\"\",VLOOKUP(D162,Desplegables!$A$12:$B$38,2,0),\"\")","v":""}]
[null,null,null,null,null,null,null,{"$f":"IF(AND(F163<>\"\",G163<>\"\"),VLOOKUP(F163,Desplegables!$E$2:$F$275,2,0)&G163,\"\")","v":""},null,null,null,null,null,null,null,{"$f":"IF(C163<>\"\",VLOOKUP(C163,Desplegables!$A$3:$B$12,2,0),\"\")","v":""},{"$f":"IF(D163<>\"\",VLOOKUP(D163,Desplegables!$A$26:$C$38,3,0),\"\")","v":""},{"$f":"IF(C163<>\"\",VLOOKUP(C163,Desplegables!$A$3:$C$12,3,0),\"\")","v":""},{"$f":"IF(D163<>\"\",VLOOKUP(D163,Desplegables!$A$12:$B$38,2,0),\"\")","v":""}]
[{"$f":"IF(A163<>\"\",A163,\"\")","v":""},{"$f":"IF(B163<>\"\",B163,\"\")","v":""},{"$f":"IF(C163<>\"\",C163,\"\")","v":""},{"$f":"IF(D163<>\"\",D163,\"\")","v":""},null,null,null,{"$f":"IF(AND(F164<>\"\",G164<>\"\"),VLOOKUP(F164,Desplegables!$E$2:$F$275,2,0)&G164,\"\")","v":""},null,null,null,null,null,null,null,{"$f":"IF(C164<>\"\",VLOOKUP(C164,Desplegables!$A$3:$B$12,2,0),\"\")","v":""},{"$f":"IF(D164<>\"\",VLOOKUP(D164,Desplegables!$A$26:$C$38,3,0),\"\")","v":""},{"$f":"IF(C164<>\"\",VLOOKUP(C164,Desplegables!$A$3:$C$12,3,0),\"\")","v":""},{"$f":"IF(D164<>\"\",VLOOKUP(D164,Desplegables!$A$12:$B$38,2,0),\"\")","v":""}]
[{"$f":"IF(A163<>\"\",A163,\"\")","v":""},{"$f":"IF(B163<>\"\",B163,\"\")","v":""},{"$f":"IF(C163<>\"\",C163,\"\")","v":""},{"$f":"IF(D163<>\"\",D163,\"\")","v":""},null,null,null,{"$f":"IF(AND(F165<>\"\",G165<>\"\"),VLOOKUP(F165,Desplegables!$E$2:$F$275,2,0)&G165,\"\")","v":""},null,null,null,null,null,null,null,{"$f":"IF(C165<>\"\",VLOOKUP(C165,Desplegables!$A$3:$B$12,2,0),\"\")","v":""},{"$f":"IF(D165<>\"\",VLOOKUP(D165,Desplegables!$A$26:$C$38,3,0),\"\")","v":""},{"$f":"IF(C165<>\"\",VLOOKUP(C165,Desplegables!$A$3:$C$12,3,0),\"\")","v":""},{"$f":"IF(D165<>\"\",VLOOKUP(D165,Desplegables!$A$12:$B$38,2,0),\"\")","v":""}]
[null,null,null,null,null,null,null,{"$f":"IF(AND(F166<>\"\",G166<>\"\"),VLOOKUP(F166,Desplegables!$E$2:$F$275,2,0)&G166,\"\")","v":""},null,null,null,null,null,null,null,{"$f":"IF(C166<>\"\",VLOOKUP(C166,Desplegables!$A$3:$B$12,2,0),\"\")","v":""},{"$f":"IF(D166<>\"\",VLOOKUP(D166,Desplegables!$A$26:$C$38,3,0),\"\")","v":""},{"$f":"IF(C166<>\"\",VLOOKUP(C166,Desplegables!$A$3:$C$12,3,0),\"\")","v":""},{"$f":"IF(D166<>\"\",VLOOKUP(D166,Desplegables!$A$12:$B$38,2,0),\"\")","v":""}]
[{"$f":"IF(A166<>\"\",A166,\"\")","v":""},{"$f":"IF(B166<>\"\",B166,\"\")","v":""},{"$f":"IF(C166<>\"\",C166,\"\")","v":""},{"$f":"IF(D166<>\"\",D166,\"\")","v":""},null,null,null,{"$f":"IF(AND(F167<>\"\",G167<>\"\"),VLOOKUP(F167,Desplegables!$E$2:$F$275,2,0)&G167,\"\")","v":""},null,null,null,null,null,null,null,{"$f":"IF(C167<>\"\",VLOOKUP(C167,Desplegables!$A$3:$B$12,2,0),\"\")","v":""},{"$f":"IF(D167<>\"\",VLOOKUP(D167,Desplegables!$A$26:$C$38,3,0),\"\")","v":""},{"$f":"IF(C167<>\"\",VLOOKUP(C167,Desplegables!$A$3:$C$12,3,0),\"\")","v":""},{"$f":"IF(D167<>\"\",VLOOKUP(D167,Desplegables!$A$12:$B$38,2,0),\"\")","v":""}]
[{"$f":"IF(A166<>\"\",A166,\"\")","v":""},{"$f":"IF(B166<>\"\",B166,\"\")","v":""},{"$f":"IF(C166<>\"\",C166,\"\")","v":""},{"$f":"IF(D166<>\"\",D166,\"\")","v":""},null,null,null,{"$f":"IF(AND(F168<>\"\",G168<>\"\"),VLOOKUP(F168,Desplegables!$E$2:$F$275,2,0)&G168,\"\")","v":""},null,null,null,null,null,null,null,{"$f":"IF(C168<>\"\",VLOOKUP(C168,Desplegables!$A$3:$B$12,2,0),\"\")","v":""},{"$f":"IF(D168<>\"\",VLOOKUP(D168,Desplegables!$A$26:$C$38,3,0),\"\")","v":""},{"$f":"IF(C168<>\"\",VLOOKUP(C168,Desplegables!$A$3:$C$12,3,0),\"\")","v":""},{"$f":"IF(D168<>\"\",VLOOKUP(D168,Desplegables!$A$12:$B$38,2,0),\"\")","v":""}]
[null,null,null,null,null,null,null,{"$f":"IF(AND(F169<>\"\",G169<>\"\"),VLOOKUP(F169,Desplegables!$E$2:$F$275,2,0)&G169,\"\")","v":""},null,null,null,null,null,null,null,{"$f":"IF(C169<>\"\",VLOOKUP(C169,Desplegables!$A$3:$B$12,2,0),\"\")","v":""},{"$f":"IF(D169<>\"\",VLOOKUP(D169,Desplegables!$A$26:$C$38,3,0),\"\")","v":""},{"$f":"IF(C169<>\"\",VLOOKUP(C169,Desplegables!$A$3:$C$12,3,0),\"\")","v":""},{"$f":"IF(D169<>\"\",VLOOKUP(D169,Desplegables!$A$12:$B$38,2,0),\"\")","v":""}]
[{"$f":"IF(A169<>\"\",A169,\"\")","v":""},{"$f":"IF(B169<>\"\",B169,\"\")","v":""},{"$f":"IF(C169<>\"\",C169,\"\")","v":""},{"$f":"IF(D169<>\"\",D169,\"\")","v":""},null,null,null,{"$f":"IF(AND(F170<>\"\",G170<>\"\"),VLOOKUP(F170,Desplegables!$E$2:$F$275,2,0)&G170,\"\")","v":""},null,null,null,null,null,null,null,{"$f":"IF(C170<>\"\",VLOOKUP(C170,Desplegables!$A$3:$B$12,2,0),\"\")","v":""},{"$f":"IF(D170<>\"\",VLOOKUP(D170,Desplegables!$A$26:$C$38,3,0),\"\")","v":""},{"$f":"IF(C170<>\"\",VLOOKUP(C170,Desplegables!$A$3:$C$12,3,0),\"\")","v":""},{"$f":"IF(D170<>\"\",VLOOKUP(D170,Desplegables!$A$12:$B$38,2,0),\"\")","v":""}]
[{"$f":"IF(A169<>\"\",A169,\"\")","v":""},{"$f":"IF(B169<>\"\",B169,\"\")","v":""},{"$f":"IF(C169<>\"\",C169,\"\")","v":""},{"$f":"IF(D169<>\"\",D169,\"\")","v":""},null,null,null,{"$f":"IF(AND(F171<>\"\",G171<>\"\"),VLOOKUP(F171,Desplegables!$E$2:$F$275,2,0)&G171,\"\")","v":""},null,null,null,null,null,null,null,{"$f":"IF(C171<>\"\",VLOOKUP(C171,Desplegables!$A$3:$B$12,2,0),\"\")","v":""},{"$f":"IF(D171<>\"\",VLOOKUP(D171,Desplegables!$A$26:$C$38,3,0),\"\")","v":""},{"$f":"IF(C171<>\"\",VLOOKUP(C171,Desplegables!$A$3:$C$12,3,0),\"\")","v":""},{"$f":"IF(D171<>\"\",VLOOKUP(D171,Desplegables!$A$12:$B$38,2,0),\"\")","v":""}]
[null,null,null,null,null,null,null,{"$f":"IF(AND(F172<>\"\",G172<>\"\"),VLOOKUP(F172,Desplegables!$E$2:$F$275,2,0)&G172,\"\")","v":""},null,null,null,null,null,null,null,{"$f":"IF(C172<>\"\",VLOOKUP(C172,Desplegables!$A$3:$B$12,2,0),\"\")","v":""},{"$f":"IF(D172<>\"\",VLOOKUP(D172,Desplegables!$A$26:$C$38,3,0),\"\")","v":""},{"$f":"IF(C172<>\"\",VLOOKUP(C172,Desplegables!$A$3:$C$12,3,0),\"\")","v":""},{"$f":"IF(D172<>\"\",VLOOKUP(D172,Desplegables!$A$12:$B$38,2,0),\"\")","v":""}]
[{"$f":"IF(A172<>\"\",A172,\"\")","v":""},{"$f":"IF(B172<>\"\",B172,\"\")","v":""},{"$f":"IF(C172<>\"\",C172,\"\")","v":""},{"$f":"IF(D172<>\"\",D172,\"\")","v":""},null,null,null,{"$f":"IF(AND(F173<>\"\",G173<>\"\"),VLOOKUP(F173,Desplegables!$E$2:$F$275,2,0)&G173,\"\")","v":""},null,null,null,null,null,null,null,{"$f":"IF(C173<>\"\",VLOOKUP(C173,Desplegables!$A$3:$B$12,2,0),\"\")","v":""},{"$f":"IF(D173<>\"\",VLOOKUP(D173,Desplegables!$A$26:$C$38,3,0),\"\")","v":""},{"$f":"IF(C173<>\"\",VLOOKUP(C173,Desplegables!$A$3:$C$12,3,0),\"\")","v":""},{"$f":"IF(D173<>\"\",VLOOKUP(D173,Desplegables!$A$12:$B$38,2,0),\"\")","v":""}]
[{"$f":"IF(A172<>\"\",A172,\"\")","v":""},{"$f":"IF(B172<>\"\",B172,\"\")","v":""},{"$f":"IF(C172<>\"\",C172,\"\")","v":""},{"$f":"IF(D172<>\"\",D172,\"\")","v":""},null,null,null,{"$f":"IF(AND(F174<>\"\",G174<>\"\"),VLOOKUP(F174,Desplegables!$E$2:$F$275,2,0)&G174,\"\")","v":""},null,null,null,null,null,null,null,{"$f":"IF(C174<>\"\",VLOOKUP(C174,Desplegables!$A$3:$B$12,2,0),\"\")","v":""},{"$f":"IF(D174<>\"\",VLOOKUP(D174,Desplegables!$A$26:$C$38,3,0),\"\")","v":""},{"$f":"IF(C174<>\"\",VLOOKUP(C174,Desplegables!$A$3:$C$12,3,0),\"\")","v":""},{"$f":"IF(D174<>\"\",VLOOKUP(D174,Desplegables!$A$12:$B$38,2,0),\"\")","v":""}]
[null,null,null,null,null,null,null,{"$f":"IF(AND(F175<>\"\",G175<>\"\"),VLOOKUP(F175,Desplegables!$E$2:$F$275,2,0)&G175,\"\")","v":""},null,null,null,null,null,null,null,{"$f":"IF(C175<>\"\",VLOOKUP(C175,Desplegables!$A$3:$B$12,2,0),\"\")","v":""},{"$f":"IF(D175<>\"\",VLOOKUP(D175,Desplegables!$A$26:$C$38,3,0),\"\")","v":""},{"$f":"IF(C175<>\"\",VLOOKUP(C175,Desplegables!$A$3:$C$12,3,0),\"\")","v":""},{"$f":"IF(D175<>\"\",VLOOKUP(D175,Desplegables!$A$12:$B$38,2,0),\"\")","v":""}]
[{"$f":"IF(A175<>\"\",A175,\"\")","v":""},{"$f":"IF(B175<>\"\",B175,\"\")","v":""},{"$f":"IF(C175<>\"\",C175,\"\")","v":""},{"$f":"IF(D175<>\"\",D175,\"\")","v":""},null,null,null,{"$f":"IF(AND(F176<>\"\",G176<>\"\"),VLOOKUP(F176,Desplegables!$E$2:$F$275,2,0)&G176,\"\")","v":""},null,null,null,null,null,null,null,{"$f":"IF(C176<>\"\",VLOOKUP(C176,Desplegables!$A$3:$B$12,2,0),\"\")","v":""},{"$f":"IF(D176<>\"\",VLOOKUP(D176,Desplegables!$A$26:$C$38,3,0),\"\")","v":""},{"$f":"IF(C176<>\"\",VLOOKUP(C176,Desplegables!$A$3:$C$12,3,0),\"\")","v":""},{"$f":"IF(D176<>\"\",VLOOKUP(D176,Desplegables!$A$12:$B$38,2,0),\"\")","v":""}]
[{"$f":"IF(A175<>\"\",A175,\"\")","v":""},{"$f":"IF(B175<>\"\",B175,\"\")","v":""},{"$f":"IF(C175<>\"\",C175,\"\")","v":""},{"$f":"IF(D175<>\"\",D175,\"\")","v":""},null,null,null,{"$f":"IF(AND(F177<>\"\",G177<>\"\"),VLOOKUP(F177,Desplegables!$E$2:$F$275,2,0)&G177,\"\")","v":""},null,null,null,null,null,null,null,{"$f":"IF(C177<>\"\",VLOOKUP(C177,Desplegables!$A$3:$B$12,2,0),\"\")","v":""},{"$f":"IF(D177<>\"\",VLOOKUP(D177,Desplegables!$A$26:$C$38,3,0),\"\")","v":""},{"$f":"IF(C177<>\"\",VLOOKUP(C177,Desplegables!$A$3:$C$12,3,0),\"\")","v":""},{"$f":"IF(D177<>\"\",VLOOKUP(D177,Desplegables!$A$12:$B$38,2,0),\"\")","v":""}]
[null,null,null,null,null,null,null,{"$f":"IF(AND(F178<>\"\",G178<>\"\"),VLOOKUP(F178,Desplegables!$E$2:$F$275,2,0)&G178,\"\")","v":""},null,null,null,null,null,null,null,{"$f":"IF(C178<>\"\",VLOOKUP(C178,Desplegables!$A$3:$B$12,2,0),\"\")","v":""},{"$f":"IF(D178<>\"\",VLOOKUP(D178,Desplegables!$A$26:$C$38,3,0),\"\")","v":""},{"$f":"IF(C178<>\"\",VLOOKUP(C178,Desplegables!$A$3:$C$12,3,0),\"\")","v":""},{"$f":"IF(D178<>\"\",VLOOKUP(D178,Desplegables!$A$12:$B$38,2,0),\"\")","v":""}]
[{"$f":"IF(A178<>\"\",A178,\"\")","v":""},{"$f":"IF(B178<>\"\",B178,\"\")","v":""},{"$f":"IF(C178<>\"\",C178,\"\")","v":""},{"$f":"IF(D178<>\"\",D178,\"\")","v":""},null,null,null,{"$f":"IF(AND(F179<>\"\",G179<>\"\"),VLOOKUP(F179,Desplegables!$E$2:$F$275,2,0)&G179,\"\")","v":""},null,null,null,null,null,null,null,{"$f":"IF(C179<>\"\",VLOOKUP(C179,Desplegables!$A$3:$B$12,2,0),\"\")","v":""},{"$f":"IF(D179<>\"\",VLOOKUP(D179,Desplegables!$A$26:$C$38,3,0),\"\")","v":""},{"$f":"IF(C179<>\"\",VLOOKUP(C179,Desplegables!$A$3:$C$12,3,0),\"\")","v":""},{"$f":"IF(D179<>\"\",VLOOKUP(D179,Desplegables!$A$12:$B$38,2,0),\"\")","v":""}]
[{"$f":"IF(A178<>\"\",A178,\"\")","v":""},{"$f":"IF(B178<>\"\",B178,\"\")","v":""},{"$f":"IF(C178<>\"\",C178,\"\")","v":""},{"$f":"IF(D178<>\"\",D178,\"\")","v":""},null,null,null,{"$f":"IF(AND(F180<>\"\",G180<>\"\"),VLOOKUP(F180,Desplegables!$E$2:$F$275,2,0)&G180,\"\")","v":""},null,null,null,null,null,null,null,{"$f":"IF(C180<>\"\",VLOOKUP(C180,Desplegables!$A$3:$B$12,2,0),\"\")","v":""},{"$f":"IF(D180<>\"\",VLOOKUP(D180,Desplegables!$A$26:$C$38,3,0),\"\")","v":""},{"$f":"IF(C180<>\"\",VLOOKUP(C180,Desplegables!$A$3:$C$12,3,0),\"\")","v":""},{"$f":"IF(D180<>\"\",VLOOKUP(D180,Desplegables!$A$12:$B$38,2,0),\"\")","v":""}]
[null,null,null,null,null,null,null,{"$f":"IF(AND(F181<>\"\",G181<>\"\"),VLOOKUP(F181,Desplegables!$E$2:$F$275,2,0)&G181,\"\")","v":""},null,null,null,null,null,null,null,{"$f":"IF(C181<>\"\",VLOOKUP(C181,Desplegables!$A$3:$B$12,2,0),\"\")","v":""},{"$f":"IF(D181<>\"\",VLOOKUP(D181,Desplegables!$A$26:$C$38,3,0),\"\")","v":""},{"$f":"IF(C181<>\"\",VLOOKUP(C181,Desplegables!$A$3:$C$12,3,0),\"\")","v":""},{"$f":"IF(D181<>\"\",VLOOKUP(D181,Desplegables!$A$12:$B$38,2,0),\"\")","v":""}]
[{"$f":"IF(A181<>\"\",A181,\"\")","v":""},{"$f":"IF(B181<>\"\",B181,\"\")","v":""},{"$f":"IF(C181<>\"\",C181,\"\")","v":""},{"$f":"IF(D181<>\"\",D181,\"\")","v":""},null,null,null,{"$f":"IF(AND(F182<>\"\",G182<>\"\"),VLOOKUP(F182,Desplegables!$E$2:$F$275,2,0)&G182,\"\")","v":""},null,null,null,null,null,null,null,{"$f":"IF(C182<>\"\",VLOOKUP(C182,Desplegables!$A$3:$B$12,2,0),\"\")","v":""},{"$f":"IF(D182<>\"\",VLOOKUP(D182,Desplegables!$A$26:$C$38,3,0),\"\")","v":""},{"$f":"IF(C182<>\"\",VLOOKUP(C182,Desplegables!$A$3:$C$12,3,0),\"\")","v":""},{"$f":"IF(D182<>\"\",VLOOKUP(D182,Desplegables!$A$12:$B$38,2,0),\"\")","v":""}]
[{"$f":"IF(A181<>\"\",A181,\"\")","v":""},{"$f":"IF(B181<>\"\",B181,\"\")","v":""},{"$f":"IF(C181<>\"\",C181,\"\")","v":""},{"$f":"IF(D181<>\"\",D181,\"\")","v":""},null,null,null,{"$f":"IF(AND(F183<>\"\",G183<>\"\"),VLOOKUP(F183,Desplegables!$E$2:$F$275,2,0)&G183,\"\")","v":""},null,null,null,null,null,null,null,{"$f":"IF(C183<>\"\",VLOOKUP(C183,Desplegables!$A$3:$B$12,2,0),\"\")","v":""},{"$f":"IF(D183<>\"\",VLOOKUP(D183,Desplegables!$A$26:$C$38,3,0),\"\")","v":""},{"$f":"IF(C183<>\"\",VLOOKUP(C183,Desplegables!$A$3:$C$12,3,0),\"\")","v":""},{"$f":"IF(D183<>\"\",VLOOKUP(D183,Desplegables!$A$12:$B$38,2,0),\"\")","v":""}]
[null,null,null,null,null,null,null,{"$f":"IF(AND(F184<>\"\",G184<>\"\"),VLOOKUP(F184,Desplegables!$E$2:$F$275,2,0)&G184,\"\")","v":""},null,null,null,null,null,null,null,{"$f":"IF(C184<>\"\",VLOOKUP(C184,Desplegables!$A$3:$B$12,2,0),\"\")","v":""},{"$f":"IF(D184<>\"\",VLOOKUP(D184,Desplegables!$A$26:$C$38,3,0),\"\")","v":""},{"$f":"IF(C184<>\"\",VLOOKUP(C184,Desplegables!$A$3:$C$12,3,0),\"\")","v":""},{"$f":"IF(D184<>\"\",VLOOKUP(D184,Desplegables!$A$12:$B$38,2,0),\"\")","v":""}]
[{"$f":"IF(A184<>\"\",A184,\"\")","v":""},{"$f":"IF(B184<>\"\",B184,\"\")","v":""},{"$f":"IF(C184<>\"\",C184,\"\")","v":""},{"$f":"IF(D184<>\"\",D184,\"\")","v":""},null,null,null,{"$f":"IF(AND(F185<>\"\",G185<>\"\"),VLOOKUP(F185,Desplegables!$E$2:$F$275,2,0)&G185,\"\")","v":""},null,null,null,null,null,null,null,{"$f":"IF(C185<>\"\",VLOOKUP(C185,Desplegables!$A$3:$B$12,2,0),\"\")","v":""},{"$f":"IF(D185<>\"\",VLOOKUP(D185,Desplegables!$A$26:$C$38,3,0),\"\")","v":""},{"$f":"IF(C185<>\"\",VLOOKUP(C185,Desplegables!$A$3:$C$12,3,0),\"\")","v":""},{"$f":"IF(D185<>\"\",VLOOKUP(D185,Desplegables!$A$12:$B$38,2,0),\"\")","v":""}]
[{"$f":"IF(A184<>\"\",A184,\"\")","v":""},{"$f":"IF(B184<>\"\",B184,\"\")","v":""},{"$f":"IF(C184<>\"\",C184,\"\")","v":""},{"$f":"IF(D184<>\"\",D184,\"\")","v":""},null,null,null,{"$f":"IF(AND(F186<>\"\",G186<>\"\"),VLOOKUP(F186,Desplegables!$E$2:$F$275,2,0)&G186,\"\")","v":""},null,null,null,null,null,null,null,{"$f":"IF(C186<>\"\",VLOOKUP(C186,Desplegables!$A$3:$B$12,2,0),\"\")","v":""},{"$f":"IF(D186<>\"\",VLOOKUP(D186,Desplegables!$A$26:$C$38,3,0),\"\")","v":""},{"$f":"IF(C186<>\"\",VLOOKUP(C186,Desplegables!$A$3:$C$12,3,0),\"\")","v":""},{"$f":"IF(D186<>\"\",VLOOKUP(D186,Desplegables!$A$12:$B$38,2,0),\"\")","v":""}]
[null,null,null,null,null,null,null,{"$f":"IF(AND(F187<>\"\",G187<>\"\"),VLOOKUP(F187,Desplegables!$E$2:$F$275,2,0)&G187,\"\")","v":""},null,null,null,null,null,null,null,{"$f":"IF(C187<>\"\",VLOOKUP(C187,Desplegables!$A$3:$B$12,2,0),\"\")","v":""},{"$f":"IF(D187<>\"\",VLOOKUP(D187,Desplegables!$A$26:$C$38,3,0),\"\")","v":""},{"$f":"IF(C187<>\"\",VLOOKUP(C187,Desplegables!$A$3:$C$12,3,0),\"\")","v":""},{"$f":"IF(D187<>\"\",VLOOKUP(D187,Desplegables!$A$12:$B$38,2,0),\"\")","v":""}]
[{"$f":"IF(A187<>\"\",A187,\"\")","v":""},{"$f":"IF(B187<>\"\",B187,\"\")","v":""},{"$f":"IF(C187<>\"\",C187,\"\")","v":""},{"$f":"IF(D187<>\"\",D187,\"\")","v":""},null,null,null,{"$f":"IF(AND(F188<>\"\",G188<>\"\"),VLOOKUP(F188,Desplegables!$E$2:$F$275,2,0)&G188,\"\")","v":""},null,null,null,null,null,null,null,{"$f":"IF(C188<>\"\",VLOOKUP(C188,Desplegables!$A$3:$B$12,2,0),\"\")","v":""},{"$f":"IF(D188<>\"\",VLOOKUP(D188,Desplegables!$A$26:$C$38,3,0),\"\")","v":""},{"$f":"IF(C188<>\"\",VLOOKUP(C188,Desplegables!$A$3:$C$12,3,0),\"\")","v":""},{"$f":"IF(D188<>\"\",VLOOKUP(D188,Desplegables!$A$12:$B$38,2,0),\"\")","v":""}]
[{"$f":"IF(A187<>\"\",A187,\"\")","v":""},{"$f":"IF(B187<>\"\",B187,\"\")","v":""},{"$f":"IF(C187<>\"\",C187,\"\")","v":""},{"$f":"IF(D187<>\"\",D187,\"\")","v":""},null,null,null,{"$f":"IF(AND(F189<>\"\",G189<>\"\"),VLOOKUP(F189,Desplegables!$E$2:$F$275,2,0)&G189,\"\")","v":""},null,null,null,null,null,null,null,{"$f":"IF(C189<>\"\",VLOOKUP(C189,Desplegables!$A$3:$B$12,2,0),\"\")","v":""},{"$f":"IF(D189<>\"\",VLOOKUP(D189,Desplegables!$A$26:$C$38,3,0),\"\")","v":""},{"$f":"IF(C189<>\"\",VLOOKUP(C189,Desplegables!$A$3:$C$12,3,0),\"\")","v":""},{"$f":"IF(D189<>\"\",VLOOKUP(D189,Desplegables!$A$12:$B$38,2,0),\"\")","v":""}]
[null,null,null,null,null,null,null,{"$f":"IF(AND(F190<>\"\",G190<>\"\"),VLOOKUP(F190,Desplegables!$E$2:$F$275,2,0)&G190,\"\")","v":""},null,null,null,null,null,null,null,{"$f":"IF(C190<>\"\",VLOOKUP(C190,Desplegables!$A$3:$B$12,2,0),\"\")","v":""},{"$f":"IF(D190<>\"\",VLOOKUP(D190,Desplegables!$A$26:$C$38,3,0),\"\")","v":""},{"$f":"IF(C190<>\"\",VLOOKUP(C190,Desplegables!$A$3:$C$12,3,0),\"\")","v":""},{"$f":"IF(D190<>\"\",VLOOKUP(D190,Desplegables!$A$12:$B$38,2,0),\"\")","v":""}]
[{"$f":"IF(A190<>\"\",A190,\"\")","v":""},{"$f":"IF(B190<>\"\",B190,\"\")","v":""},{"$f":"IF(C190<>\"\",C190,\"\")","v":""},{"$f":"IF(D190<>\"\",D190,\"\")","v":""},null,null,null,{"$f":"IF(AND(F191<>\"\",G191<>\"\"),VLOOKUP(F191,Desplegables!$E$2:$F$275,2,0)&G191,\"\")","v":""},null,null,null,null,null,null,null,{"$f":"IF(C191<>\"\",VLOOKUP(C191,Desplegables!$A$3:$B$12,2,0),\"\")","v":""},{"$f":"IF(D191<>\"\",VLOOKUP(D191,Desplegables!$A$26:$C$38,3,0),\"\")","v":""},{"$f":"IF(C191<>\"\",VLOOKUP(C191,Desplegables!$A$3:$C$12,3,0),\"\")","v":""},{"$f":"IF(D191<>\"\",VLOOKUP(D191,Desplegables!$A$12:$B$38,2,0),\"\")","v":""}]
[{"$f":"IF(A190<>\"\",A190,\"\")","v":""},{"$f":"IF(B190<>\"\",B190,\"\")","v":""},{"$f":"IF(C190<>\"\",C190,\"\")","v":""},{"$f":"IF(D190<>\"\",D190,\"\")","v":""},null,null,null,{"$f":"IF(AND(F192<>\"\",G192<>\"\"),VLOOKUP(F192,Desplegables!$E$2:$F$275,2,0)&G192,\"\")","v":""},null,null,null,null,null,null,null,{"$f":"IF(C192<>\"\",VLOOKUP(C192,Desplegables!$A$3:$B$12,2,0),\"\")","v":""},{"$f":"IF(D192<>\"\",VLOOKUP(D192,Desplegables!$A$26:$C$38,3,0),\"\")","v":""},{"$f":"IF(C192<>\"\",VLOOKUP(C192,Desplegables!$A$3:$C$12,3,0),\"\")","v":""},{"$f":"IF(D192<>\"\",VLOOKUP(D192,Desplegables!$A$12:$B$38,2,0),\"\")","v":""}]
[null,null,null,null,null,null,null,{"$f":"IF(AND(F193<>\"\",G193<>\"\"),VLOOKUP(F193,Desplegables!$E$2:$F$275,2,0)&G193,\"\")","v":""},null,null,null,null,null,null,null,{"$f":"IF(C193<>\"\",VLOOKUP(C193,Desplegables!$A$3:$B$12,2,0),\"\")","v":""},{"$f":"IF(D193<>\"\",VLOOKUP(D193,Desplegables!$A$26:$C$38,3,0),\"\")","v":""},{"$f":"IF(C193<>\"\",VLOOKUP(C193,Desplegables!$A$3:$C$12,3,0),\"\")","v":""},{"$f":"IF(D193<>\"\",VLOOKUP(D193,Desplegables!$A$12:$B$38,2,0),\"\")","v":""}]
[{"$f":"IF(A193<>\"\",A193,\"\")","v":""},{"$f":"IF(B193<>\"\",B193,\"\")","v":""},{"$f":"IF(C193<>\"\",C193,\"\")","v":""},{"$f":"IF(D193<>\"\",D193,\"\")","v":""},null,null,null,{"$f":"IF(AND(F194<>\"\",G194<>\"\"),VLOOKUP(F194,Desplegables!$E$2:$F$275,2,0)&G194,\"\")","v":""},null,null,null,null,null,null,null,{"$f":"IF(C194<>\"\",VLOOKUP(C194,Desplegables!$A$3:$B$12,2,0),\"\")","v":""},{"$f":"IF(D194<>\"\",VLOOKUP(D194,Desplegables!$A$26:$C$38,3,0),\"\")","v":""},{"$f":"IF(C194<>\"\",VLOOKUP(C194,Desplegables!$A$3:$C$12,3,0),\"\")","v":""},{"$f":"IF(D194<>\"\",VLOOKUP(D194,Desplegables!$A$12:$B$38,2,0),\"\")","v":""}]
[{"$f":"IF(A193<>\"\",A193,\"\")","v":""},{"$f":"IF(B193<>\"\",B193,\"\")","v":""},{"$f":"IF(C193<>\"\",C193,\"\")","v":""},{"$f":"IF(D193<>\"\",D193,\"\")","v":""},null,null,null,{"$f":"IF(AND(F195<>\"\",G195<>\"\"),VLOOKUP(F195,Desplegables!$E$2:$F$275,2,0)&G195,\"\")","v":""},null,null,null,null,null,null,null,{"$f":"IF(C195<>\"\",VLOOKUP(C195,Desplegables!$A$3:$B$12,2,0),\"\")","v":""},{"$f":"IF(D195<>\"\",VLOOKUP(D195,Desplegables!$A$26:$C$38,3,0),\"\")","v":""},{"$f":"IF(C195<>\"\",VLOOKUP(C195,Desplegables!$A$3:$C$12,3,0),\"\")","v":""},{"$f":"IF(D195<>\"\",VLOOKUP(D195,Desplegables!$A$12:$B$38,2,0),\"\")","v":""}]
[null,null,null,null,null,null,null,{"$f":"IF(AND(F196<>\"\",G196<>\"\"),VLOOKUP(F196,Desplegables!$E$2:$F$275,2,0)&G196,\"\")","v":""},null,null,null,null,null,null,null,{"$f":"IF(C196<>\"\",VLOOKUP(C196,Desplegables!$A$3:$B$12,2,0),\"\")","v":""},{"$f":"IF(D196<>\"\",VLOOKUP(D196,Desplegables!$A$26:$C$38,3,0),\"\")","v":""},{"$f":"IF(C196<>\"\",VLOOKUP(C196,Desplegables!$A$3:$C$12,3,0),\"\")","v":""},{"$f":"IF(D196<>\"\",VLOOKUP(D196,Desplegables!$A$12:$B$38,2,0),\"\")","v":""}]
[{"$f":"IF(A196<>\"\",A196,\"\")","v":""},{"$f":"IF(B196<>\"\",B196,\"\")","v":""},{"$f":"IF(C196<>\"\",C196,\"\")","v":""},{"$f":"IF(D196<>\"\",D196,\"\")","v":""},null,null,null,{"$f":"IF(AND(F197<>\"\",G197<>\"\"),VLOOKUP(F197,Desplegables!$E$2:$F$275,2,0)&G197,\"\")","v":""},null,null,null,null,null,null,null,{"$f":"IF(C197<>\"\",VLOOKUP(C197,Desplegables!$A$3:$B$12,2,0),\"\")","v":""},{"$f":"IF(D197<>\"\",VLOOKUP(D197,Desplegables!$A$26:$C$38,3,0),\"\")","v":""},{"$f":"IF(C197<>\"\",VLOOKUP(C197,Desplegables!$A$3:$C$12,3,0),\"\")","v":""},{"$f":"IF(D197<>\"\",VLOOKUP(D197,Desplegables!$A$12:$B$38,2,0),\"\")","v":""}]
[{"$f":"IF(A196<>\"\",A196,\"\")","v":""},{"$f":"IF(B196<>\"\",B196,\"\")","v":""},{"$f":"IF(C196<>\"\",C196,\"\")","v":""},{"$f":"IF(D196<>\"\",D196,\"\")","v":""},null,null,null,{"$f":"IF(AND(F198<>\"\",G198<>\"\"),VLOOKUP(F198,Desplegables!$E$2:$F$275,2,0)&G198,\"\")","v":""},null,null,null,null,null,null,null,{"$f":"IF(C198<>\"\",VLOOKUP(C198,Desplegables!$A$3:$B$12,2,0),\"\")","v":""},{"$f":"IF(D198<>\"\",VLOOKUP(D198,Desplegables!$A$26:$C$38,3,0),\"\")","v":""},{"$f":"IF(C198<>\"\",VLOOKUP(C198,Desplegables!$A$3:$C$12,3,0),\"\")","v":""},{"$f":"IF(D198<>\"\",VLOOKUP(D198,Desplegables!$A$12:$B$38,2,0),\"\")","v":""}]
[null,null,null,null,null,null,null,{"$f":"IF(AND(F199<>\"\",G199<>\"\"),VLOOKUP(F199,Desplegables!$E$2:$F$275,2,0)&G199,\"\")","v":""},null,null,null,null,null,null,null,{"$f":"IF(C199<>\"\",VLOOKUP(C199,Desplegables!$A$3:$B$12,2,0),\"\")","v":""},{"$f":"IF(D199<>\"\",VLOOKUP(D199,Desplegables!$A$26:$C$38,3,0),\"\")","v":""},{"$f":"IF(C199<>\"\",VLOOKUP(C199,Desplegables!$A$3:$C$12,3,0),\"\")","v":""},{"$f":"IF(D199<>\"\",VLOOKUP(D199,Desplegables!$A$12:$B$38,2,0),\"\")","v":""}]
[{"$f":"IF(A199<>\"\",A199,\"\")","v":""},{"$f":"IF(B199<>\"\",B199,\"\")","v":""},{"$f":"IF(C199<>\"\",C199,\"\")","v":""},{"$f":"IF(D199<>\"\",D199,\"\")","v":""},null,null,null,{"$f":"IF(AND(F200<>\"\",G200<>\"\"),VLOOKUP(F200,Desplegables!$E$2:$F$275,2,0)&G200,\"\")","v":""},null,null,null,null,null,null,null,{"$f":"IF(C200<>\"\",VLOOKUP(C200,Desplegables!$A$3:$B$12,2,0),\"\")","v":""},{"$f":"IF(D200<>\"\",VLOOKUP(D200,Desplegables!$A$26:$C$38,3,0),\"\")","v":""},{"$f":"IF(C200<>\"\",VLOOKUP(C200,Desplegables!$A$3:$C$12,3,0),\"\")","v":""},{"$f":"IF(D200<>\"\",VLOOKUP(D200,Desplegables!$A$12:$B$38,2,0),\"\")","v":""}]
[{"$f":"IF(A199<>\"\",A199,\"\")","v":""},{"$f":"IF(B199<>\"\",B199,\"\")","v":""},{"$f":"IF(C199<>\"\",C199,\"\")","v":""},{"$f":"IF(D199<>\"\",D199,\"\")","v":""},null,null,null,{"$f":"IF(AND(F201<>\"\",G201<>\"\"),VLOOKUP(F201,Desplegables!$E$2:$F$275,2,0)&G201,\"\")","v":""},null,null,null,null,null,null,null,{"$f":"IF(C201<>\"\",VLOOKUP(C201,Desplegables!$A$3:$B$12,2,0),\"\")","v":""},{"$f":"IF(D201<>\"\",VLOOKUP(D201,Desplegables!$A$26:$C$38,3,0),\"\")","v":""},{"$f":"IF(C201<>\"\",VLOOKUP(C201,Desplegables!$A$3:$C$12,3,0),\"\")","v":""},{"$f":"IF(D201<>\"\",VLOOKUP(D201,Desplegables!$A$12:$B$38,2,0),\"\")","v":""}]
[null,null,null,null,null,null,null,{"$f":"IF(AND(F202<>\"\",G202<>\"\"),VLOOKUP(F202,Desplegables!$E$2:$F$275,2,0)&G202,\"\")","v":""},null,null,null,null,null,null,null,{"$f":"IF(C202<>\"\",VLOOKUP(C202,Desplegables!$A$3:$B$12,2,0),\"\")","v":""},{"$f":"IF(D202<>\"\",VLOOKUP(D202,Desplegables!$A$26:$C$38,3,0),\"\")","v":""},{"$f":"IF(C202<>\"\",VLOOKUP(C202,Desplegables!$A$3:$C$12,3,0),\"\")","v":""},{"$f":"IF(D202<>\"\",VLOOKUP(D202,Desplegables!$A$12:$B$38,2,0),\"\")","v":""}]
[{"$f":"IF(A202<>\"\",A202,\"\")","v":""},{"$f":"IF(B202<>\"\",B202,\"\")","v":""},{"$f":"IF(C202<>\"\",C202,\"\")","v":""},{"$f":"IF(D202<>\"\",D202,\"\")","v":""},null,null,null,{"$f":"IF(AND(F203<>\"\",G203<>\"\"),VLOOKUP(F203,Desplegables!$E$2:$F$275,2,0)&G203,\"\")","v":""},null,null,null,null,null,null,null,{"$f":"IF(C203<>\"\",VLOOKUP(C203,Desplegables!$A$3:$B$12,2,0),\"\")","v":""},{"$f":"IF(D203<>\"\",VLOOKUP(D203,Desplegables!$A$26:$C$38,3,0),\"\")","v":""},{"$f":"IF(C203<>\"\",VLOOKUP(C203,Desplegables!$A$3:$C$12,3,0),\"\")","v":""},{"$f":"IF(D203<>\"\",VLOOKUP(D203,Desplegables!$A$12:$B$38,2,0),\"\")","v":""}]
[{"$f":"IF(A202<>\"\",A202,\"\")","v":""},{"$f":"IF(B202<>\"\",B202,\"\")","v":""},{"$f":"IF(C202<>\"\",C202,\"\")","v":""},{"$f":"IF(D202<>\"\",D202,\"\")","v":""},null,null,null,{"$f":"IF(AND(F204<>\"\",G204<>\"\"),VLOOKUP(F204,Desplegables!$E$2:$F$275,2,0)&G204,\"\")","v":""},null,null,null,null,null,null,null,{"$f":"IF(C204<>\"\",VLOOKUP(C204,Desplegables!$A$3:$B$12,2,0),\"\")","v":""},{"$f":"IF(D204<>\"\",VLOOKUP(D204,Desplegables!$A$26:$C$38,3,0),\"\")","v":""},{"$f":"IF(C204<>\"\",VLOOKUP(C204,Desplegables!$A$3:$C$12,3,0),\"\")","v":""},{"$f":"IF(D204<>\"\",VLOOKUP(D204,Desplegables!$A$12:$B$38,2,0),\"\")","v":""}]
[null,null,null,null,null,null,null,{"$f":"IF(AND(F205<>\"\",G205<>\"\"),VLOOKUP(F205,Desplegables!$E$2:$F$275,2,0)&G205,\"\")","v":""},null,null,null,null,null,null,null,{"$f":"IF(C205<>\"\",VLOOKUP(C205,Desplegables!$A$3:$B$12,2,0),\"\")","v":""},{"$f":"IF(D205<>\"\",VLOOKUP(D205,Desplegables!$A$26:$C$38,3,0),\"\")","v":""},{"$f":"IF(C205<>\"\",VLOOKUP(C205,Desplegables!$A$3:$C$12,3,0),\"\")","v":""},{"$f":"IF(D205<>\"\",VLOOKUP(D205,Desplegables!$A$12:$B$38,2,0),\"\")","v":""}]
[{"$f":"IF(A205<>\"\",A205,\"\")","v":""},{"$f":"IF(B205<>\"\",B205,\"\")","v":""},{"$f":"IF(C205<>\"\",C205,\"\")","v":""},{"$f":"IF(D205<>\"\",D205,\"\")","v":""},null,null,null,{"$f":"IF(AND(F206<>\"\",G206<>\"\"),VLOOKUP(F206,Desplegables!$E$2:$F$275,2,0)&G206,\"\")","v":""},null,null,null,null,null,null,null,{"$f":"IF(C206<>\"\",VLOOKUP(C206,Desplegables!$A$3:$B$12,2,0),\"\")","v":""},{"$f":"IF(D206<>\"\",VLOOKUP(D206,Desplegables!$A$26:$C$38,3,0),\"\")","v":""},{"$f":"IF(C206<>\"\",VLOOKUP(C206,Desplegables!$A$3:$C$12,3,0),\"\")","v":""},{"$f":"IF(D206<>\"\",VLOOKUP(D206,Desplegables!$A$12:$B$38,2,0),\"\")","v":""}]
[{"$f":"IF(A205<>\"\",A205,\"\")","v":""},{"$f":"IF(B205<>\"\",B205,\"\")","v":""},{"$f":"IF(C205<>\"\",C205,\"\")","v":""},{"$f":"IF(D205<>\"\",D205,\"\")","v":""},null,null,null,{"$f":"IF(AND(F207<>\"\",G207<>\"\"),VLOOKUP(F207,Desplegables!$E$2:$F$275,2,0)&G207,\"\")","v":""},null,null,null,null,null,null,null,{"$f":"IF(C207<>\"\",VLOOKUP(C207,Desplegables!$A$3:$B$12,2,0),\"\")","v":""},{"$f":"IF(D207<>\"\",VLOOKUP(D207,Desplegables!$A$26:$C$38,3,0),\"\")","v":""},{"$f":"IF(C207<>\"\",VLOOKUP(C207,Desplegables!$A$3:$C$12,3,0),\"\")","v":""},{"$f":"IF(D207<>\"\",VLOOKUP(D207,Desplegables!$A$12:$B$38,2,0),\"\")","v":""}]
[null,null,null,null,null,null,null,{"$f":"IF(AND(F208<>\"\",G208<>\"\"),VLOOKUP(F208,Desplegables!$E$2:$F$275,2,0)&G208,\"\")","v":""},null,null,null,null,null,null,null,{"$f":"IF(C208<>\"\",VLOOKUP(C208,Desplegables!$A$3:$B$12,2,0),\"\")","v":""},{"$f":"IF(D208<>\"\",VLOOKUP(D208,Desplegables!$A$26:$C$38,3,0),\"\")","v":""},{"$f":"IF(C208<>\"\",VLOOKUP(C208,Desplegables!$A$3:$C$12,3,0),\"\")","v":""},{"$f":"IF(D208<>\"\",VLOOKUP(D208,Desplegables!$A$12:$B$38,2,0),\"\")","v":""}]
[{"$f":"IF(A208<>\"\",A208,\"\")","v":""},{"$f":"IF(B208<>\"\",B208,\"\")","v":""},{"$f":"IF(C208<>\"\",C208,\"\")","v":""},{"$f":"IF(D208<>\"\",D208,\"\")","v":""},null,null,null,{"$f":"IF(AND(F209<>\"\",G209<>\"\"),VLOOKUP(F209,Desplegables!$E$2:$F$275,2,0)&G209,\"\")","v":""},null,null,null,null,null,null,null,{"$f":"IF(C209<>\"\",VLOOKUP(C209,Desplegables!$A$3:$B$12,2,0),\"\")","v":""},{"$f":"IF(D209<>\"\",VLOOKUP(D209,Desplegables!$A$26:$C$38,3,0),\"\")","v":""},{"$f":"IF(C209<>\"\",VLOOKUP(C209,Desplegables!$A$3:$C$12,3,0),\"\")","v":""},{"$f":"IF(D209<>\"\",VLOOKUP(D209,Desplegables!$A$12:$B$38,2,0),\"\")","v":""}]
[{"$f":"IF(A208<>\"\",A208,\"\")","v":""},{"$f":"IF(B208<>\"\",B208,\"\")","v":""},{"$f":"IF(C208<>\"\",C208,\"\")","v":""},{"$f":"IF(D208<>\"\",D208,\"\")","v":""},null,null,null,{"$f":"IF(AND(F210<>\"\",G210<>\"\"),VLOOKUP(F210,Desplegables!$E$2:$F$275,2,0)&G210,\"\")","v":""},null,null,null,null,null,null,null,{"$f":"IF(C210<>\"\",VLOOKUP(C210,Desplegables!$A$3:$B$12,2,0),\"\")","v":""},{"$f":"IF(D210<>\"\",VLOOKUP(D210,Desplegables!$A$26:$C$38,3,0),\"\")","v":""},{"$f":"IF(C210<>\"\",VLOOKUP(C210,Desplegables!$A$3:$C$12,3,0),\"\")","v":""},{"$f":"IF(D210<>\"\",VLOOKUP(D210,Desplegables!$A$12:$B$38,2,0),\"\")","v":""}]
[null,null,null,null,null,null,null,{"$f":"IF(AND(F211<>\"\",G211<>\"\"),VLOOKUP(F211,Desplegables!$E$2:$F$275,2,0)&G211,\"\")","v":""},null,null,null,null,null,null,null,{"$f":"IF(C211<>\"\",VLOOKUP(C211,Desplegables!$A$3:$B$12,2,0),\"\")","v":""},{"$f":"IF(D211<>\"\",VLOOKUP(D211,Desplegables!$A$26:$C$38,3,0),\"\")","v":""},{"$f":"IF(C211<>\"\",VLOOKUP(C211,Desplegables!$A$3:$C$12,3,0),\"\")","v":""},{"$f":"IF(D211<>\"\",VLOOKUP(D211,Desplegables!$A$12:$B$38,2,0),\"\")","v":""}]
[{"$f":"IF(A211<>\"\",A211,\"\")","v":""},{"$f":"IF(B211<>\"\",B211,\"\")","v":""},{"$f":"IF(C211<>\"\",C211,\"\")","v":""},{"$f":"IF(D211<>\"\",D211,\"\")","v":""},null,null,null,{"$f":"IF(AND(F212<>\"\",G212<>\"\"),VLOOKUP(F212,Desplegables!$E$2:$F$275,2,0)&G212,\"\")","v":""},null,null,null,null,null,null,null,{"$f":"IF(C212<>\"\",VLOOKUP(C212,Desplegables!$A$3:$B$12,2,0),\"\")","v":""},{"$f":"IF(D212<>\"\",VLOOKUP(D212,Desplegables!$A$26:$C$38,3,0),\"\")","v":""},{"$f":"IF(C212<>\"\",VLOOKUP(C212,Desplegables!$A$3:$C$12,3,0),\"\")","v":""},{"$f":"IF(D212<>\"\",VLOOKUP(D212,Desplegables!$A$12:$B$38,2,0),\"\")","v":""}]
[{"$f":"IF(A211<>\"\",A211,\"\")","v":""},{"$f":"IF(B211<>\"\",B211,\"\")","v":""},{"$f":"IF(C211<>\"\",C211,\"\")","v":""},{"$f":"IF(D211<>\"\",D211,\"\")","v":""},null,null,null,{"$f":"IF(AND(F213<>\"\",G213<>\"\"),VLOOKUP(F213,Desplegables!$E$2:$F$275,2,0)&G213,\"\")","v":""},null,null,null,null,null,null,null,{"$f":"IF(C213<>\"\",VLOOKUP(C213,Desplegables!$A$3:$B$12,2,0),\"\")","v":""},{"$f":"IF(D213<>\"\",VLOOKUP(D213,Desplegables!$A$26:$C$38,3,0),\"\")","v":""},{"$f":"IF(C213<>\"\",VLOOKUP(C213,Desplegables!$A$3:$C$12,3,0),\"\")","v":""},{"$f":"IF(D213<>\"\",VLOOKUP(D213,Desplegables!$A$12:$B$38,2,0),\"\")","v":""}]
[null,null,null,null,null,null,null,{"$f":"IF(AND(F214<>\"\",G214<>\"\"),VLOOKUP(F214,Desplegables!$E$2:$F$275,2,0)&G214,\"\")","v":""},null,null,null,null,null,null,null,{"$f":"IF(C214<>\"\",VLOOKUP(C214,Desplegables!$A$3:$B$12,2,0),\"\")","v":""},{"$f":"IF(D214<>\"\",VLOOKUP(D214,Desplegables!$A$26:$C$38,3,0),\"\")","v":""},{"$f":"IF(C214<>\"\",VLOOKUP(C214,Desplegables!$A$3:$C$12,3,0),\"\")","v":""},{"$f":"IF(D214<>\"\",VLOOKUP(D214,Desplegables!$A$12:$B$38,2,0),\"\")","v":""}]
[null,null,null,null,null,null,null,{"$f":"IF(AND(F215<>\"\",G215<>\"\"),VLOOKUP(F215,Desplegables!$E$2:$F$275,2,0)&G215,\"\")","v":""},null,null,null,null,null,null,null,{"$f":"IF(C215<>\"\",VLOOKUP(C215,Desplegables!$A$3:$B$12,2,0),\"\")","v":""},{"$f":"IF(D215<>\"\",VLOOKUP(D215,Desplegables!$A$26:$C$38,3,0),\"\")","v":""},{"$f":"IF(C215<>\"\",VLOOKUP(C215,Desplegables!$A$3:$C$12,3,0),\"\")","v":""},{"$f":"IF(D215<>\"\",VLOOKUP(D215,Desplegables!$A$12:$B$38,2,0),\"\")","v":""}]
[null,null,null,null,null,null,null,{"$f":"IF(AND(F216<>\"\",G216<>\"\"),VLOOKUP(F216,Desplegables!$E$2:$F$275,2,0)&G216,\"\")","v":""},null,null,null,null,null,null,null,{"$f":"IF(C216<>\"\",VLOOKUP(C216,Desplegables!$A$3:$B$12,2,0),\"\")","v":""},{"$f":"IF(D216<>\"\",VLOOKUP(D216,Desplegables!$A$26:$C$38,3,0),\"\")","v":""},{"$f":"IF(C216<>\"\",VLOOKUP(C216,Desplegables!$A$3:$C$12,3,0),\"\")","v":""},{"$f":"IF(D216<>\"\",VLOOKUP(D216,Desplegables!$A$12:$B$38,2,0),\"\")","v":""}]
[null,null,null,null,null,null,null,{"$f":"IF(AND(F217<>\"\",G217<>\"\"),VLOOKUP(F217,Desplegables!$E$2:$F$275,2,0)&G217,\"\")","v":""},null,null,null,null,null,null,null,{"$f":"IF(C217<>\"\",VLOOKUP(C217,Desplegables!$A$3:$B$12,2,0),\"\")","v":""},{"$f":"IF(D217<>\"\",VLOOKUP(D217,Desplegables!$A$26:$C$38,3,0),\"\")","v":""},{"$f":"IF(C217<>\"\",VLOOKUP(C217,Desplegables!$A$3:$C$12,3,0),\"\")","v":""},{"$f":"IF(D217<>\"\",VLOOKUP(D217,Desplegables!$A$12:$B$38,2,0),\"\")","v":""}]
[{"$f":"IF(A217<>\"\",A217,\"\")","v":""},{"$f":"IF(B217<>\"\",B217,\"\")","v":""},{"$f":"IF(C217<>\"\",C217,\"\")","v":""},{"$f":"IF(D217<>\"\",D217,\"\")","v":""},null,null,null,{"$f":"IF(AND(F218<>\"\",G218<>\"\"),VLOOKUP(F218,Desplegables!$E$2:$F$275,2,0)&G218,\"\")","v":""},null,null,null,null,null,null,null,{"$f":"IF(C218<>\"\",VLOOKUP(C218,Desplegables!$A$3:$B$12,2,0),\"\")","v":""},{"$f":"IF(D218<>\"\",VLOOKUP(D218,Desplegables!$A$26:$C$38,3,0),\"\")","v":""},{"$f":"IF(C218<>\"\",VLOOKUP(C218,Desplegables!$A$3:$C$12,3,0),\"\")","v":""},{"$f":"IF(D218<>\"\",VLOOKUP(D218,Desplegables!$A$12:$B$38,2,0),\"\")","v":""}]
[{"$f":"IF(A217<>\"\",A217,\"\")","v":""},{"$f":"IF(B217<>\"\",B217,\"\")","v":""},{"$f":"IF(C217<>\"\",C217,\"\")","v":""},{"$f":"IF(D217<>\"\",D217,\"\")","v":""},null,null,null,{"$f":"IF(AND(F219<>\"\",G219<>\"\"),VLOOKUP(F219,Desplegables!$E$2:$F$275,2,0)&G219,\"\")","v":""},null,null,null,null,null,null,null,{"$f":"IF(C219<>\"\",VLOOKUP(C219,Desplegables!$A$3:$B$12,2,0),\"\")","v":""},{"$f":"IF(D219<>\"\",VLOOKUP(D219,Desplegables!$A$26:$C$38,3,0),\"\")","v":""},{"$f":"IF(C219<>\"\",VLOOKUP(C219,Desplegables!$A$3:$C$12,3,0),\"\")","v":""},{"$f":"IF(D219<>\"\",VLOOKUP(D219,Desplegables!$A$12:$B$38,2,0),\"\")","v":""}]
[null,null,null,null,null,null,null,{"$f":"IF(AND(F220<>\"\",G220<>\"\"),VLOOKUP(F220,Desplegables!$E$2:$F$275,2,0)&G220,\"\")","v":""},null,null,null,null,null,null,null,{"$f":"IF(C220<>\"\",VLOOKUP(C220,Desplegables!$A$3:$B$12,2,0),\"\")","v":""},{"$f":"IF(D220<>\"\",VLOOKUP(D220,Desplegables!$A$26:$C$38,3,0),\"\")","v":""},{"$f":"IF(C220<>\"\",VLOOKUP(C220,Desplegables!$A$3:$C$12,3,0),\"\")","v":""},{"$f":"IF(D220<>\"\",VLOOKUP(D220,Desplegables!$A$12:$B$38,2,0),\"\")","v":""}]
[{"$f":"IF(A220<>\"\",A220,\"\")","v":""},{"$f":"IF(B220<>\"\",B220,\"\")","v":""},{"$f":"IF(C220<>\"\",C220,\"\")","v":""},{"$f":"IF(D220<>\"\",D220,\"\")","v":""},null,null,null,{"$f":"IF(AND(F221<>\"\",G221<>\"\"),VLOOKUP(F221,Desplegables!$E$2:$F$275,2,0)&G221,\"\")","v":""},null,null,null,null,null,null,null,{"$f":"IF(C221<>\"\",VLOOKUP(C221,Desplegables!$A$3:$B$12,2,0),\"\")","v":""},{"$f":"IF(D221<>\"\",VLOOKUP(D221,Desplegables!$A$26:$C$38,3,0),\"\")","v":""},{"$f":"IF(C221<>\"\",VLOOKUP(C221,Desplegables!$A$3:$C$12,3,0),\"\")","v":""},{"$f":"IF(D221<>\"\",VLOOKUP(D221,Desplegables!$A$12:$B$38,2,0),\"\")","v":""}]
[{"$f":"IF(A220<>\"\",A220,\"\")","v":""},{"$f":"IF(B220<>\"\",B220,\"\")","v":""},{"$f":"IF(C220<>\"\",C220,\"\")","v":""},{"$f":"IF(D220<>\"\",D220,\"\")","v":""},null,null,null,{"$f":"IF(AND(F222<>\"\",G222<>\"\"),VLOOKUP(F222,Desplegables!$E$2:$F$275,2,0)&G222,\"\")","v":""},null,null,null,null,null,null,null,{"$f":"IF(C222<>\"\",VLOOKUP(C222,Desplegables!$A$3:$B$12,2,0),\"\")","v":""},{"$f":"IF(D222<>\"\",VLOOKUP(D222,Desplegables!$A$26:$C$38,3,0),\"\")","v":""},{"$f":"IF(C222<>\"\",VLOOKUP(C222,Desplegables!$A$3:$C$12,3,0),\"\")","v":""},{"$f":"IF(D222<>\"\",VLOOKUP(D222,Desplegables!$A$12:$B$38,2,0),\"\")","v":""}]
[null,null,null,null,null,null,null,{"$f":"IF(AND(F223<>\"\",G223<>\"\"),VLOOKUP(F223,Desplegables!$E$2:$F$275,2,0)&G223,\"\")","v":""},null,null,null,null,null,null,null,{"$f":"IF(C223<>\"\",VLOOKUP(C223,Desplegables!$A$3:$B$12,2,0),\"\")","v":""},{"$f":"IF(D223<>\"\",VLOOKUP(D223,Desplegables!$A$26:$C$38,3,0),\"\")","v":""},{"$f":"IF(C223<>\"\",VLOOKUP(C223,Desplegables!$A$3:$C$12,3,0),\"\")","v":""},{"$f":"IF(D223<>\"\",VLOOKUP(D223,Desplegables!$A$12:$B$38,2,0),\"\")","v":""}]
[{"$f":"IF(A223<>\"\",A223,\"\")","v":""},{"$f":"IF(B223<>\"\",B223,\"\")","v":""},{"$f":"IF(C223<>\"\",C223,\"\")","v":""},{"$f":"IF(D223<>\"\",D223,\"\")","v":""},null,null,null,{"$f":"IF(AND(F224<>\"\",G224<>\"\"),VLOOKUP(F224,Desplegables!$E$2:$F$275,2,0)&G224,\"\")","v":""},null,null,null,null,null,null,null,{"$f":"IF(C224<>\"\",VLOOKUP(C224,Desplegables!$A$3:$B$12,2,0),\"\")","v":""},{"$f":"IF(D224<>\"\",VLOOKUP(D224,Desplegables!$A$26:$C$38,3,0),\"\")","v":""},{"$f":"IF(C224<>\"\",VLOOKUP(C224,Desplegables!$A$3:$C$12,3,0),\"\")","v":""},{"$f":"IF(D224<>\"\",VLOOKUP(D224,Desplegables!$A$12:$B$38,2,0),\"\")","v":""}]
[{"$f":"IF(A223<>\"\",A223,\"\")","v":""},{"$f":"IF(B223<>\"\",B223,\"\")","v":""},{"$f":"IF(C223<>\"\",C223,\"\")","v":""},{"$f":"IF(D223<>\"\",D223,\"\")","v":""},null,null,null,{"$f":"IF(AND(F225<>\"\",G225<>\"\"),VLOOKUP(F225,Desplegables!$E$2:$F$275,2,0)&G225,\"\")","v":""},null,null,null,null,null,null,null,{"$f":"IF(C225<>\"\",VLOOKUP(C225,Desplegables!$A$3:$B$12,2,0),\"\")","v":""},{"$f":"IF(D225<>\"\",VLOOKUP(D225,Desplegables!$A$26:$C$38,3,0),\"\")","v":""},{"$f":"IF(C225<>\"\",VLOOKUP(C225,Desplegables!$A$3:$C$12,3,0),\"\")","v":""},{"$f":"IF(D225<>\"\",VLOOKUP(D225,Desplegables!$A$12:$B$38,2,0),\"\")","v":""}]
[null,null,null,null,null,null,null,{"$f":"IF(AND(F226<>\"\",G226<>\"\"),VLOOKUP(F226,Desplegables!$E$2:$F$275,2,0)&G226,\"\")","v":""},null,null,null,null,null,null,null,{"$f":"IF(C226<>\"\",VLOOKUP(C226,Desplegables!$A$3:$B$12,2,0),\"\")","v":""},{"$f":"IF(D226<>\"\",VLOOKUP(D226,Desplegables!$A$26:$C$38,3,0),\"\")","v":""},{"$f":"IF(C226<>\"\",VLOOKUP(C226,Desplegables!$A$3:$C$12,3,0),\"\")","v":""},{"$f":"IF(D226<>\"\",VLOOKUP(D226,Desplegables!$A$12:$B$38,2,0),\"\")","v":""}]
[{"$f":"IF(A226<>\"\",A226,\"\")","v":""},{"$f":"IF(B226<>\"\",B226,\"\")","v":""},{"$f":"IF(C226<>\"\",C226,\"\")","v":""},{"$f":"IF(D226<>\"\",D226,\"\")","v":""},null,null,null,{"$f":"IF(AND(F227<>\"\",G227<>\"\"),VLOOKUP(F227,Desplegables!$E$2:$F$275,2,0)&G227,\"\")","v":""},null,null,null,null,null,null,null,{"$f":"IF(C227<>\"\",VLOOKUP(C227,Desplegables!$A$3:$B$12,2,0),\"\")","v":""},{"$f":"IF(D227<>\"\",VLOOKUP(D227,Desplegables!$A$26:$C$38,3,0),\"\")","v":""},{"$f":"IF(C227<>\"\",VLOOKUP(C227,Desplegables!$A$3:$C$12,3,0),\"\")","v":""},{"$f":"IF(D227<>\"\",VLOOKUP(D227,Desplegables!$A$12:$B$38,2,0),\"\")","v":""}]
[{"$f":"IF(A226<>\"\",A226,\"\")","v":""},{"$f":"IF(B226<>\"\",B226,\"\")","v":""},{"$f":"IF(C226<>\"\",C226,\"\")","v":""},{"$f":"IF(D226<>\"\",D226,\"\")","v":""},null,null,null,{"$f":"IF(AND(F228<>\"\",G228<>\"\"),VLOOKUP(F228,Desplegables!$E$2:$F$275,2,0)&G228,\"\")","v":""},null,null,null,null,null,null,null,{"$f":"IF(C228<>\"\",VLOOKUP(C228,Desplegables!$A$3:$B$12,2,0),\"\")","v":""},{"$f":"IF(D228<>\"\",VLOOKUP(D228,Desplegables!$A$26:$C$38,3,0),\"\")","v":""},{"$f":"IF(C228<>\"\",VLOOKUP(C228,Desplegables!$A$3:$C$12,3,0),\"\")","v":""},{"$f":"IF(D228<>\"\",VLOOKUP(D228,Desplegables!$A$12:$B$38,2,0),\"\")","v":""}]
[null,null,null,null,null,null,null,{"$f":"IF(AND(F229<>\"\",G229<>\"\"),VLOOKUP(F229,Desplegables!$E$2:$F$275,2,0)&G229,\"\")","v":""},null,null,null,null,null,null,null,{"$f":"IF(C229<>\"\",VLOOKUP(C229,Desplegables!$A$3:$B$12,2,0),\"\")","v":""},{"$f":"IF(D229<>\"\",VLOOKUP(D229,Desplegables!$A$26:$C$38,3,0),\"\")","v":""},{"$f":"IF(C229<>\"\",VLOOKUP(C229,Desplegables!$A$3:$C$12,3,0),\"\")","v":""},{"$f":"IF(D229<>\"\",VLOOKUP(D229,Desplegables!$A$12:$B$38,2,0),\"\")","v":""}]
[{"$f":"IF(A229<>\"\",A229,\"\")","v":""},{"$f":"IF(B229<>\"\",B229,\"\")","v":""},{"$f":"IF(C229<>\"\",C229,\"\")","v":""},{"$f":"IF(D229<>\"\",D229,\"\")","v":""},null,null,null,{"$f":"IF(AND(F230<>\"\",G230<>\"\"),VLOOKUP(F230,Desplegables!$E$2:$F$275,2,0)&G230,\"\")","v":""},null,null,null,null,null,null,null,{"$f":"IF(C230<>\"\",VLOOKUP(C230,Desplegables!$A$3:$B$12,2,0),\"\")","v":""},{"$f":"IF(D230<>\"\",VLOOKUP(D230,Desplegables!$A$26:$C$38,3,0),\"\")","v":""},{"$f":"IF(C230<>\"\",VLOOKUP(C230,Desplegables!$A$3:$C$12,3,0),\"\")","v":""},{"$f":"IF(D230<>\"\",VLOOKUP(D230,Desplegables!$A$12:$B$38,2,0),\"\")","v":""}]
[{"$f":"IF(A229<>\"\",A229,\"\")","v":""},{"$f":"IF(B229<>\"\",B229,\"\")","v":""},{"$f":"IF(C229<>\"\",C229,\"\")","v":""},{"$f":"IF(D229<>\"\",D229,\"\")","v":""},null,null,null,{"$f":"IF(AND(F231<>\"\",G231<>\"\"),VLOOKUP(F231,Desplegables!$E$2:$F$275,2,0)&G231,\"\")","v":""},null,null,null,null,null,null,null,{"$f":"IF(C231<>\"\",VLOOKUP(C231,Desplegables!$A$3:$B$12,2,0),\"\")","v":""},{"$f":"IF(D231<>\"\",VLOOKUP(D231,Desplegables!$A$26:$C$38,3,0),\"\")","v":""},{"$f":"IF(C231<>\"\",VLOOKUP(C231,Desplegables!$A$3:$C$12,3,0),\"\")","v":""},{"$f":"IF(D231<>\"\",VLOOKUP(D231,Desplegables!$A$12:$B$38,2,0),\"\")","v":""}]
[null,null,null,null,null,null,null,{"$f":"IF(AND(F232<>\"\",G232<>\"\"),VLOOKUP(F232,Desplegables!$E$2:$F$275,2,0)&G232,\"\")","v":""},null,null,null,null,null,null,null,{"$f":"IF(C232<>\"\",VLOOKUP(C232,Desplegables!$A$3:$B$12,2,0),\"\")","v":""},{"$f":"IF(D232<>\"\",VLOOKUP(D232,Desplegables!$A$26:$C$38,3,0),\"\")","v":""},{"$f":"IF(C232<>\"\",VLOOKUP(C232,Desplegables!$A$3:$C$12,3,0),\"\")","v":""},{"$f":"IF(D232<>\"\",VLOOKUP(D232,Desplegables!$A$12:$B$38,2,0),\"\")","v":""}]
[{"$f":"IF(A232<>\"\",A232,\"\")","v":""},{"$f":"IF(B232<>\"\",B232,\"\")","v":""},{"$f":"IF(C232<>\"\",C232,\"\")","v":""},{"$f":"IF(D232<>\"\",D232,\"\")","v":""},null,null,null,{"$f":"IF(AND(F233<>\"\",G233<>\"\"),VLOOKUP(F233,Desplegables!$E$2:$F$275,2,0)&G233,\"\")","v":""},null,null,null,null,null,null,null,{"$f":"IF(C233<>\"\",VLOOKUP(C233,Desplegables!$A$3:$B$12,2,0),\"\")","v":""},{"$f":"IF(D233<>\"\",VLOOKUP(D233,Desplegables!$A$26:$C$38,3,0),\"\")","v":""},{"$f":"IF(C233<>\"\",VLOOKUP(C233,Desplegables!$A$3:$C$12,3,0),\"\")","v":""},{"$f":"IF(D233<>\"\",VLOOKUP(D233,Desplegables!$A$12:$B$38,2,0),\"\")","v":""}]
[{"$f":"IF(A232<>\"\",A232,\"\")","v":""},{"$f":"IF(B232<>\"\",B232,\"\")","v":""},{"$f":"IF(C232<>\"\",C232,\"\")","v":""},{"$f":"IF(D232<>\"\",D232,\"\")","v":""},null,null,null,{"$f":"IF(AND(F234<>\"\",G234<>\"\"),VLOOKUP(F234,Desplegables!$E$2:$F$275,2,0)&G234,\"\")","v":""},null,null,null,null,null,null,null,{"$f":"IF(C234<>\"\",VLOOKUP(C234,Desplegables!$A$3:$B$12,2,0),\"\")","v":""},{"$f":"IF(D234<>\"\",VLOOKUP(D234,Desplegables!$A$26:$C$38,3,0),\"\")","v":""},{"$f":"IF(C234<>\"\",VLOOKUP(C234,Desplegables!$A$3:$C$12,3,0),\"\")","v":""},{"$f":"IF(D234<>\"\",VLOOKUP(D234,Desplegables!$A$12:$B$38,2,0),\"\")","v":""}]
[null,null,null,null,null,null,null,{"$f":"IF(AND(F235<>\"\",G235<>\"\"),VLOOKUP(F235,Desplegables!$E$2:$F$275,2,0)&G235,\"\")","v":""},null,null,null,null,null,null,null,{"$f":"IF(C235<>\"\",VLOOKUP(C235,Desplegables!$A$3:$B$12,2,0),\"\")","v":""},{"$f":"IF(D235<>\"\",VLOOKUP(D235,Desplegables!$A$26:$C$38,3,0),\"\")","v":""},{"$f":"IF(C235<>\"\",VLOOKUP(C235,Desplegables!$A$3:$C$12,3,0),\"\")","v":""},{"$f":"IF(D235<>\"\",VLOOKUP(D235,Desplegables!$A$12:$B$38,2,0),\"\")","v":""}]
[{"$f":"IF(A235<>\"\",A235,\"\")","v":""},{"$f":"IF(B235<>\"\",B235,\"\")","v":""},{"$f":"IF(C235<>\"\",C235,\"\")","v":""},{"$f":"IF(D235<>\"\",D235,\"\")","v":""},null,null,null,{"$f":"IF(AND(F236<>\"\",G236<>\"\"),VLOOKUP(F236,Desplegables!$E$2:$F$275,2,0)&G236,\"\")","v":""},null,null,null,null,null,null,null,{"$f":"IF(C236<>\"\",VLOOKUP(C236,Desplegables!$A$3:$B$12,2,0),\"\")","v":""},{"$f":"IF(D236<>\"\",VLOOKUP(D236,Desplegables!$A$26:$C$38,3,0),\"\")","v":""},{"$f":"IF(C236<>\"\",VLOOKUP(C236,Desplegables!$A$3:$C$12,3,0),\"\")","v":""},{"$f":"IF(D236<>\"\",VLOOKUP(D236,Desplegables!$A$12:$B$38,2,0),\"\")","v":""}]
[{"$f":"IF(A235<>\"\",A235,\"\")","v":""},{"$f":"IF(B235<>\"\",B235,\"\")","v":""},{"$f":"IF(C235<>\"\",C235,\"\")","v":""},{"$f":"IF(D235<>\"\",D235,\"\")","v":""},null,null,null,{"$f":"IF(AND(F237<>\"\",G237<>\"\"),VLOOKUP(F237,Desplegables!$E$2:$F$275,2,0)&G237,\"\")","v":""},null,null,null,null,null,null,null,{"$f":"IF(C237<>\"\",VLOOKUP(C237,Desplegables!$A$3:$B$12,2,0),\"\")","v":""},{"$f":"IF(D237<>\"\",VLOOKUP(D237,Desplegables!$A$26:$C$38,3,0),\"\")","v":""},{"$f":"IF(C237<>\"\",VLOOKUP(C237,Desplegables!$A$3:$C$12,3,0),\"\")","v":""},{"$f":"IF(D237<>\"\",VLOOKUP(D237,Desplegables!$A$12:$B$38,2,0),\"\")","v":""}]
[null,null,null,null,null,null,null,{"$f":"IF(AND(F238<>\"\",G238<>\"\"),VLOOKUP(F238,Desplegables!$E$2:$F$275,2,0)&G238,\"\")","v":""},null,null,null,null,null,null,null,{"$f":"IF(C238<>\"\",VLOOKUP(C238,Desplegables!$A$3:$B$12,2,0),\"\")","v":""},{"$f":"IF(D238<>\"\",VLOOKUP(D238,Desplegables!$A$26:$C$38,3,0),\"\")","v":""},{"$f":"IF(C238<>\"\",VLOOKUP(C238,Desplegables!$A$3:$C$12,3,0),\"\")","v":""},{"$f":"IF(D238<>\"\",VLOOKUP(D238,Desplegables!$A$12:$B$38,2,0),\"\")","v":""}]
[{"$f":"IF(A238<>\"\",A238,\"\")","v":""},{"$f":"IF(B238<>\"\",B238,\"\")","v":""},{"$f":"IF(C238<>\"\",C238,\"\")","v":""},{"$f":"IF(D238<>\"\",D238,\"\")","v":""},null,null,null,{"$f":"IF(AND(F239<>\"\",G239<>\"\"),VLOOKUP(F239,Desplegables!$E$2:$F$275,2,0)&G239,\"\")","v":""},null,null,null,null,null,null,null,{"$f":"IF(C239<>\"\",VLOOKUP(C239,Desplegables!$A$3:$B$12,2,0),\"\")","v":""},{"$f":"IF(D239<>\"\",VLOOKUP(D239,Desplegables!$A$26:$C$38,3,0),\"\")","v":""},{"$f":"IF(C239<>\"\",VLOOKUP(C239,Desplegables!$A$3:$C$12,3,0),\"\")","v":""},{"$f":"IF(D239<>\"\",VLOOKUP(D239,Desplegables!$A$12:$B$38,2,0),\"\")","v":""}]
[{"$f":"IF(A238<>\"\",A238,\"\")","v":""},{"$f":"IF(B238<>\"\",B238,\"\")","v":""},{"$f":"IF(C238<>\"\",C238,\"\")","v":""},{"$f":"IF(D238<>\"\",D238,\"\")","v":""},null,null,null,{"$f":"IF(AND(F240<>\"\",G240<>\"\"),VLOOKUP(F240,Desplegables!$E$2:$F$275,2,0)&G240,\"\")","v":""},null,null,null,null,null,null,null,{"$f":"IF(C240<>\"\",VLOOKUP(C240,Desplegables!$A$3:$B$12,2,0),\"\")","v":""},{"$f":"IF(D240<>\"\",VLOOKUP(D240,Desplegables!$A$26:$C$38,3,0),\"\")","v":""},{"$f":"IF(C240<>\"\",VLOOKUP(C240,Desplegables!$A$3:$C$12,3,0),\"\")","v":""},{"$f":"IF(D240<>\"\",VLOOKUP(D240,Desplegables!$A$12:$B$38,2,0),\"\")","v":""}]
[null,null,null,null,null,null,null,{"$f":"IF(AND(F241<>\"\",G241<>\"\"),VLOOKUP(F241,Desplegables!$E$2:$F$275,2,0)&G241,\"\")","v":""},null,null,null,null,null,null,null,{"$f":"IF(C241<>\"\",VLOOKUP(C241,Desplegables!$A$3:$B$12,2,0),\"\")","v":""},{"$f":"IF(D241<>\"\",VLOOKUP(D241,Desplegables!$A$26:$C$38,3,0),\"\")","v":""},{"$f":"IF(C241<>\"\",VLOOKUP(C241,Desplegables!$A$3:$C$12,3,0),\"\")","v":""},{"$f":"IF(D241<>\"\",VLOOKUP(D241,Desplegables!$A$12:$B$38,2,0),\"\")","v":""}]
[{"$f":"IF(A241<>\"\",A241,\"\")","v":""},{"$f":"IF(B241<>\"\",B241,\"\")","v":""},{"$f":"IF(C241<>\"\",C241,\"\")","v":""},{"$f":"IF(D241<>\"\",D241,\"\")","v":""},null,null,null,{"$f":"IF(AND(F242<>\"\",G242<>\"\"),VLOOKUP(F242,Desplegables!$E$2:$F$275,2,0)&G242,\"\")","v":""},null,null,null,null,null,null,null,{"$f":"IF(C242<>\"\",VLOOKUP(C242,Desplegables!$A$3:$B$12,2,0),\"\")","v":""},{"$f":"IF(D242<>\"\",VLOOKUP(D242,Desplegables!$A$26:$C$38,3,0),\"\")","v":""},{"$f":"IF(C242<>\"\",VLOOKUP(C242,Desplegables!$A$3:$C$12,3,0),\"\")","v":""},{"$f":"IF(D242<>\"\",VLOOKUP(D242,Desplegables!$A$12:$B$38,2,0),\"\")","v":""}]
[{"$f":"IF(A241<>\"\",A241,\"\")","v":""},{"$f":"IF(B241<>\"\",B241,\"\")","v":""},{"$f":"IF(C241<>\"\",C241,\"\")","v":""},{"$f":"IF(D241<>\"\",D241,\"\")","v":""},null,null,null,{"$f":"IF(AND(F243<>\"\",G243<>\"\"),VLOOKUP(F243,Desplegables!$E$2:$F$275,2,0)&G243,\"\")","v":""},null,null,null,null,null,null,null,{"$f":"IF(C243<>\"\",VLOOKUP(C243,Desplegables!$A$3:$B$12,2,0),\"\")","v":""},{"$f":"IF(D243<>\"\",VLOOKUP(D243,Desplegables!$A$26:$C$38,3,0),\"\")","v":""},{"$f":"IF(C243<>\"\",VLOOKUP(C243,Desplegables!$A$3:$C$12,3,0),\"\")","v":""},{"$f":"IF(D243<>\"\",VLOOKUP(D243,Desplegables!$A$12:$B$38,2,0),\"\")","v":""}]
[null,null,null,null,null,null,null,{"$f":"IF(AND(F244<>\"\",G244<>\"\"),VLOOKUP(F244,Desplegables!$E$2:$F$275,2,0)&G244,\"\")","v":""},null,null,null,null,null,null,null,{"$f":"IF(C244<>\"\",VLOOKUP(C244,Desplegables!$A$3:$B$12,2,0),\"\")","v":""},{"$f":"IF(D244<>\"\",VLOOKUP(D244,Desplegables!$A$26:$C$38,3,0),\"\")","v":""},{"$f":"IF(C244<>\"\",VLOOKUP(C244,Desplegables!$A$3:$C$12,3,0),\"\")","v":""},{"$f":"IF(D244<>\"\",VLOOKUP(D244,Desplegables!$A$12:$B$38,2,0),\"\")","v":""}]
[{"$f":"IF(A244<>\"\",A244,\"\")","v":""},{"$f":"IF(B244<>\"\",B244,\"\")","v":""},{"$f":"IF(C244<>\"\",C244,\"\")","v":""},{"$f":"IF(D244<>\"\",D244,\"\")","v":""},null,null,null,{"$f":"IF(AND(F245<>\"\",G245<>\"\"),VLOOKUP(F245,Desplegables!$E$2:$F$275,2,0)&G245,\"\")","v":""},null,null,null,null,null,null,null,{"$f":"IF(C245<>\"\",VLOOKUP(C245,Desplegables!$A$3:$B$12,2,0),\"\")","v":""},{"$f":"IF(D245<>\"\",VLOOKUP(D245,Desplegables!$A$26:$C$38,3,0),\"\")","v":""},{"$f":"IF(C245<>\"\",VLOOKUP(C245,Desplegables!$A$3:$C$12,3,0),\"\")","v":""},{"$f":"IF(D245<>\"\",VLOOKUP(D245,Desplegables!$A$12:$B$38,2,0),\"\")","v":""}]
[{"$f":"IF(A244<>\"\",A244,\"\")","v":""},{"$f":"IF(B244<>\"\",B244,\"\")","v":""},{"$f":"IF(C244<>\"\",C244,\"\")","v":""},{"$f":"IF(D244<>\"\",D244,\"\")","v":""},null,null,null,{"$f":"IF(AND(F246<>\"\",G246<>\"\"),VLOOKUP(F246,Desplegables!$E$2:$F$275,2,0)&G246,\"\")","v":""},null,null,null,null,null,null,null,{"$f":"IF(C246<>\"\",VLOOKUP(C246,Desplegables!$A$3:$B$12,2,0),\"\")","v":""},{"$f":"IF(D246<>\"\",VLOOKUP(D246,Desplegables!$A$26:$C$38,3,0),\"\")","v":""},{"$f":"IF(C246<>\"\",VLOOKUP(C246,Desplegables!$A$3:$C$12,3,0),\"\")","v":""},{"$f":"IF(D246<>\"\",VLOOKUP(D246,Desplegables!$A$12:$B$38,2,0),\"\")","v":""}]
[null,null,null,null,null,null,null,{"$f":"IF(AND(F247<>\"\",G247<>\"\"),VLOOKUP(F247,Desplegables!$E$2:$F$275,2,0)&G247,\"\")","v":""},null,null,null,null,null,null,null,{"$f":"IF(C247<>\"\",VLOOKUP(C247,Desplegables!$A$3:$B$12,2,0),\"\")","v":""},{"$f":"IF(D247<>\"\",VLOOKUP(D247,Desplegables!$A$26:$C$38,3,0),\"\")","v":""},{"$f":"IF(C247<>\"\",VLOOKUP(C247,Desplegables!$A$3:$C$12,3,0),\"\")","v":""},{"$f":"IF(D247<>\"\",VLOOKUP(D247,Desplegables!$A$12:$B$38,2,0),\"\")","v":""}]
[{"$f":"IF(A247<>\"\",A247,\"\")","v":""},{"$f":"IF(B247<>\"\",B247,\"\")","v":""},{"$f":"IF(C247<>\"\",C247,\"\")","v":""},{"$f":"IF(D247<>\"\",D247,\"\")","v":""},null,null,null,{"$f":"IF(AND(F248<>\"\",G248<>\"\"),VLOOKUP(F248,Desplegables!$E$2:$F$275,2,0)&G248,\"\")","v":""},null,null,null,null,null,null,null,{"$f":"IF(C248<>\"\",VLOOKUP(C248,Desplegables!$A$3:$B$12,2,0),\"\")","v":""},{"$f":"IF(D248<>\"\",VLOOKUP(D248,Desplegables!$A$26:$C$38,3,0),\"\")","v":""},{"$f":"IF(C248<>\"\",VLOOKUP(C248,Desplegables!$A$3:$C$12,3,0),\"\")","v":""},{"$f":"IF(D248<>\"\",VLOOKUP(D248,Desplegables!$A$12:$B$38,2,0),\"\")","v":""}]
[{"$f":"IF(A247<>\"\",A247,\"\")","v":""},{"$f":"IF(B247<>\"\",B247,\"\")","v":""},{"$f":"IF(C247<>\"\",C247,\"\")","v":""},{"$f":"IF(D247<>\"\",D247,\"\")","v":""},null,null,null,{"$f":"IF(AND(F249<>\"\",G249<>\"\"),VLOOKUP(F249,Desplegables!$E$2:$F$275,2,0)&G249,\"\")","v":""},null,null,null,null,null,null,null,{"$f":"IF(C249<>\"\",VLOOKUP(C249,Desplegables!$A$3:$B$12,2,0),\"\")","v":""},{"$f":"IF(D249<>\"\",VLOOKUP(D249,Desplegables!$A$26:$C$38,3,0),\"\")","v":""},{"$f":"IF(C249<>\"\",VLOOKUP(C249,Desplegables!$A$3:$C$12,3,0),\"\")","v":""},{"$f":"IF(D249<>\"\",VLOOKUP(D249,Desplegables!$A$12:$B$38,2,0),\"\")","v":""}]
[null,null,null,null,null,null,null,{"$f":"IF(AND(F250<>\"\",G250<>\"\"),VLOOKUP(F250,Desplegables!$E$2:$F$275,2,0)&G250,\"\")","v":""},null,null,null,null,null,null,null,{"$f":"IF(C250<>\"\",VLOOKUP(C250,Desplegables!$A$3:$B$12,2,0),\"\")","v":""},{"$f":"IF(D250<>\"\",VLOOKUP(D250,Desplegables!$A$26:$C$38,3,0),\"\")","v":""},{"$f":"IF(C250<>\"\",VLOOKUP(C250,Desplegables!$A$3:$C$12,3,0),\"\")","v":""},{"$f":"IF(D250<>\"\",VLOOKUP(D250,Desplegables!$A$12:$B$38,2,0),\"\")","v":""}]
[{"$f":"IF(A250<>\"\",A250,\"\")","v":""},{"$f":"IF(B250<>\"\",B250,\"\")","v":""},{"$f":"IF(C250<>\"\",C250,\"\")","v":""},{"$f":"IF(D250<>\"\",D250,\"\")","v":""},null,null,null,{"$f":"IF(AND(F251<>\"\",G251<>\"\"),VLOOKUP(F251,Desplegables!$E$2:$F$275,2,0)&G251,\"\")","v":""},null,null,null,null,null,null,null,{"$f":"IF(C251<>\"\",VLOOKUP(C251,Desplegables!$A$3:$B$12,2,0),\"\")","v":""},{"$f":"IF(D251<>\"\",VLOOKUP(D251,Desplegables!$A$26:$C$38,3,0),\"\")","v":""},{"$f":"IF(C251<>\"\",VLOOKUP(C251,Desplegables!$A$3:$C$12,3,0),\"\")","v":""},{"$f":"IF(D251<>\"\",VLOOKUP(D251,Desplegables!$A$12:$B$38,2,0),\"\")","v":""}]
[{"$f":"IF(A250<>\"\",A250,\"\")","v":""},{"$f":"IF(B250<>\"\",B250,\"\")","v":""},{"$f":"IF(C250<>\"\",C250,\"\")","v":""},{"$f":"IF(D250<>\"\",D250,\"\")","v":""},null,null,null,{"$f":"IF(AND(F252<>\"\",G252<>\"\"),VLOOKUP(F252,Desplegables!$E$2:$F$275,2,0)&G252,\"\")","v":""},null,null,null,null,null,null,null,{"$f":"IF(C252<>\"\",VLOOKUP(C252,Desplegables!$A$3:$B$12,2,0),\"\")","v":""},{"$f":"IF(D252<>\"\",VLOOKUP(D252,Desplegables!$A$26:$C$38,3,0),\"\")","v":""},{"$f":"IF(C252<>\"\",VLOOKUP(C252,Desplegables!$A$3:$C$12,3,0),\"\")","v":""},{"$f":"IF(D252<>\"\",VLOOKUP(D252,Desplegables!$A$12:$B$38,2,0),\"\")","v":""}]
[null,null,null,null,null,null,null,{"$f":"IF(AND(F253<>\"\",G253<>\"\"),VLOOKUP(F253,Desplegables!$E$2:$F$275,2,0)&G253,\"\")","v":""},null,null,null,null,null,null,null,{"$f":"IF(C253<>\"\",VLOOKUP(C253,Desplegables!$A$3:$B$12,2,0),\"\")","v":""},{"$f":"IF(D253<>\"\",VLOOKUP(D253,Desplegables!$A$26:$C$38,3,0),\"\")","v":""},{"$f":"IF(C253<>\"\",VLOOKUP(C253,Desplegables!$A$3:$C$12,3,0),\"\")","v":""},{"$f":"IF(D253<>\"\",VLOOKUP(D253,Desplegables!$A$12:$B$38,2,0),\"\")","v":""}]
[{"$f":"IF(A253<>\"\",A253,\"\")","v":""},{"$f":"IF(B253<>\"\",B253,\"\")","v":""},{"$f":"IF(C253<>\"\",C253,\"\")","v":""},{"$f":"IF(D253<>\"\",D253,\"\")","v":""},null,null,null,{"$f":"IF(AND(F254<>\"\",G254<>\"\"),VLOOKUP(F254,Desplegables!$E$2:$F$275,2,0)&G254,\"\")","v":""},null,null,null,null,null,null,null,{"$f":"IF(C254<>\"\",VLOOKUP(C254,Desplegables!$A$3:$B$12,2,0),\"\")","v":""},{"$f":"IF(D254<>\"\",VLOOKUP(D254,Desplegables!$A$26:$C$38,3,0),\"\")","v":""},{"$f":"IF(C254<>\"\",VLOOKUP(C254,Desplegables!$A$3:$C$12,3,0),\"\")","v":""},{"$f":"IF(D254<>\"\",VLOOKUP(D254,Desplegables!$A$12:$B$38,2,0),\"\")","v":""}]
[{"$f":"IF(A253<>\"\",A253,\"\")","v":""},{"$f":"IF(B253<>\"\",B253,\"\")","v":""},{"$f":"IF(C253<>\"\",C253,\"\")","v":""},{"$f":"IF(D253<>\"\",D253,\"\")","v":""},null,null,null,{"$f":"IF(AND(F255<>\"\",G255<>\"\"),VLOOKUP(F255,Desplegables!$E$2:$F$275,2,0)&G255,\"\")","v":""},null,null,null,null,null,null,null,{"$f":"IF(C255<>\"\",VLOOKUP(C255,Desplegables!$A$3:$B$12,2,0),\"\")","v":""},{"$f":"IF(D255<>\"\",VLOOKUP(D255,Desplegables!$A$26:$C$38,3,0),\"\")","v":""},{"$f":"IF(C255<>\"\",VLOOKUP(C255,Desplegables!$A$3:$C$12,3,0),\"\")","v":""},{"$f":"IF(D255<>\"\",VLOOKUP(D255,Desplegables!$A$12:$B$38,2,0),\"\")","v":""}]
[null,null,null,null,null,null,null,{"$f":"IF(AND(F256<>\"\",G256<>\"\"),VLOOKUP(F256,Desplegables!$E$2:$F$275,2,0)&G256,\"\")","v":""},null,null,null,null,null,null,null,{"$f":"IF(C256<>\"\",VLOOKUP(C256,Desplegables!$A$3:$B$12,2,0),\"\")","v":""},{"$f":"IF(D256<>\"\",VLOOKUP(D256,Desplegables!$A$26:$C$38,3,0),\"\")","v":""},{"$f":"IF(C256<>\"\",VLOOKUP(C256,Desplegables!$A$3:$C$12,3,0),\"\")","v":""},{"$f":"IF(D256<>\"\",VLOOKUP(D256,Desplegables!$A$12:$B$38,2,0),\"\")","v":""}]
[{"$f":"IF(A256<>\"\",A256,\"\")","v":""},{"$f":"IF(B256<>\"\",B256,\"\")","v":""},{"$f":"IF(C256<>\"\",C256,\"\")","v":""},{"$f":"IF(D256<>\"\",D256,\"\")","v":""},null,null,null,{"$f":"IF(AND(F257<>\"\",G257<>\"\"),VLOOKUP(F257,Desplegables!$E$2:$F$275,2,0)&G257,\"\")","v":""},null,null,null,null,null,null,null,{"$f":"IF(C257<>\"\",VLOOKUP(C257,Desplegables!$A$3:$B$12,2,0),\"\")","v":""},{"$f":"IF(D257<>\"\",VLOOKUP(D257,Desplegables!$A$26:$C$38,3,0),\"\")","v":""},{"$f":"IF(C257<>\"\",VLOOKUP(C257,Desplegables!$A$3:$C$12,3,0),\"\")","v":""},{"$f":"IF(D257<>\"\",VLOOKUP(D257,Desplegables!$A$12:$B$38,2,0),\"\")","v":""}]
[{"$f":"IF(A256<>\"\",A256,\"\")","v":""},{"$f":"IF(B256<>\"\",B256,\"\")","v":""},{"$f":"IF(C256<>\"\",C256,\"\")","v":""},{"$f":"IF(D256<>\"\",D256,\"\")","v":""},null,null,null,{"$f":"IF(AND(F258<>\"\",G258<>\"\"),VLOOKUP(F258,Desplegables!$E$2:$F$275,2,0)&G258,\"\")","v":""},null,null,null,null,null,null,null,{"$f":"IF(C258<>\"\",VLOOKUP(C258,Desplegables!$A$3:$B$12,2,0),\"\")","v":""},{"$f":"IF(D258<>\"\",VLOOKUP(D258,Desplegables!$A$26:$C$38,3,0),\"\")","v":""},{"$f":"IF(C258<>\"\",VLOOKUP(C258,Desplegables!$A$3:$C$12,3,0),\"\")","v":""},{"$f":"IF(D258<>\"\",VLOOKUP(D258,Desplegables!$A$12:$B$38,2,0),\"\")","v":""}]
[null,null,null,null,null,null,null,{"$f":"IF(AND(F259<>\"\",G259<>\"\"),VLOOKUP(F259,Desplegables!$E$2:$F$275,2,0)&G259,\"\")","v":""},null,null,null,null,null,null,null,{"$f":"IF(C259<>\"\",VLOOKUP(C259,Desplegables!$A$3:$B$12,2,0),\"\")","v":""},{"$f":"IF(D259<>\"\",VLOOKUP(D259,Desplegables!$A$26:$C$38,3,0),\"\")","v":""},{"$f":"IF(C259<>\"\",VLOOKUP(C259,Desplegables!$A$3:$C$12,3,0),\"\")","v":""},{"$f":"IF(D259<>\"\",VLOOKUP(D259,Desplegables!$A$12:$B$38,2,0),\"\")","v":""}]
[{"$f":"IF(A259<>\"\",A259,\"\")","v":""},{"$f":"IF(B259<>\"\",B259,\"\")","v":""},{"$f":"IF(C259<>\"\",C259,\"\")","v":""},{"$f":"IF(D259<>\"\",D259,\"\")","v":""},null,null,null,{"$f":"IF(AND(F260<>\"\",G260<>\"\"),VLOOKUP(F260,Desplegables!$E$2:$F$275,2,0)&G260,\"\")","v":""},null,null,null,null,null,null,null,{"$f":"IF(C260<>\"\",VLOOKUP(C260,Desplegables!$A$3:$B$12,2,0),\"\")","v":""},{"$f":"IF(D260<>\"\",VLOOKUP(D260,Desplegables!$A$26:$C$38,3,0),\"\")","v":""},{"$f":"IF(C260<>\"\",VLOOKUP(C260,Desplegables!$A$3:$C$12,3,0),\"\")","v":""},{"$f":"IF(D260<>\"\",VLOOKUP(D260,Desplegables!$A$12:$B$38,2,0),\"\")","v":""}]
[{"$f":"IF(A259<>\"\",A259,\"\")","v":""},{"$f":"IF(B259<>\"\",B259,\"\")","v":""},{"$f":"IF(C259<>\"\",C259,\"\")","v":""},{"$f":"IF(D259<>\"\",D259,\"\")","v":""},null,null,null,{"$f":"IF(AND(F261<>\"\",G261<>\"\"),VLOOKUP(F261,Desplegables!$E$2:$F$275,2,0)&G261,\"\")","v":""},null,null,null,null,null,null,null,{"$f":"IF(C261<>\"\",VLOOKUP(C261,Desplegables!$A$3:$B$12,2,0),\"\")","v":""},{"$f":"IF(D261<>\"\",VLOOKUP(D261,Desplegables!$A$26:$C$38,3,0),\"\")","v":""},{"$f":"IF(C261<>\"\",VLOOKUP(C261,Desplegables!$A$3:$C$12,3,0),\"\")","v":""},{"$f":"IF(D261<>\"\",VLOOKUP(D261,Desplegables!$A$12:$B$38,2,0),\"\")","v":""}]
[null,null,null,null,null,null,null,{"$f":"IF(AND(F262<>\"\",G262<>\"\"),VLOOKUP(F262,Desplegables!$E$2:$F$275,2,0)&G262,\"\")","v":""},null,null,null,null,null,null,null,{"$f":"IF(C262<>\"\",VLOOKUP(C262,Desplegables!$A$3:$B$12,2,0),\"\")","v":""},{"$f":"IF(D262<>\"\",VLOOKUP(D262,Desplegables!$A$26:$C$38,3,0),\"\")","v":""},{"$f":"IF(C262<>\"\",VLOOKUP(C262,Desplegables!$A$3:$C$12,3,0),\"\")","v":""},{"$f":"IF(D262<>\"\",VLOOKUP(D262,Desplegables!$A$12:$B$38,2,0),\"\")","v":""}]
[{"$f":"IF(A262<>\"\",A262,\"\")","v":""},{"$f":"IF(B262<>\"\",B262,\"\")","v":""},{"$f":"IF(C262<>\"\",C262,\"\")","v":""},{"$f":"IF(D262<>\"\",D262,\"\")","v":""},null,null,null,{"$f":"IF(AND(F263<>\"\",G263<>\"\"),VLOOKUP(F263,Desplegables!$E$2:$F$275,2,0)&G263,\"\")","v":""},null,null,null,null,null,null,null,{"$f":"IF(C263<>\"\",VLOOKUP(C263,Desplegables!$A$3:$B$12,2,0),\"\")","v":""},{"$f":"IF(D263<>\"\",VLOOKUP(D263,Desplegables!$A$26:$C$38,3,0),\"\")","v":""},{"$f":"IF(C263<>\"\",VLOOKUP(C263,Desplegables!$A$3:$C$12,3,0),\"\")","v":""},{"$f":"IF(D263<>\"\",VLOOKUP(D263,Desplegables!$A$12:$B$38,2,0),\"\")","v":""}]
[{"$f":"IF(A262<>\"\",A262,\"\")","v":""},{"$f":"IF(B262<>\"\",B262,\"\")","v":""},{"$f":"IF(C262<>\"\",C262,\"\")","v":""},{"$f":"IF(D262<>\"\",D262,\"\")","v":""},null,null,null,{"$f":"IF(AND(F264<>\"\",G264<>\"\"),VLOOKUP(F264,Desplegables!$E$2:$F$275,2,0)&G264,\"\")","v":""},null,null,null,null,null,null,null,{"$f":"IF(C264<>\"\",VLOOKUP(C264,Desplegables!$A$3:$B$12,2,0),\"\")","v":""},{"$f":"IF(D264<>\"\",VLOOKUP(D264,Desplegables!$A$26:$C$38,3,0),\"\")","v":""},{"$f":"IF(C264<>\"\",VLOOKUP(C264,Desplegables!$A$3:$C$12,3,0),\"\")","v":""},{"$f":"IF(D264<>\"\",VLOOKUP(D264,Desplegables!$A$12:$B$38,2,0),\"\")","v":""}]
[null,null,null,null,null,null,null,{"$f":"IF(AND(F265<>\"\",G265<>\"\"),VLOOKUP(F265,Desplegables!$E$2:$F$275,2,0)&G265,\"\")","v":""},null,null,null,null,null,null,null,{"$f":"IF(C265<>\"\",VLOOKUP(C265,Desplegables!$A$3:$B$12,2,0),\"\")","v":""},{"$f":"IF(D265<>\"\",VLOOKUP(D265,Desplegables!$A$26:$C$38,3,0),\"\")","v":""},{"$f":"IF(C265<>\"\",VLOOKUP(C265,Desplegables!$A$3:$C$12,3,0),\"\")","v":""},{"$f":"IF(D265<>\"\",VLOOKUP(D265,Desplegables!$A$12:$B$38,2,0),\"\")","v":""}]
[{"$f":"IF(A265<>\"\",A265,\"\")","v":""},{"$f":"IF(B265<>\"\",B265,\"\")","v":""},{"$f":"IF(C265<>\"\",C265,\"\")","v":""},{"$f":"IF(D265<>\"\",D265,\"\")","v":""},null,null,null,{"$f":"IF(AND(F266<>\"\",G266<>\"\"),VLOOKUP(F266,Desplegables!$E$2:$F$275,2,0)&G266,\"\")","v":""},null,null,null,null,null,null,null,{"$f":"IF(C266<>\"\",VLOOKUP(C266,Desplegables!$A$3:$B$12,2,0),\"\")","v":""},{"$f":"IF(D266<>\"\",VLOOKUP(D266,Desplegables!$A$26:$C$38,3,0),\"\")","v":""},{"$f":"IF(C266<>\"\",VLOOKUP(C266,Desplegables!$A$3:$C$12,3,0),\"\")","v":""},{"$f":"IF(D266<>\"\",VLOOKUP(D266,Desplegables!$A$12:$B$38,2,0),\"\")","v":""}]
[{"$f":"IF(A265<>\"\",A265,\"\")","v":""},{"$f":"IF(B265<>\"\",B265,\"\")","v":""},{"$f":"IF(C265<>\"\",C265,\"\")","v":""},{"$f":"IF(D265<>\"\",D265,\"\")","v":""},null,null,null,{"$f":"IF(AND(F267<>\"\",G267<>\"\"),VLOOKUP(F267,Desplegables!$E$2:$F$275,2,0)&G267,\"\")","v":""},null,null,null,null,null,null,null,{"$f":"IF(C267<>\"\",VLOOKUP(C267,Desplegables!$A$3:$B$12,2,0),\"\")","v":""},{"$f":"IF(D267<>\"\",VLOOKUP(D267,Desplegables!$A$26:$C$38,3,0),\"\")","v":""},{"$f":"IF(C267<>\"\",VLOOKUP(C267,Desplegables!$A$3:$C$12,3,0),\"\")","v":""},{"$f":"IF(D267<>\"\",VLOOKUP(D267,Desplegables!$A$12:$B$38,2,0),\"\")","v":""}]
[null,null,null,null,null,null,null,{"$f":"IF(AND(F268<>\"\",G268<>\"\"),VLOOKUP(F268,Desplegables!$E$2:$F$275,2,0)&G268,\"\")","v":""},null,null,null,null,null,null,null,{"$f":"IF(C268<>\"\",VLOOKUP(C268,Desplegables!$A$3:$B$12,2,0),\"\")","v":""},{"$f":"IF(D268<>\"\",VLOOKUP(D268,Desplegables!$A$26:$C$38,3,0),\"\")","v":""},{"$f":"IF(C268<>\"\",VLOOKUP(C268,Desplegables!$A$3:$C$12,3,0),\"\")","v":""},{"$f":"IF(D268<>\"\",VLOOKUP(D268,Desplegables!$A$12:$B$38,2,0),\"\")","v":""}]
[{"$f":"IF(A268<>\"\",A268,\"\")","v":""},{"$f":"IF(B268<>\"\",B268,\"\")","v":""},{"$f":"IF(C268<>\"\",C268,\"\")","v":""},{"$f":"IF(D268<>\"\",D268,\"\")","v":""},null,null,null,{"$f":"IF(AND(F269<>\"\",G269<>\"\"),VLOOKUP(F269,Desplegables!$E$2:$F$275,2,0)&G269,\"\")","v":""},null,null,null,null,null,null,null,{"$f":"IF(C269<>\"\",VLOOKUP(C269,Desplegables!$A$3:$B$12,2,0),\"\")","v":""},{"$f":"IF(D269<>\"\",VLOOKUP(D269,Desplegables!$A$26:$C$38,3,0),\"\")","v":""},{"$f":"IF(C269<>\"\",VLOOKUP(C269,Desplegables!$A$3:$C$12,3,0),\"\")","v":""},{"$f":"IF(D269<>\"\",VLOOKUP(D269,Desplegables!$A$12:$B$38,2,0),\"\")","v":""}]
[{"$f":"IF(A268<>\"\",A268,\"\")","v":""},{"$f":"IF(B268<>\"\",B268,\"\")","v":""},{"$f":"IF(C268<>\"\",C268,\"\")","v":""},{"$f":"IF(D268<>\"\",D268,\"\")","v":""},null,null,null,{"$f":"IF(AND(F270<>\"\",G270<>\"\"),VLOOKUP(F270,Desplegables!$E$2:$F$275,2,0)&G270,\"\")","v":""},null,null,null,null,null,null,null,{"$f":"IF(C270<>\"\",VLOOKUP(C270,Desplegables!$A$3:$B$12,2,0),\"\")","v":""},{"$f":"IF(D270<>\"\",VLOOKUP(D270,Desplegables!$A$26:$C$38,3,0),\"\")","v":""},{"$f":"IF(C270<>\"\",VLOOKUP(C270,Desplegables!$A$3:$C$12,3,0),\"\")","v":""},{"$f":"IF(D270<>\"\",VLOOKUP(D270,Desplegables!$A$12:$B$38,2,0),\"\")","v":""}]
[null,null,null,null,null,null,null,{"$f":"IF(AND(F271<>\"\",G271<>\"\"),VLOOKUP(F271,Desplegables!$E$2:$F$275,2,0)&G271,\"\")","v":""},null,null,null,null,null,null,null,{"$f":"IF(C271<>\"\",VLOOKUP(C271,Desplegables!$A$3:$B$12,2,0),\"\")","v":""},{"$f":"IF(D271<>\"\",VLOOKUP(D271,Desplegables!$A$26:$C$38,3,0),\"\")","v":""},{"$f":"IF(C271<>\"\",VLOOKUP(C271,Desplegables!$A$3:$C$12,3,0),\"\")","v":""},{"$f":"IF(D271<>\"\",VLOOKUP(D271,Desplegables!$A$12:$B$38,2,0),\"\")","v":""}]
[{"$f":"IF(A271<>\"\",A271,\"\")","v":""},{"$f":"IF(B271<>\"\",B271,\"\")","v":""},{"$f":"IF(C271<>\"\",C271,\"\")","v":""},{"$f":"IF(D271<>\"\",D271,\"\")","v":""},null,null,null,{"$f":"IF(AND(F272<>\"\",G272<>\"\"),VLOOKUP(F272,Desplegables!$E$2:$F$275,2,0)&G272,\"\")","v":""},null,null,null,null,null,null,null,{"$f":"IF(C272<>\"\",VLOOKUP(C272,Desplegables!$A$3:$B$12,2,0),\"\")","v":""},{"$f":"IF(D272<>\"\",VLOOKUP(D272,Desplegables!$A$26:$C$38,3,0),\"\")","v":""},{"$f":"IF(C272<>\"\",VLOOKUP(C272,Desplegables!$A$3:$C$12,3,0),\"\")","v":""},{"$f":"IF(D272<>\"\",VLOOKUP(D272,Desplegables!$A$12:$B$38,2,0),\"\")","v":""}]
[{"$f":"IF(A271<>\"\",A271,\"\")","v":""},{"$f":"IF(B271<>\"\",B271,\"\")","v":""},{"$f":"IF(C271<>\"\",C271,\"\")","v":""},{"$f":"IF(D271<>\"\",D271,\"\")","v":""},null,null,null,{"$f":"IF(AND(F273<>\"\",G273<>\"\"),VLOOKUP(F273,Desplegables!$E$2:$F$275,2,0)&G273,\"\")","v":""},null,null,null,null,null,null,null,{"$f":"IF(C273<>\"\",VLOOKUP(C273,Desplegables!$A$3:$B$12,2,0),\"\")","v":""},{"$f":"IF(D273<>\"\",VLOOKUP(D273,Desplegables!$A$26:$C$38,3,0),\"\")","v":""},{"$f":"IF(C273<>\"\",VLOOKUP(C273,Desplegables!$A$3:$C$12,3,0),\"\")","v":""},{"$f":"IF(D273<>\"\",VLOOKUP(D273,Desplegables!$A$12:$B$38,2,0),\"\")","v":""}]
[null,null,null,null,null,null,null,{"$f":"IF(AND(F274<>\"\",G274<>\"\"),VLOOKUP(F274,Desplegables!$E$2:$F$275,2,0)&G274,\"\")","v":""},null,null,null,null,null,null,null,{"$f":"IF(C274<>\"\",VLOOKUP(C274,Desplegables!$A$3:$B$12,2,0),\"\")","v":""},{"$f":"IF(D274<>\"\",VLOOKUP(D274,Desplegables!$A$26:$C$38,3,0),\"\")","v":""},{"$f":"IF(C274<>\"\",VLOOKUP(C274,Desplegables!$A$3:$C$12,3,0),\"\")","v":""},{"$f":"IF(D274<>\"\",VLOOKUP(D274,Desplegables!$A$12:$B$38,2,0),\"\")","v":""}]
[{"$f":"IF(A274<>\"\",A274,\"\")","v":""},{"$f":"IF(B274<>\"\",B274,\"\")","v":""},{"$f":"IF(C274<>\"\",C274,\"\")","v":""},{"$f":"IF(D274<>\"\",D274,\"\")","v":""},null,null,null,{"$f":"IF(AND(F275<>\"\",G275<>\"\"),VLOOKUP(F275,Desplegables!$E$2:$F$275,2,0)&G275,\"\")","v":""},null,null,null,null,null,null,null,{"$f":"IF(C275<>\"\",VLOOKUP(C275,Desplegables!$A$3:$B$12,2,0),\"\")","v":""},{"$f":"IF(D275<>\"\",VLOOKUP(D275,Desplegables!$A$26:$C$38,3,0),\"\")","v":""},{"$f":"IF(C275<>\"\",VLOOKUP(C275,Desplegables!$A$3:$C$12,3,0),\"\")","v":""},{"$f":"IF(D275<>\"\",VLOOKUP(D275,Desplegables!$A$12:$B$38,2,0),\"\")","v":""}]
[{"$f":"IF(A274<>\"\",A274,\"\")","v":""},{"$f":"IF(B274<>\"\",B274,\"\")","v":""},{"$f":"IF(C274<>\"\",C274,\"\")","v":""},{"$f":"IF(D274<>\"\",D274,\"\")","v":""},null,null,null,{"$f":"IF(AND(F276<>\"\",G276<>\"\"),VLOOKUP(F276,Desplegables!$E$2:$F$275,2,0)&G276,\"\")","v":""},null,null,null,null,null,null,null,{"$f":"IF(C276<>\"\",VLOOKUP(C276,Desplegables!$A$3:$B$12,2,0),\"\")","v":""},{"$f":"IF(D276<>\"\",VLOOKUP(D276,Desplegables!$A$26:$C$38,3,0),\"\")","v":""},{"$f":"IF(C276<>\"\",VLOOKUP(C276,Desplegables!$A$3:$C$12,3,0),\"\")","v":""},{"$f":"IF(D276<>\"\",VLOOKUP(D276,Desplegables!$A$12:$B$38,2,0),\"\")","v":""}]
[null,null,null,null,null,null,null,{"$f":"IF(AND(F277<>\"\",G277<>\"\"),VLOOKUP(F277,Desplegables!$E$2:$F$275,2,0)&G277,\"\")","v":""},null,null,null,null,null,null,null,{"$f":"IF(C277<>\"\",VLOOKUP(C277,Desplegables!$A$3:$B$12,2,0),\"\")","v":""},{"$f":"IF(D277<>\"\",VLOOKUP(D277,Desplegables!$A$26:$C$38,3,0),\"\")","v":""},{"$f":"IF(C277<>\"\",VLOOKUP(C277,Desplegables!$A$3:$C$12,3,0),\"\")","v":""},{"$f":"IF(D277<>\"\",VLOOKUP(D277,Desplegables!$A$12:$B$38,2,0),\"\")","v":""}]
[{"$f":"IF(A277<>\"\",A277,\"\")","v":""},{"$f":"IF(B277<>\"\",B277,\"\")","v":""},{"$f":"IF(C277<>\"\",C277,\"\")","v":""},{"$f":"IF(D277<>\"\",D277,\"\")","v":""},null,null,null,{"$f":"IF(AND(F278<>\"\",G278<>\"\"),VLOOKUP(F278,Desplegables!$E$2:$F$275,2,0)&G278,\"\")","v":""},null,null,null,null,null,null,null,{"$f":"IF(C278<>\"\",VLOOKUP(C278,Desplegables!$A$3:$B$12,2,0),\"\")","v":""},{"$f":"IF(D278<>\"\",VLOOKUP(D278,Desplegables!$A$26:$C$38,3,0),\"\")","v":""},{"$f":"IF(C278<>\"\",VLOOKUP(C278,Desplegables!$A$3:$C$12,3,0),\"\")","v":""},{"$f":"IF(D278<>\"\",VLOOKUP(D278,Desplegables!$A$12:$B$38,2,0),\"\")","v":""}]
[{"$f":"IF(A277<>\"\",A277,\"\")","v":""},{"$f":"IF(B277<>\"\",B277,\"\")","v":""},{"$f":"IF(C277<>\"\",C277,\"\")","v":""},{"$f":"IF(D277<>\"\",D277,\"\")","v":""},null,null,null,{"$f":"IF(AND(F279<>\"\",G279<>\"\"),VLOOKUP(F279,Desplegables!$E$2:$F$275,2,0)&G279,\"\")","v":""},null,null,null,null,null,null,null,{"$f":"IF(C279<>\"\",VLOOKUP(C279,Desplegables!$A$3:$B$12,2,0),\"\")","v":""},{"$f":"IF(D279<>\"\",VLOOKUP(D279,Desplegables!$A$26:$C$38,3,0),\"\")","v":""},{"$f":"IF(C279<>\"\",VLOOKUP(C279,Desplegables!$A$3:$C$12,3,0),\"\")","v":""},{"$f":"IF(D279<>\"\",VLOOKUP(D279,Desplegables!$A$12:$B$38,2,0),\"\")","v":""}]
[null,null,null,null,null,null,null,{"$f":"IF(AND(F280<>\"\",G280<>\"\"),VLOOKUP(F280,Desplegables!$E$2:$F$275,2,0)&G280,\"\")","v":""},null,null,null,null,null,null,null,{"$f":"IF(C280<>\"\",VLOOKUP(C280,Desplegables!$A$3:$B$12,2,0),\"\")","v":""},{"$f":"IF(D280<>\"\",VLOOKUP(D280,Desplegables!$A$26:$C$38,3,0),\"\")","v":""},{"$f":"IF(C280<>\"\",VLOOKUP(C280,Desplegables!$A$3:$C$12,3,0),\"\")","v":""},{"$f":"IF(D280<>\"\",VLOOKUP(D280,Desplegables!$A$12:$B$38,2,0),\"\")","v":""}]
[{"$f":"IF(A280<>\"\",A280,\"\")","v":""},{"$f":"IF(B280<>\"\",B280,\"\")","v":""},{"$f":"IF(C280<>\"\",C280,\"\")","v":""},{"$f":"IF(D280<>\"\",D280,\"\")","v":""},null,null,null,{"$f":"IF(AND(F281<>\"\",G281<>\"\"),VLOOKUP(F281,Desplegables!$E$2:$F$275,2,0)&G281,\"\")","v":""},null,null,null,null,null,null,null,{"$f":"IF(C281<>\"\",VLOOKUP(C281,Desplegables!$A$3:$B$12,2,0),\"\")","v":""},{"$f":"IF(D281<>\"\",VLOOKUP(D281,Desplegables!$A$26:$C$38,3,0),\"\")","v":""},{"$f":"IF(C281<>\"\",VLOOKUP(C281,Desplegables!$A$3:$C$12,3,0),\"\")","v":""},{"$f":"IF(D281<>\"\",VLOOKUP(D281,Desplegables!$A$12:$B$38,2,0),\"\")","v":""}]
[{"$f":"IF(A280<>\"\",A280,\"\")","v":""},{"$f":"IF(B280<>\"\",B280,\"\")","v":""},{"$f":"IF(C280<>\"\",C280,\"\")","v":""},{"$f":"IF(D280<>\"\",D280,\"\")","v":""},null,null,null,{"$f":"IF(AND(F282<>\"\",G282<>\"\"),VLOOKUP(F282,Desplegables!$E$2:$F$275,2,0)&G282,\"\")","v":""},null,null,null,null,null,null,null,{"$f":"IF(C282<>\"\",VLOOKUP(C282,Desplegables!$A$3:$B$12,2,0),\"\")","v":""},{"$f":"IF(D282<>\"\",VLOOKUP(D282,Desplegables!$A$26:$C$38,3,0),\"\")","v":""},{"$f":"IF(C282<>\"\",VLOOKUP(C282,Desplegables!$A$3:$C$12,3,0),\"\")","v":""},{"$f":"IF(D282<>\"\",VLOOKUP(D282,Desplegables!$A$12:$B$38,2,0),\"\")","v":""}]
[null,null,null,null,null,null,null,{"$f":"IF(AND(F283<>\"\",G283<>\"\"),VLOOKUP(F283,Desplegables!$E$2:$F$275,2,0)&G283,\"\")","v":""},null,null,null,null,null,null,null,{"$f":"IF(C283<>\"\",VLOOKUP(C283,Desplegables!$A$3:$B$12,2,0),\"\")","v":""},{"$f":"IF(D283<>\"\",VLOOKUP(D283,Desplegables!$A$26:$C$38,3,0),\"\")","v":""},{"$f":"IF(C283<>\"\",VLOOKUP(C283,Desplegables!$A$3:$C$12,3,0),\"\")","v":""},{"$f":"IF(D283<>\"\",VLOOKUP(D283,Desplegables!$A$12:$B$38,2,0),\"\")","v":""}]
[{"$f":"IF(A283<>\"\",A283,\"\")","v":""},{"$f":"IF(B283<>\"\",B283,\"\")","v":""},{"$f":"IF(C283<>\"\",C283,\"\")","v":""},{"$f":"IF(D283<>\"\",D283,\"\")","v":""},null,null,null,{"$f":"IF(AND(F284<>\"\",G284<>\"\"),VLOOKUP(F284,Desplegables!$E$2:$F$275,2,0)&G284,\"\")","v":""},null,null,null,null,null,null,null,{"$f":"IF(C284<>\"\",VLOOKUP(C284,Desplegables!$A$3:$B$12,2,0),\"\")","v":""},{"$f":"IF(D284<>\"\",VLOOKUP(D284,Desplegables!$A$26:$C$38,3,0),\"\")","v":""},{"$f":"IF(C284<>\"\",VLOOKUP(C284,Desplegables!$A$3:$C$12,3,0),\"\")","v":""},{"$f":"IF(D284<>\"\",VLOOKUP(D284,Desplegables!$A$12:$B$38,2,0),\"\")","v":""}]
[{"$f":"IF(A283<>\"\",A283,\"\")","v":""},{"$f":"IF(B283<>\"\",B283,\"\")","v":""},{"$f":"IF(C283<>\"\",C283,\"\")","v":""},{"$f":"IF(D283<>\"\",D283,\"\")","v":""},null,null,null,{"$f":"IF(AND(F285<>\"\",G285<>\"\"),VLOOKUP(F285,Desplegables!$E$2:$F$275,2,0)&G285,\"\")","v":""},null,null,null,null,null,null,null,{"$f":"IF(C285<>\"\",VLOOKUP(C285,Desplegables!$A$3:$B$12,2,0),\"\")","v":""},{"$f":"IF(D285<>\"\",VLOOKUP(D285,Desplegables!$A$26:$C$38,3,0),\"\")","v":""},{"$f":"IF(C285<>\"\",VLOOKUP(C285,Desplegables!$A$3:$C$12,3,0),\"\")","v":""},{"$f":"IF(D285<>\"\",VLOOKUP(D285,Desplegables!$A$12:$B$38,2,0),\"\")","v":""}]
[null,null,null,null,null,null,null,{"$f":"IF(AND(F286<>\"\",G286<>\"\"),VLOOKUP(F286,Desplegables!$E$2:$F$275,2,0)&G286,\"\")","v":""},null,null,null,null,null,null,null,{"$f":"IF(C286<>\"\",VLOOKUP(C286,Desplegables!$A$3:$B$12,2,0),\"\")","v":""},{"$f":"IF(D286<>\"\",VLOOKUP(D286,Desplegables!$A$26:$C$38,3,0),\"\")","v":""},{"$f":"IF(C286<>\"\",VLOOKUP(C286,Desplegables!$A$3:$C$12,3,0),\"\")","v":""},{"$f":"IF(D286<>\"\",VLOOKUP(D286,Desplegables!$A$12:$B$38,2,0),\"\")","v":""}]
[{"$f":"IF(A286<>\"\",A286,\"\")","v":""},{"$f":"IF(B286<>\"\",B286,\"\")","v":""},{"$f":"IF(C286<>\"\",C286,\"\")","v":""},{"$f":"IF(D286<>\"\",D286,\"\")","v":""},null,null,null,{"$f":"IF(AND(F287<>\"\",G287<>\"\"),VLOOKUP(F287,Desplegables!$E$2:$F$275,2,0)&G287,\"\")","v":""},null,null,null,null,null,null,null,{"$f":"IF(C287<>\"\",VLOOKUP(C287,Desplegables!$A$3:$B$12,2,0),\"\")","v":""},{"$f":"IF(D287<>\"\",VLOOKUP(D287,Desplegables!$A$26:$C$38,3,0),\"\")","v":""},{"$f":"IF(C287<>\"\",VLOOKUP(C287,Desplegables!$A$3:$C$12,3,0),\"\")","v":""},{"$f":"IF(D287<>\"\",VLOOKUP(D287,Desplegables!$A$12:$B$38,2,0),\"\")","v":""}]
[{"$f":"IF(A286<>\"\",A286,\"\")","v":""},{"$f":"IF(B286<>\"\",B286,\"\")","v":""},{"$f":"IF(C286<>\"\",C286,\"\")","v":""},{"$f":"IF(D286<>\"\",D286,\"\")","v":""},null,null,null,{"$f":"IF(AND(F288<>\"\",G288<>\"\"),VLOOKUP(F288,Desplegables!$E$2:$F$275,2,0)&G288,\"\")","v":""},null,null,null,null,null,null,null,{"$f":"IF(C288<>\"\",VLOOKUP(C288,Desplegables!$A$3:$B$12,2,0),\"\")","v":""},{"$f":"IF(D288<>\"\",VLOOKUP(D288,Desplegables!$A$26:$C$38,3,0),\"\")","v":""},{"$f":"IF(C288<>\"\",VLOOKUP(C288,Desplegables!$A$3:$C$12,3,0),\"\")","v":""},{"$f":"IF(D288<>\"\",VLOOKUP(D288,Desplegables!$A$12:$B$38,2,0),\"\")","v":""}]
[null,null,null,null,null,null,null,{"$f":"IF(AND(F289<>\"\",G289<>\"\"),VLOOKUP(F289,Desplegables!$E$2:$F$275,2,0)&G289,\"\")","v":""},null,null,null,null,null,null,null,{"$f":"IF(C289<>\"\",VLOOKUP(C289,Desplegables!$A$3:$B$12,2,0),\"\")","v":""},{"$f":"IF(D289<>\"\",VLOOKUP(D289,Desplegables!$A$26:$C$38,3,0),\"\")","v":""},{"$f":"IF(C289<>\"\",VLOOKUP(C289,Desplegables!$A$3:$C$12,3,0),\"\")","v":""},{"$f":"IF(D289<>\"\",VLOOKUP(D289,Desplegables!$A$12:$B$38,2,0),\"\")","v":""}]
[{"$f":"IF(A289<>\"\",A289,\"\")","v":""},{"$f":"IF(B289<>\"\",B289,\"\")","v":""},{"$f":"IF(C289<>\"\",C289,\"\")","v":""},{"$f":"IF(D289<>\"\",D289,\"\")","v":""},null,null,null,{"$f":"IF(AND(F290<>\"\",G290<>\"\"),VLOOKUP(F290,Desplegables!$E$2:$F$275,2,0)&G290,\"\")","v":""},null,null,null,null,null,null,null,{"$f":"IF(C290<>\"\",VLOOKUP(C290,Desplegables!$A$3:$B$12,2,0),\"\")","v":""},{"$f":"IF(D290<>\"\",VLOOKUP(D290,Desplegables!$A$26:$C$38,3,0),\"\")","v":""},{"$f":"IF(C290<>\"\",VLOOKUP(C290,Desplegables!$A$3:$C$12,3,0),\"\")","v":""},{"$f":"IF(D290<>\"\",VLOOKUP(D290,Desplegables!$A$12:$B$38,2,0),\"\")","v":""}]
[{"$f":"IF(A289<>\"\",A289,\"\")","v":""},{"$f":"IF(B289<>\"\",B289,\"\")","v":""},{"$f":"IF(C289<>\"\",C289,\"\")","v":""},{"$f":"IF(D289<>\"\",D289,\"\")","v":""},null,null,null,{"$f":"IF(AND(F291<>\"\",G291<>\"\"),VLOOKUP(F291,Desplegables!$E$2:$F$275,2,0)&G291,\"\")","v":""},null,null,null,null,null,null,null,{"$f":"IF(C291<>\"\",VLOOKUP(C291,Desplegables!$A$3:$B$12,2,0),\"\")","v":""},{"$f":"IF(D291<>\"\",VLOOKUP(D291,Desplegables!$A$26:$C$38,3,0),\"\")","v":""},{"$f":"IF(C291<>\"\",VLOOKUP(C291,Desplegables!$A$3:$C$12,3,0),\"\")","v":""},{"$f":"IF(D291<>\"\",VLOOKUP(D291,Desplegables!$A$12:$B$38,2,0),\"\")","v":""}]
[null,null,null,null,null,null,null,{"$f":"IF(AND(F292<>\"\",G292<>\"\"),VLOOKUP(F292,Desplegables!$E$2:$F$275,2,0)&G292,\"\")","v":""},null,null,null,null,null,null,null,{"$f":"IF(C292<>\"\",VLOOKUP(C292,Desplegables!$A$3:$B$12,2,0),\"\")","v":""},{"$f":"IF(D292<>\"\",VLOOKUP(D292,Desplegables!$A$26:$C$38,3,0),\"\")","v":""},{"$f":"IF(C292<>\"\",VLOOKUP(C292,Desplegables!$A$3:$C$12,3,0),\"\")","v":""},{"$f":"IF(D292<>\"\",VLOOKUP(D292,Desplegables!$A$12:$B$38,2,0),\"\")","v":""}]
[{"$f":"IF(A292<>\"\",A292,\"\")","v":""},{"$f":"IF(B292<>\"\",B292,\"\")","v":""},{"$f":"IF(C292<>\"\",C292,\"\")","v":""},{"$f":"IF(D292<>\"\",D292,\"\")","v":""},null,null,null,{"$f":"IF(AND(F293<>\"\",G293<>\"\"),VLOOKUP(F293,Desplegables!$E$2:$F$275,2,0)&G293,\"\")","v":""},null,null,null,null,null,null,null,{"$f":"IF(C293<>\"\",VLOOKUP(C293,Desplegables!$A$3:$B$12,2,0),\"\")","v":""},{"$f":"IF(D293<>\"\",VLOOKUP(D293,Desplegables!$A$26:$C$38,3,0),\"\")","v":""},{"$f":"IF(C293<>\"\",VLOOKUP(C293,Desplegables!$A$3:$C$12,3,0),\"\")","v":""},{"$f":"IF(D293<>\"\",VLOOKUP(D293,Desplegables!$A$12:$B$38,2,0),\"\")","v":""}]
[{"$f":"IF(A292<>\"\",A292,\"\")","v":""},{"$f":"IF(B292<>\"\",B292,\"\")","v":""},{"$f":"IF(C292<>\"\",C292,\"\")","v":""},{"$f":"IF(D292<>\"\",D292,\"\")","v":""},null,null,null,{"$f":"IF(AND(F294<>\"\",G294<>\"\"),VLOOKUP(F294,Desplegables!$E$2:$F$275,2,0)&G294,\"\")","v":""},null,null,null,null,null,null,null,{"$f":"IF(C294<>\"\",VLOOKUP(C294,Desplegables!$A$3:$B$12,2,0),\"\")","v":""},{"$f":"IF(D294<>\"\",VLOOKUP(D294,Desplegables!$A$26:$C$38,3,0),\"\")","v":""},{"$f":"IF(C294<>\"\",VLOOKUP(C294,Desplegables!$A$3:$C$12,3,0),\"\")","v":""},{"$f":"IF(D294<>\"\",VLOOKUP(D294,Desplegables!$A$12:$B$38,2,0),\"\")","v":""}]
[null,null,null,null,null,null,null,{"$f":"IF(AND(F295<>\"\",G295<>\"\"),VLOOKUP(F295,Desplegables!$E$2:$F$275,2,0)&G295,\"\")","v":""},null,null,null,null,null,null,null,{"$f":"IF(C295<>\"\",VLOOKUP(C295,Desplegables!$A$3:$B$12,2,0),\"\")","v":""},{"$f":"IF(D295<>\"\",VLOOKUP(D295,Desplegables!$A$26:$C$38,3,0),\"\")","v":""},{"$f":"IF(C295<>\"\",VLOOKUP(C295,Desplegables!$A$3:$C$12,3,0),\"\")","v":""},{"$f":"IF(D295<>\"\",VLOOKUP(D295,Desplegables!$A$12:$B$38,2,0),\"\")","v":""}]
[{"$f":"IF(A295<>\"\",A295,\"\")","v":""},{"$f":"IF(B295<>\"\",B295,\"\")","v":""},{"$f":"IF(C295<>\"\",C295,\"\")","v":""},{"$f":"IF(D295<>\"\",D295,\"\")","v":""},null,null,null,{"$f":"IF(AND(F296<>\"\",G296<>\"\"),VLOOKUP(F296,Desplegables!$E$2:$F$275,2,0)&G296,\"\")","v":""},null,null,null,null,null,null,null,{"$f":"IF(C296<>\"\",VLOOKUP(C296,Desplegables!$A$3:$B$12,2,0),\"\")","v":""},{"$f":"IF(D296<>\"\",VLOOKUP(D296,Desplegables!$A$26:$C$38,3,0),\"\")","v":""},{"$f":"IF(C296<>\"\",VLOOKUP(C296,Desplegables!$A$3:$C$12,3,0),\"\")","v":""},{"$f":"IF(D296<>\"\",VLOOKUP(D296,Desplegables!$A$12:$B$38,2,0),\"\")","v":""}]
[{"$f":"IF(A295<>\"\",A295,\"\")","v":""},{"$f":"IF(B295<>\"\",B295,\"\")","v":""},{"$f":"IF(C295<>\"\",C295,\"\")","v":""},{"$f":"IF(D295<>\"\",D295,\"\")","v":""},null,null,null,{"$f":"IF(AND(F297<>\"\",G297<>\"\"),VLOOKUP(F297,Desplegables!$E$2:$F$275,2,0)&G297,\"\")","v":""},null,null,null,null,null,null,null,{"$f":"IF(C297<>\"\",VLOOKUP(C297,Desplegables!$A$3:$B$12,2,0),\"\")","v":""},{"$f":"IF(D297<>\"\",VLOOKUP(D297,Desplegables!$A$26:$C$38,3,0),\"\")","v":""},{"$f":"IF(C297<>\"\",VLOOKUP(C297,Desplegables!$A$3:$C$12,3,0),\"\")","v":""},{"$f":"IF(D297<>\"\",VLOOKUP(D297,Desplegables!$A$12:$B$38,2,0),\"\")","v":""}]
[null,null,null,null,null,null,null,{"$f":"IF(AND(F298<>\"\",G298<>\"\"),VLOOKUP(F298,Desplegables!$E$2:$F$275,2,0)&G298,\"\")","v":""},null,null,null,null,null,null,null,{"$f":"IF(C298<>\"\",VLOOKUP(C298,Desplegables!$A$3:$B$12,2,0),\"\")","v":""},{"$f":"IF(D298<>\"\",VLOOKUP(D298,Desplegables!$A$26:$C$38,3,0),\"\")","v":""},{"$f":"IF(C298<>\"\",VLOOKUP(C298,Desplegables!$A$3:$C$12,3,0),\"\")","v":""},{"$f":"IF(D298<>\"\",VLOOKUP(D298,Desplegables!$A$12:$B$38,2,0),\"\")","v":""}]
[{"$f":"IF(A298<>\"\",A298,\"\")","v":""},{"$f":"IF(B298<>\"\",B298,\"\")","v":""},{"$f":"IF(C298<>\"\",C298,\"\")","v":""},{"$f":"IF(D298<>\"\",D298,\"\")","v":""},null,null,null,{"$f":"IF(AND(F299<>\"\",G299<>\"\"),VLOOKUP(F299,Desplegables!$E$2:$F$275,2,0)&G299,\"\")","v":""},null,null,null,null,null,null,null,{"$f":"IF(C299<>\"\",VLOOKUP(C299,Desplegables!$A$3:$B$12,2,0),\"\")","v":""},{"$f":"IF(D299<>\"\",VLOOKUP(D299,Desplegables!$A$26:$C$38,3,0),\"\")","v":""},{"$f":"IF(C299<>\"\",VLOOKUP(C299,Desplegables!$A$3:$C$12,3,0),\"\")","v":""},{"$f":"IF(D299<>\"\",VLOOKUP(D299,Desplegables!$A$12:$B$38,2,0),\"\")","v":""}]
[{"$f":"IF(A298<>\"\",A298,\"\")","v":""},{"$f":"IF(B298<>\"\",B298,\"\")","v":""},{"$f":"IF(C298<>\"\",C298,\"\")","v":""},{"$f":"IF(D298<>\"\",D298,\"\")","v":""},null,null,null,{"$f":"IF(AND(F300<>\"\",G300<>\"\"),VLOOKUP(F300,Desplegables!$E$2:$F$275,2,0)&G300,\"\")","v":""},null,null,null,null,null,null,null,{"$f":"IF(C300<>\"\",VLOOKUP(C300,Desplegables!$A$3:$B$12,2,0),\"\")","v":""},{"$f":"IF(D300<>\"\",VLOOKUP(D300,Desplegables!$A$26:$C$38,3,0),\"\")","v":""},{"$f":"IF(C300<>\"\",VLOOKUP(C300,Desplegables!$A$3:$C$12,3,0),\"\")","v":""},{"$f":"IF(D300<>\"\",VLOOKUP(D300,Desplegables!$A$12:$B$38,2,0),\"\")","v":""}]
[null,null,null,null,null,null,null,{"$f":"IF(AND(F301<>\"\",G301<>\"\"),VLOOKUP(F301,Desplegables!$E$2:$F$275,2,0)&G301,\"\")","v":""},null,null,null,null,null,null,null,{"$f":"IF(C301<>\"\",VLOOKUP(C301,Desplegables!$A$3:$B$12,2,0),\"\")","v":""},{"$f":"IF(D301<>\"\",VLOOKUP(D301,Desplegables!$A$26:$C$38,3,0),\"\")","v":""},{"$f":"IF(C301<>\"\",VLOOKUP(C301,Desplegables!$A$3:$C$12,3,0),\"\")","v":""},{"$f":"IF(D301<>\"\",VLOOKUP(D301,Desplegables!$A$12:$B$38,2,0),\"\")","v":""}]
[{"$f":"IF(A301<>\"\",A301,\"\")","v":""},{"$f":"IF(B301<>\"\",B301,\"\")","v":""},{"$f":"IF(C301<>\"\",C301,\"\")","v":""},{"$f":"IF(D301<>\"\",D301,\"\")","v":""},null,null,null,{"$f":"IF(AND(F302<>\"\",G302<>\"\"),VLOOKUP(F302,Desplegables!$E$2:$F$275,2,0)&G302,\"\")","v":""},null,null,null,null,null,null,null,{"$f":"IF(C302<>\"\",VLOOKUP(C302,Desplegables!$A$3:$B$12,2,0),\"\")","v":""},{"$f":"IF(D302<>\"\",VLOOKUP(D302,Desplegables!$A$26:$C$38,3,0),\"\")","v":""},{"$f":"IF(C302<>\"\",VLOOKUP(C302,Desplegables!$A$3:$C$12,3,0),\"\")","v":""},{"$f":"IF(D302<>\"\",VLOOKUP(D302,Desplegables!$A$12:$B$38,2,0),\"\")","v":""}]
[{"$f":"IF(A301<>\"\",A301,\"\")","v":""},{"$f":"IF(B301<>\"\",B301,\"\")","v":""},{"$f":"IF(C301<>\"\",C301,\"\")","v":""},{"$f":"IF(D301<>\"\",D301,\"\")","v":""},null,null,null,{"$f":"IF(AND(F303<>\"\",G303<>\"\"),VLOOKUP(F303,Desplegables!$E$2:$F$275,2,0)&G303,\"\")","v":""},null,null,null,null,null,null,null,{"$f":"IF(C303<>\"\",VLOOKUP(C303,Desplegables!$A$3:$B$12,2,0),\"\")","v":""},{"$f":"IF(D303<>\"\",VLOOKUP(D303,Desplegables!$A$26:$C$38,3,0),\"\")","v":""},{"$f":"IF(C303<>\"\",VLOOKUP(C303,Desplegables!$A$3:$C$12,3,0),\"\")","v":""},{"$f":"IF(D303<>\"\",VLOOKUP(D303,Desplegables!$A$12:$B$38,2,0),\"\")","v":""}]
[null,null,null,null,null,null,null,{"$f":"IF(AND(F304<>\"\",G304<>\"\"),VLOOKUP(F304,Desplegables!$E$2:$F$275,2,0)&G304,\"\")","v":""},null,null,null,null,null,null,null,{"$f":"IF(C304<>\"\",VLOOKUP(C304,Desplegables!$A$3:$B$12,2,0),\"\")","v":""},{"$f":"IF(D304<>\"\",VLOOKUP(D304,Desplegables!$A$26:$C$38,3,0),\"\")","v":""},{"$f":"IF(C304<>\"\",VLOOKUP(C304,Desplegables!$A$3:$C$12,3,0),\"\")","v":""},{"$f":"IF(D304<>\"\",VLOOKUP(D304,Desplegables!$A$12:$B$38,2,0),\"\")","v":""}]
[{"$f":"IF(A304<>\"\",A304,\"\")","v":""},{"$f":"IF(B304<>\"\",B304,\"\")","v":""},{"$f":"IF(C304<>\"\",C304,\"\")","v":""},{"$f":"IF(D304<>\"\",D304,\"\")","v":""},null,null,null,{"$f":"IF(AND(F305<>\"\",G305<>\"\"),VLOOKUP(F305,Desplegables!$E$2:$F$275,2,0)&G305,\"\")","v":""},null,null,null,null,null,null,null,{"$f":"IF(C305<>\"\",VLOOKUP(C305,Desplegables!$A$3:$B$12,2,0),\"\")","v":""},{"$f":"IF(D305<>\"\",VLOOKUP(D305,Desplegables!$A$26:$C$38,3,0),\"\")","v":""},{"$f":"IF(C305<>\"\",VLOOKUP(C305,Desplegables!$A$3:$C$12,3,0),\"\")","v":""},{"$f":"IF(D305<>\"\",VLOOKUP(D305,Desplegables!$A$12:$B$38,2,0),\"\")","v":""}]
[{"$f":"IF(A304<>\"\",A304,\"\")","v":""},{"$f":"IF(B304<>\"\",B304,\"\")","v":""},{"$f":"IF(C304<>\"\",C304,\"\")","v":""},{"$f":"IF(D304<>\"\",D304,\"\")","v":""},null,null,null,{"$f":"IF(AND(F306<>\"\",G306<>\"\"),VLOOKUP(F306,Desplegables!$E$2:$F$275,2,0)&G306,\"\")","v":""},null,null,null,null,null,null,null,{"$f":"IF(C306<>\"\",VLOOKUP(C306,Desplegables!$A$3:$B$12,2,0),\"\")","v":""},{"$f":"IF(D306<>\"\",VLOOKUP(D306,Desplegables!$A$26:$C$38,3,0),\"\")","v":""},{"$f":"IF(C306<>\"\",VLOOKUP(C306,Desplegables!$A$3:$C$12,3,0),\"\")","v":""},{"$f":"IF(D306<>\"\",VLOOKUP(D306,Desplegables!$A$12:$B$38,2,0),\"\")","v":""}]
[null,null,null,null,null,null,null,{"$f":"IF(AND(F307<>\"\",G307<>\"\"),VLOOKUP(F307,Desplegables!$E$2:$F$275,2,0)&G307,\"\")","v":""},null,null,null,null,null,null,null,{"$f":"IF(C307<>\"\",VLOOKUP(C307,Desplegables!$A$3:$B$12,2,0),\"\")","v":""},{"$f":"IF(D307<>\"\",VLOOKUP(D307,Desplegables!$A$26:$C$38,3,0),\"\")","v":""},{"$f":"IF(C307<>\"\",VLOOKUP(C307,Desplegables!$A$3:$C$12,3,0),\"\")","v":""},{"$f":"IF(D307<>\"\",VLOOKUP(D307,Desplegables!$A$12:$B$38,2,0),\"\")","v":""}]
[{"$f":"IF(A307<>\"\",A307,\"\")","v":""},{"$f":"IF(B307<>\"\",B307,\"\")","v":""},{"$f":"IF(C307<>\"\",C307,\"\")","v":""},{"$f":"IF(D307<>\"\",D307,\"\")","v":""},null,null,null,{"$f":"IF(AND(F308<>\"\",G308<>\"\"),VLOOKUP(F308,Desplegables!$E$2:$F$275,2,0)&G308,\"\")","v":""},null,null,null,null,null,null,null,{"$f":"IF(C308<>\"\",VLOOKUP(C308,Desplegables!$A$3:$B$12,2,0),\"\")","v":""},{"$f":"IF(D308<>\"\",VLOOKUP(D308,Desplegables!$A$26:$C$38,3,0),\"\")","v":""},{"$f":"IF(C308<>\"\",VLOOKUP(C308,Desplegables!$A$3:$C$12,3,0),\"\")","v":""},{"$f":"IF(D308<>\"\",VLOOKUP(D308,Desplegables!$A$12:$B$38,2,0),\"\")","v":""}]
[{"$f":"IF(A307<>\"\",A307,\"\")","v":""},{"$f":"IF(B307<>\"\",B307,\"\")","v":""},{"$f":"IF(C307<>\"\",C307,\"\")","v":""},{"$f":"IF(D307<>\"\",D307,\"\")","v":""},null,null,null,{"$f":"IF(AND(F309<>\"\",G309<>\"\"),VLOOKUP(F309,Desplegables!$E$2:$F$275,2,0)&G309,\"\")","v":""},null,null,null,null,null,null,null,{"$f":"IF(C309<>\"\",VLOOKUP(C309,Desplegables!$A$3:$B$12,2,0),\"\")","v":""},{"$f":"IF(D309<>\"\",VLOOKUP(D309,Desplegables!$A$26:$C$38,3,0),\"\")","v":""},{"$f":"IF(C309<>\"\",VLOOKUP(C309,Desplegables!$A$3:$C$12,3,0),\"\")","v":""},{"$f":"IF(D309<>\"\",VLOOKUP(D309,Desplegables!$A$12:$B$38,2,0),\"\")","v":""}]
[null,null,null,null,null,null,null,{"$f":"IF(AND(F310<>\"\",G310<>\"\"),VLOOKUP(F310,Desplegables!$E$2:$F$275,2,0)&G310,\"\")","v":""},null,null,null,null,null,null,null,{"$f":"IF(C310<>\"\",VLOOKUP(C310,Desplegables!$A$3:$B$12,2,0),\"\")","v":""},{"$f":"IF(D310<>\"\",VLOOKUP(D310,Desplegables!$A$26:$C$38,3,0),\"\")","v":""},{"$f":"IF(C310<>\"\",VLOOKUP(C310,Desplegables!$A$3:$C$12,3,0),\"\")","v":""},{"$f":"IF(D310<>\"\",VLOOKUP(D310,Desplegables!$A$12:$B$38,2,0),\"\")","v":""}]
[{"$f":"IF(A310<>\"\",A310,\"\")","v":""},{"$f":"IF(B310<>\"\",B310,\"\")","v":""},{"$f":"IF(C310<>\"\",C310,\"\")","v":""},{"$f":"IF(D310<>\"\",D310,\"\")","v":""},null,null,null,{"$f":"IF(AND(F311<>\"\",G311<>\"\"),VLOOKUP(F311,Desplegables!$E$2:$F$275,2,0)&G311,\"\")","v":""},null,null,null,null,null,null,null,{"$f":"IF(C311<>\"\",VLOOKUP(C311,Desplegables!$A$3:$B$12,2,0),\"\")","v":""},{"$f":"IF(D311<>\"\",VLOOKUP(D311,Desplegables!$A$26:$C$38,3,0),\"\")","v":""},{"$f":"IF(C311<>\"\",VLOOKUP(C311,Desplegables!$A$3:$C$12,3,0),\"\")","v":""},{"$f":"IF(D311<>\"\",VLOOKUP(D311,Desplegables!$A$12:$B$38,2,0),\"\")","v":""}]
[{"$f":"IF(A310<>\"\",A310,\"\")","v":""},{"$f":"IF(B310<>\"\",B310,\"\")","v":""},{"$f":"IF(C310<>\"\",C310,\"\")","v":""},{"$f":"IF(D310<>\"\",D310,\"\")","v":""},null,null,null,{"$f":"IF(AND(F312<>\"\",G312<>\"\"),VLOOKUP(F312,Desplegables!$E$2:$F$275,2,0)&G312,\"\")","v":""},null,null,null,null,null,null,null,{"$f":"IF(C312<>\"\",VLOOKUP(C312,Desplegables!$A$3:$B$12,2,0),\"\")","v":""},{"$f":"IF(D312<>\"\",VLOOKUP(D312,Desplegables!$A$26:$C$38,3,0),\"\")","v":""},{"$f":"IF(C312<>\"\",VLOOKUP(C312,Desplegables!$A$3:$C$12,3,0),\"\")","v":""},{"$f":"IF(D312<>\"\",VLOOKUP(D312,Desplegables!$A$12:$B$38,2,0),\"\")","v":""}]
[null,null,null,null,null,null,null,{"$f":"IF(AND(F313<>\"\",G313<>\"\"),VLOOKUP(F313,Desplegables!$E$2:$F$275,2,0)&G313,\"\")","v":""},null,null,null,null,null,null,null,{"$f":"IF(C313<>\"\",VLOOKUP(C313,Desplegables!$A$3:$B$12,2,0),\"\")","v":""},{"$f":"IF(D313<>\"\",VLOOKUP(D313,Desplegables!$A$26:$C$38,3,0),\"\")","v":""},{"$f":"IF(C313<>\"\",VLOOKUP(C313,Desplegables!$A$3:$C$12,3,0),\"\")","v":""},{"$f":"IF(D313<>\"\",VLOOKUP(D313,Desplegables!$A$12:$B$38,2,0),\"\")","v":""}]
[{"$f":"IF(A313<>\"\",A313,\"\")","v":""},{"$f":"IF(B313<>\"\",B313,\"\")","v":""},{"$f":"IF(C313<>\"\",C313,\"\")","v":""},{"$f":"IF(D313<>\"\",D313,\"\")","v":""},null,null,null,{"$f":"IF(AND(F314<>\"\",G314<>\"\"),VLOOKUP(F314,Desplegables!$E$2:$F$275,2,0)&G314,\"\")","v":""},null,null,null,null,null,null,null,{"$f":"IF(C314<>\"\",VLOOKUP(C314,Desplegables!$A$3:$B$12,2,0),\"\")","v":""},{"$f":"IF(D314<>\"\",VLOOKUP(D314,Desplegables!$A$26:$C$38,3,0),\"\")","v":""},{"$f":"IF(C314<>\"\",VLOOKUP(C314,Desplegables!$A$3:$C$12,3,0),\"\")","v":""},{"$f":"IF(D314<>\"\",VLOOKUP(D314,Desplegables!$A$12:$B$38,2,0),\"\")","v":""}]
[{"$f":"IF(A313<>\"\",A313,\"\")","v":""},{"$f":"IF(B313<>\"\",B313,\"\")","v":""},{"$f":"IF(C313<>\"\",C313,\"\")","v":""},{"$f":"IF(D313<>\"\",D313,\"\")","v":""},null,null,null,{"$f":"IF(AND(F315<>\"\",G315<>\"\"),VLOOKUP(F315,Desplegables!$E$2:$F$275,2,0)&G315,\"\")","v":""},null,null,null,null,null,null,null,{"$f":"IF(C315<>\"\",VLOOKUP(C315,Desplegables!$A$3:$B$12,2,0),\"\")","v":""},{"$f":"IF(D315<>\"\",VLOOKUP(D315,Desplegables!$A$26:$C$38,3,0),\"\")","v":""},{"$f":"IF(C315<>\"\",VLOOKUP(C315,Desplegables!$A$3:$C$12,3,0),\"\")","v":""},{"$f":"IF(D315<>\"\",VLOOKUP(D315,Desplegables!$A$12:$B$38,2,0),\"\")","v":""}]
[null,null,null,null,null,null,null,{"$f":"IF(AND(F316<>\"\",G316<>\"\"),VLOOKUP(F316,Desplegables!$E$2:$F$275,2,0)&G316,\"\")","v":""},null,null,null,null,null,null,null,{"$f":"IF(C316<>\"\",VLOOKUP(C316,Desplegables!$A$3:$B$12,2,0),\"\")","v":""},{"$f":"IF(D316<>\"\",VLOOKUP(D316,Desplegables!$A$26:$C$38,3,0),\"\")","v":""},{"$f":"IF(C316<>\"\",VLOOKUP(C316,Desplegables!$A$3:$C$12,3,0),\"\")","v":""},{"$f":"IF(D316<>\"\",VLOOKUP(D316,Desplegables!$A$12:$B$38,2,0),\"\")","v":""}]
[{"$f":"IF(A316<>\"\",A316,\"\")","v":""},{"$f":"IF(B316<>\"\",B316,\"\")","v":""},{"$f":"IF(C316<>\"\",C316,\"\")","v":""},{"$f":"IF(D316<>\"\",D316,\"\")","v":""},null,null,null,{"$f":"IF(AND(F317<>\"\",G317<>\"\"),VLOOKUP(F317,Desplegables!$E$2:$F$275,2,0)&G317,\"\")","v":""},null,null,null,null,null,null,null,{"$f":"IF(C317<>\"\",VLOOKUP(C317,Desplegables!$A$3:$B$12,2,0),\"\")","v":""},{"$f":"IF(D317<>\"\",VLOOKUP(D317,Desplegables!$A$26:$C$38,3,0),\"\")","v":""},{"$f":"IF(C317<>\"\",VLOOKUP(C317,Desplegables!$A$3:$C$12,3,0),\"\")","v":""},{"$f":"IF(D317<>\"\",VLOOKUP(D317,Desplegables!$A$12:$B$38,2,0),\"\")","v":""}]
[{"$f":"IF(A316<>\"\",A316,\"\")","v":""},{"$f":"IF(B316<>\"\",B316,\"\")","v":""},{"$f":"IF(C316<>\"\",C316,\"\")","v":""},{"$f":"IF(D316<>\"\",D316,\"\")","v":""},null,null,null,{"$f":"IF(AND(F318<>\"\",G318<>\"\"),VLOOKUP(F318,Desplegables!$E$2:$F$275,2,0)&G318,\"\")","v":""},null,null,null,null,null,null,null,{"$f":"IF(C318<>\"\",VLOOKUP(C318,Desplegables!$A$3:$B$12,2,0),\"\")","v":""},{"$f":"IF(D318<>\"\",VLOOKUP(D318,Desplegables!$A$26:$C$38,3,0),\"\")","v":""},{"$f":"IF(C318<>\"\",VLOOKUP(C318,Desplegables!$A$3:$C$12,3,0),\"\")","v":""},{"$f":"IF(D318<>\"\",VLOOKUP(D318,Desplegables!$A$12:$B$38,2,0),\"\")","v":""}]
[null,null,null,null,null,null,null,{"$f":"IF(AND(F319<>\"\",G319<>\"\"),VLOOKUP(F319,Desplegables!$E$2:$F$275,2,0)&G319,\"\")","v":""},null,null,null,null,null,null,null,{"$f":"IF(C319<>\"\",VLOOKUP(C319,Desplegables!$A$3:$B$12,2,0),\"\")","v":""},{"$f":"IF(D319<>\"\",VLOOKUP(D319,Desplegables!$A$26:$C$38,3,0),\"\")","v":""},{"$f":"IF(C319<>\"\",VLOOKUP(C319,Desplegables!$A$3:$C$12,3,0),\"\")","v":""},{"$f":"IF(D319<>\"\",VLOOKUP(D319,Desplegables!$A$12:$B$38,2,0),\"\")","v":""}]
[{"$f":"IF(A319<>\"\",A319,\"\")","v":""},{"$f":"IF(B319<>\"\",B319,\"\")","v":""},{"$f":"IF(C319<>\"\",C319,\"\")","v":""},{"$f":"IF(D319<>\"\",D319,\"\")","v":""},null,null,null,{"$f":"IF(AND(F320<>\"\",G320<>\"\"),VLOOKUP(F320,Desplegables!$E$2:$F$275,2,0)&G320,\"\")","v":""},null,null,null,null,null,null,null,{"$f":"IF(C320<>\"\",VLOOKUP(C320,Desplegables!$A$3:$B$12,2,0),\"\")","v":""},{"$f":"IF(D320<>\"\",VLOOKUP(D320,Desplegables!$A$26:$C$38,3,0),\"\")","v":""},{"$f":"IF(C320<>\"\",VLOOKUP(C320,Desplegables!$A$3:$C$12,3,0),\"\")","v":""},{"$f":"IF(D320<>\"\",VLOOKUP(D320,Desplegables!$A$12:$B$38,2,0),\"\")","v":""}]
[{"$f":"IF(A319<>\"\",A319,\"\")","v":""},{"$f":"IF(B319<>\"\",B319,\"\")","v":""},{"$f":"IF(C319<>\"\",C319,\"\")","v":""},{"$f":"IF(D319<>\"\",D319,\"\")","v":""},null,null,null,{"$f":"IF(AND(F321<>\"\",G321<>\"\"),VLOOKUP(F321,Desplegables!$E$2:$F$275,2,0)&G321,\"\")","v":""},null,null,null,null,null,null,null,{"$f":"IF(C321<>\"\",VLOOKUP(C321,Desplegables!$A$3:$B$12,2,0),\"\")","v":""},{"$f":"IF(D321<>\"\",VLOOKUP(D321,Desplegables!$A$26:$C$38,3,0),\"\")","v":""},{"$f":"IF(C321<>\"\",VLOOKUP(C321,Desplegables!$A$3:$C$12,3,0),\"\")","v":""},{"$f":"IF(D321<>\"\",VLOOKUP(D321,Desplegables!$A$12:$B$38,2,0),\"\")","v":""}]
[null,null,null,null,null,null,null,{"$f":"IF(AND(F322<>\"\",G322<>\"\"),VLOOKUP(F322,Desplegables!$E$2:$F$275,2,0)&G322,\"\")","v":""},null,null,null,null,null,null,null,{"$f":"IF(C322<>\"\",VLOOKUP(C322,Desplegables!$A$3:$B$12,2,0),\"\")","v":""},{"$f":"IF(D322<>\"\",VLOOKUP(D322,Desplegables!$A$26:$C$38,3,0),\"\")","v":""},{"$f":"IF(C322<>\"\",VLOOKUP(C322,Desplegables!$A$3:$C$12,3,0),\"\")","v":""},{"$f":"IF(D322<>\"\",VLOOKUP(D322,Desplegables!$A$12:$B$38,2,0),\"\")","v":""}]
[{"$f":"IF(A322<>\"\",A322,\"\")","v":""},{"$f":"IF(B322<>\"\",B322,\"\")","v":""},{"$f":"IF(C322<>\"\",C322,\"\")","v":""},{"$f":"IF(D322<>\"\",D322,\"\")","v":""},null,null,null,{"$f":"IF(AND(F323<>\"\",G323<>\"\"),VLOOKUP(F323,Desplegables!$E$2:$F$275,2,0)&G323,\"\")","v":""},null,null,null,null,null,null,null,{"$f":"IF(C323<>\"\",VLOOKUP(C323,Desplegables!$A$3:$B$12,2,0),\"\")","v":""},{"$f":"IF(D323<>\"\",VLOOKUP(D323,Desplegables!$A$26:$C$38,3,0),\"\")","v":""},{"$f":"IF(C323<>\"\",VLOOKUP(C323,Desplegables!$A$3:$C$12,3,0),\"\")","v":""},{"$f":"IF(D323<>\"\",VLOOKUP(D323,Desplegables!$A$12:$B$38,2,0),\"\")","v":""}]
[{"$f":"IF(A322<>\"\",A322,\"\")","v":""},{"$f":"IF(B322<>\"\",B322,\"\")","v":""},{"$f":"IF(C322<>\"\",C322,\"\")","v":""},{"$f":"IF(D322<>\"\",D322,\"\")","v":""},null,null,null,{"$f":"IF(AND(F324<>\"\",G324<>\"\"),VLOOKUP(F324,Desplegables!$E$2:$F$275,2,0)&G324,\"\")","v":""},null,null,null,null,null,null,null,{"$f":"IF(C324<>\"\",VLOOKUP(C324,Desplegables!$A$3:$B$12,2,0),\"\")","v":""},{"$f":"IF(D324<>\"\",VLOOKUP(D324,Desplegables!$A$26:$C$38,3,0),\"\")","v":""},{"$f":"IF(C324<>\"\",VLOOKUP(C324,Desplegables!$A$3:$C$12,3,0),\"\")","v":""},{"$f":"IF(D324<>\"\",VLOOKUP(D324,Desplegables!$A$12:$B$38,2,0),\"\")","v":""}]
[null,null,null,null,null,null,null,{"$f":"IF(AND(F325<>\"\",G325<>\"\"),VLOOKUP(F325,Desplegables!$E$2:$F$275,2,0)&G325,\"\")","v":""},null,null,null,null,null,null,null,{"$f":"IF(C325<>\"\",VLOOKUP(C325,Desplegables!$A$3:$B$12,2,0),\"\")","v":""},{"$f":"IF(D325<>\"\",VLOOKUP(D325,Desplegables!$A$26:$C$38,3,0),\"\")","v":""},{"$f":"IF(C325<>\"\",VLOOKUP(C325,Desplegables!$A$3:$C$12,3,0),\"\")","v":""},{"$f":"IF(D325<>\"\",VLOOKUP(D325,Desplegables!$A$12:$B$38,2,0),\"\")","v":""}]
[{"$f":"IF(A325<>\"\",A325,\"\")","v":""},{"$f":"IF(B325<>\"\",B325,\"\")","v":""},{"$f":"IF(C325<>\"\",C325,\"\")","v":""},{"$f":"IF(D325<>\"\",D325,\"\")","v":""},null,null,null,{"$f":"IF(AND(F326<>\"\",G326<>\"\"),VLOOKUP(F326,Desplegables!$E$2:$F$275,2,0)&G326,\"\")","v":""},null,null,null,null,null,null,null,{"$f":"IF(C326<>\"\",VLOOKUP(C326,Desplegables!$A$3:$B$12,2,0),\"\")","v":""},{"$f":"IF(D326<>\"\",VLOOKUP(D326,Desplegables!$A$26:$C$38,3,0),\"\")","v":""},{"$f":"IF(C326<>\"\",VLOOKUP(C326,Desplegables!$A$3:$C$12,3,0),\"\")","v":""},{"$f":"IF(D326<>\"\",VLOOKUP(D326,Desplegables!$A$12:$B$38,2,0),\"\")","v":""}]
[{"$f":"IF(A325<>\"\",A325,\"\")","v":""},{"$f":"IF(B325<>\"\",B325,\"\")","v":""},{"$f":"IF(C325<>\"\",C325,\"\")","v":""},{"$f":"IF(D325<>\"\",D325,\"\")","v":""},null,null,null,{"$f":"IF(AND(F327<>\"\",G327<>\"\"),VLOOKUP(F327,Desplegables!$E$2:$F$275,2,0)&G327,\"\")","v":""},null,null,null,null,null,null,null,{"$f":"IF(C327<>\"\",VLOOKUP(C327,Desplegables!$A$3:$B$12,2,0),\"\")","v":""},{"$f":"IF(D327<>\"\",VLOOKUP(D327,Desplegables!$A$26:$C$38,3,0),\"\")","v":""},{"$f":"IF(C327<>\"\",VLOOKUP(C327,Desplegables!$A$3:$C$12,3,0),\"\")","v":""},{"$f":"IF(D327<>\"\",VLOOKUP(D327,Desplegables!$A$12:$B$38,2,0),\"\")","v":""}]
[null,null,null,null,null,null,null,{"$f":"IF(AND(F328<>\"\",G328<>\"\"),VLOOKUP(F328,Desplegables!$E$2:$F$275,2,0)&G328,\"\")","v":""},null,null,null,null,null,null,null,{"$f":"IF(C328<>\"\",VLOOKUP(C328,Desplegables!$A$3:$B$12,2,0),\"\")","v":""},{"$f":"IF(D328<>\"\",VLOOKUP(D328,Desplegables!$A$26:$C$38,3,0),\"\")","v":""},{"$f":"IF(C328<>\"\",VLOOKUP(C328,Desplegables!$A$3:$C$12,3,0),\"\")","v":""},{"$f":"IF(D328<>\"\",VLOOKUP(D328,Desplegables!$A$12:$B$38,2,0),\"\")","v":""}]
[{"$f":"IF(A328<>\"\",A328,\"\")","v":""},{"$f":"IF(B328<>\"\",B328,\"\")","v":""},{"$f":"IF(C328<>\"\",C328,\"\")","v":""},{"$f":"IF(D328<>\"\",D328,\"\")","v":""},null,null,null,{"$f":"IF(AND(F329<>\"\",G329<>\"\"),VLOOKUP(F329,Desplegables!$E$2:$F$275,2,0)&G329,\"\")","v":""},null,null,null,null,null,null,null,{"$f":"IF(C329<>\"\",VLOOKUP(C329,Desplegables!$A$3:$B$12,2,0),\"\")","v":""},{"$f":"IF(D329<>\"\",VLOOKUP(D329,Desplegables!$A$26:$C$38,3,0),\"\")","v":""},{"$f":"IF(C329<>\"\",VLOOKUP(C329,Desplegables!$A$3:$C$12,3,0),\"\")","v":""},{"$f":"IF(D329<>\"\",VLOOKUP(D329,Desplegables!$A$12:$B$38,2,0),\"\")","v":""}]
[{"$f":"IF(A328<>\"\",A328,\"\")","v":""},{"$f":"IF(B328<>\"\",B328,\"\")","v":""},{"$f":"IF(C328<>\"\",C328,\"\")","v":""},{"$f":"IF(D328<>\"\",D328,\"\")","v":""},null,null,null,{"$f":"IF(AND(F330<>\"\",G330<>\"\"),VLOOKUP(F330,Desplegables!$E$2:$F$275,2,0)&G330,\"\")","v":""},null,null,null,null,null,null,null,{"$f":"IF(C330<>\"\",VLOOKUP(C330,Desplegables!$A$3:$B$12,2,0),\"\")","v":""},{"$f":"IF(D330<>\"\",VLOOKUP(D330,Desplegables!$A$26:$C$38,3,0),\"\")","v":""},{"$f":"IF(C330<>\"\",VLOOKUP(C330,Desplegables!$A$3:$C$12,3,0),\"\")","v":""},{"$f":"IF(D330<>\"\",VLOOKUP(D330,Desplegables!$A$12:$B$38,2,0),\"\")","v":""}]
[null,null,null,null,null,null,null,{"$f":"IF(AND(F331<>\"\",G331<>\"\"),VLOOKUP(F331,Desplegables!$E$2:$F$275,2,0)&G331,\"\")","v":""},null,null,null,null,null,null,null,{"$f":"IF(C331<>\"\",VLOOKUP(C331,Desplegables!$A$3:$B$12,2,0),\"\")","v":""},{"$f":"IF(D331<>\"\",VLOOKUP(D331,Desplegables!$A$26:$C$38,3,0),\"\")","v":""},{"$f":"IF(C331<>\"\",VLOOKUP(C331,Desplegables!$A$3:$C$12,3,0),\"\")","v":""},{"$f":"IF(D331<>\"\",VLOOKUP(D331,Desplegables!$A$12:$B$38,2,0),\"\")","v":""}]
[{"$f":"IF(A331<>\"\",A331,\"\")","v":""},{"$f":"IF(B331<>\"\",B331,\"\")","v":""},{"$f":"IF(C331<>\"\",C331,\"\")","v":""},{"$f":"IF(D331<>\"\",D331,\"\")","v":""},null,null,null,{"$f":"IF(AND(F332<>\"\",G332<>\"\"),VLOOKUP(F332,Desplegables!$E$2:$F$275,2,0)&G332,\"\")","v":""},null,null,null,null,null,null,null,{"$f":"IF(C332<>\"\",VLOOKUP(C332,Desplegables!$A$3:$B$12,2,0),\"\")","v":""},{"$f":"IF(D332<>\"\",VLOOKUP(D332,Desplegables!$A$26:$C$38,3,0),\"\")","v":""},{"$f":"IF(C332<>\"\",VLOOKUP(C332,Desplegables!$A$3:$C$12,3,0),\"\")","v":""},{"$f":"IF(D332<>\"\",VLOOKUP(D332,Desplegables!$A$12:$B$38,2,0),\"\")","v":""}]
[{"$f":"IF(A331<>\"\",A331,\"\")","v":""},{"$f":"IF(B331<>\"\",B331,\"\")","v":""},{"$f":"IF(C331<>\"\",C331,\"\")","v":""},{"$f":"IF(D331<>\"\",D331,\"\")","v":""},null,null,null,{"$f":"IF(AND(F333<>\"\",G333<>\"\"),VLOOKUP(F333,Desplegables!$E$2:$F$275,2,0)&G333,\"\")","v":""},null,null,null,null,null,null,null,{"$f":"IF(C333<>\"\",VLOOKUP(C333,Desplegables!$A$3:$B$12,2,0),\"\")","v":""},{"$f":"IF(D333<>\"\",VLOOKUP(D333,Desplegables!$A$26:$C$38,3,0),\"\")","v":""},{"$f":"IF(C333<>\"\",VLOOKUP(C333,Desplegables!$A$3:$C$12,3,0),\"\")","v":""},{"$f":"IF(D333<>\"\",VLOOKUP(D333,Desplegables!$A$12:$B$38,2,0),\"\")","v":""}]
[null,null,null,null,null,null,null,{"$f":"IF(AND(F334<>\"\",G334<>\"\"),VLOOKUP(F334,Desplegables!$E$2:$F$275,2,0)&G334,\"\")","v":""},null,null,null,null,null,null,null,{"$f":"IF(C334<>\"\",VLOOKUP(C334,Desplegables!$A$3:$B$12,2,0),\"\")","v":""},{"$f":"IF(D334<>\"\",VLOOKUP(D334,Desplegables!$A$26:$C$38,3,0),\"\")","v":""},{"$f":"IF(C334<>\"\",VLOOKUP(C334,Desplegables!$A$3:$C$12,3,0),\"\")","v":""},{"$f":"IF(D334<>\"\",VLOOKUP(D334,Desplegables!$A$12:$B$38,2,0),\"\")","v":""}]
[{"$f":"IF(A334<>\"\",A334,\"\")","v":""},{"$f":"IF(B334<>\"\",B334,\"\")","v":""},{"$f":"IF(C334<>\"\",C334,\"\")","v":""},{"$f":"IF(D334<>\"\",D334,\"\")","v":""},null,null,null,{"$f":"IF(AND(F335<>\"\",G335<>\"\"),VLOOKUP(F335,Desplegables!$E$2:$F$275,2,0)&G335,\"\")","v":""},null,null,null,null,null,null,null,{"$f":"IF(C335<>\"\",VLOOKUP(C335,Desplegables!$A$3:$B$12,2,0),\"\")","v":""},{"$f":"IF(D335<>\"\",VLOOKUP(D335,Desplegables!$A$26:$C$38,3,0),\"\")","v":""},{"$f":"IF(C335<>\"\",VLOOKUP(C335,Desplegables!$A$3:$C$12,3,0),\"\")","v":""},{"$f":"IF(D335<>\"\",VLOOKUP(D335,Desplegables!$A$12:$B$38,2,0),\"\")","v":""}]
[{"$f":"IF(A334<>\"\",A334,\"\")","v":""},{"$f":"IF(B334<>\"\",B334,\"\")","v":""},{"$f":"IF(C334<>\"\",C334,\"\")","v":""},{"$f":"IF(D334<>\"\",D334,\"\")","v":""},null,null,null,{"$f":"IF(AND(F336<>\"\",G336<>\"\"),VLOOKUP(F336,Desplegables!$E$2:$F$275,2,0)&G336,\"\")","v":""},null,null,null,null,null,null,null,{"$f":"IF(C336<>\"\",VLOOKUP(C336,Desplegables!$A$3:$B$12,2,0),\"\")","v":""},{"$f":"IF(D336<>\"\",VLOOKUP(D336,Desplegables!$A$26:$C$38,3,0),\"\")","v":""},{"$f":"IF(C336<>\"\",VLOOKUP(C336,Desplegables!$A$3:$C$12,3,0),\"\")","v":""},{"$f":"IF(D336<>\"\",VLOOKUP(D336,Desplegables!$A$12:$B$38,2,0),\"\")","v":""}]
[null,null,null,null,null,null,null,{"$f":"IF(AND(F337<>\"\",G337<>\"\"),VLOOKUP(F337,Desplegables!$E$2:$F$275,2,0)&G337,\"\")","v":""},null,null,null,null,null,null,null,{"$f":"IF(C337<>\"\",VLOOKUP(C337,Desplegables!$A$3:$B$12,2,0),\"\")","v":""},{"$f":"IF(D337<>\"\",VLOOKUP(D337,Desplegables!$A$26:$C$38,3,0),\"\")","v":""},{"$f":"IF(C337<>\"\",VLOOKUP(C337,Desplegables!$A$3:$C$12,3,0),\"\")","v":""},{"$f":"IF(D337<>\"\",VLOOKUP(D337,Desplegables!$A$12:$B$38,2,0),\"\")","v":""}]
[{"$f":"IF(A337<>\"\",A337,\"\")","v":""},{"$f":"IF(B337<>\"\",B337,\"\")","v":""},{"$f":"IF(C337<>\"\",C337,\"\")","v":""},{"$f":"IF(D337<>\"\",D337,\"\")","v":""},null,null,null,{"$f":"IF(AND(F338<>\"\",G338<>\"\"),VLOOKUP(F338,Desplegables!$E$2:$F$275,2,0)&G338,\"\")","v":""},null,null,null,null,null,null,null,{"$f":"IF(C338<>\"\",VLOOKUP(C338,Desplegables!$A$3:$B$12,2,0),\"\")","v":""},{"$f":"IF(D338<>\"\",VLOOKUP(D338,Desplegables!$A$26:$C$38,3,0),\"\")","v":""},{"$f":"IF(C338<>\"\",VLOOKUP(C338,Desplegables!$A$3:$C$12,3,0),\"\")","v":""},{"$f":"IF(D338<>\"\",VLOOKUP(D338,Desplegables!$A$12:$B$38,2,0),\"\")","v":""}]
[{"$f":"IF(A337<>\"\",A337,\"\")","v":""},{"$f":"IF(B337<>\"\",B337,\"\")","v":""},{"$f":"IF(C337<>\"\",C337,\"\")","v":""},{"$f":"IF(D337<>\"\",D337,\"\")","v":""},null,null,null,{"$f":"IF(AND(F339<>\"\",G339<>\"\"),VLOOKUP(F339,Desplegables!$E$2:$F$275,2,0)&G339,\"\")","v":""},null,null,null,null,null,null,null,{"$f":"IF(C339<>\"\",VLOOKUP(C339,Desplegables!$A$3:$B$12,2,0),\"\")","v":""},{"$f":"IF(D339<>\"\",VLOOKUP(D339,Desplegables!$A$26:$C$38,3,0),\"\")","v":""},{"$f":"IF(C339<>\"\",VLOOKUP(C339,Desplegables!$A$3:$C$12,3,0),\"\")","v":""},{"$f":"IF(D339<>\"\",VLOOKUP(D339,Desplegables!$A$12:$B$38,2,0),\"\")","v":""}]
[null,null,null,null,null,null,null,{"$f":"IF(AND(F340<>\"\",G340<>\"\"),VLOOKUP(F340,Desplegables!$E$2:$F$275,2,0)&G340,\"\")","v":""},null,null,null,null,null,null,null,{"$f":"IF(C340<>\"\",VLOOKUP(C340,Desplegables!$A$3:$B$12,2,0),\"\")","v":""},{"$f":"IF(D340<>\"\",VLOOKUP(D340,Desplegables!$A$26:$C$38,3,0),\"\")","v":""},{"$f":"IF(C340<>\"\",VLOOKUP(C340,Desplegables!$A$3:$C$12,3,0),\"\")","v":""},{"$f":"IF(D340<>\"\",VLOOKUP(D340,Desplegables!$A$12:$B$38,2,0),\"\")","v":""}]
[{"$f":"IF(A340<>\"\",A340,\"\")","v":""},{"$f":"IF(B340<>\"\",B340,\"\")","v":""},{"$f":"IF(C340<>\"\",C340,\"\")","v":""},{"$f":"IF(D340<>\"\",D340,\"\")","v":""},null,null,null,{"$f":"IF(AND(F341<>\"\",G341<>\"\"),VLOOKUP(F341,Desplegables!$E$2:$F$275,2,0)&G341,\"\")","v":""},null,null,null,null,null,null,null,{"$f":"IF(C341<>\"\",VLOOKUP(C341,Desplegables!$A$3:$B$12,2,0),\"\")","v":""},{"$f":"IF(D341<>\"\",VLOOKUP(D341,Desplegables!$A$26:$C$38,3,0),\"\")","v":""},{"$f":"IF(C341<>\"\",VLOOKUP(C341,Desplegables!$A$3:$C$12,3,0),\"\")","v":""},{"$f":"IF(D341<>\"\",VLOOKUP(D341,Desplegables!$A$12:$B$38,2,0),\"\")","v":""}]
[{"$f":"IF(A340<>\"\",A340,\"\")","v":""},{"$f":"IF(B340<>\"\",B340,\"\")","v":""},{"$f":"IF(C340<>\"\",C340,\"\")","v":""},{"$f":"IF(D340<>\"\",D340,\"\")","v":""},null,null,null,{"$f":"IF(AND(F342<>\"\",G342<>\"\"),VLOOKUP(F342,Desplegables!$E$2:$F$275,2,0)&G342,\"\")","v":""},null,null,null,null,null,null,null,{"$f":"IF(C342<>\"\",VLOOKUP(C342,Desplegables!$A$3:$B$12,2,0),\"\")","v":""},{"$f":"IF(D342<>\"\",VLOOKUP(D342,Desplegables!$A$26:$C$38,3,0),\"\")","v":""},{"$f":"IF(C342<>\"\",VLOOKUP(C342,Desplegables!$A$3:$C$12,3,0),\"\")","v":""},{"$f":"IF(D342<>\"\",VLOOKUP(D342,Desplegables!$A$12:$B$38,2,0),\"\")","v":""}]
[null,null,null,null,null,null,null,{"$f":"IF(AND(F343<>\"\",G343<>\"\"),VLOOKUP(F343,Desplegables!$E$2:$F$275,2,0)&G343,\"\")","v":""},null,null,null,null,null,null,null,{"$f":"IF(C343<>\"\",VLOOKUP(C343,Desplegables!$A$3:$B$12,2,0),\"\")","v":""},{"$f":"IF(D343<>\"\",VLOOKUP(D343,Desplegables!$A$26:$C$38,3,0),\"\")","v":""},{"$f":"IF(C343<>\"\",VLOOKUP(C343,Desplegables!$A$3:$C$12,3,0),\"\")","v":""},{"$f":"IF(D343<>\"\",VLOOKUP(D343,Desplegables!$A$12:$B$38,2,0),\"\")","v":""}]
[{"$f":"IF(A343<>\"\",A343,\"\")","v":""},{"$f":"IF(B343<>\"\",B343,\"\")","v":""},{"$f":"IF(C343<>\"\",C343,\"\")","v":""},{"$f":"IF(D343<>\"\",D343,\"\")","v":""},null,null,null,{"$f":"IF(AND(F344<>\"\",G344<>\"\"),VLOOKUP(F344,Desplegables!$E$2:$F$275,2,0)&G344,\"\")","v":""},null,null,null,null,null,null,null,{"$f":"IF(C344<>\"\",VLOOKUP(C344,Desplegables!$A$3:$B$12,2,0),\"\")","v":""},{"$f":"IF(D344<>\"\",VLOOKUP(D344,Desplegables!$A$26:$C$38,3,0),\"\")","v":""},{"$f":"IF(C344<>\"\",VLOOKUP(C344,Desplegables!$A$3:$C$12,3,0),\"\")","v":""},{"$f":"IF(D344<>\"\",VLOOKUP(D344,Desplegables!$A$12:$B$38,2,0),\"\")","v":""}]
[{"$f":"IF(A343<>\"\",A343,\"\")","v":""},{"$f":"IF(B343<>\"\",B343,\"\")","v":""},{"$f":"IF(C343<>\"\",C343,\"\")","v":""},{"$f":"IF(D343<>\"\",D343,\"\")","v":""},null,null,null,{"$f":"IF(AND(F345<>\"\",G345<>\"\"),VLOOKUP(F345,Desplegables!$E$2:$F$275,2,0)&G345,\"\")","v":""},null,null,null,null,null,null,null,{"$f":"IF(C345<>\"\",VLOOKUP(C345,Desplegables!$A$3:$B$12,2,0),\"\")","v":""},{"$f":"IF(D345<>\"\",VLOOKUP(D345,Desplegables!$A$26:$C$38,3,0),\"\")","v":""},{"$f":"IF(C345<>\"\",VLOOKUP(C345,Desplegables!$A$3:$C$12,3,0),\"\")","v":""},{"$f":"IF(D345<>\"\",VLOOKUP(D345,Desplegables!$A$12:$B$38,2,0),\"\")","v":""}]
[null,null,null,null,null,null,null,{"$f":"IF(AND(F346<>\"\",G346<>\"\"),VLOOKUP(F346,Desplegables!$E$2:$F$275,2,0)&G346,\"\")","v":""},null,null,null,null,null,null,null,{"$f":"IF(C346<>\"\",VLOOKUP(C346,Desplegables!$A$3:$B$12,2,0),\"\")","v":""},{"$f":"IF(D346<>\"\",VLOOKUP(D346,Desplegables!$A$26:$C$38,3,0),\"\")","v":""},{"$f":"IF(C346<>\"\",VLOOKUP(C346,Desplegables!$A$3:$C$12,3,0),\"\")","v":""},{"$f":"IF(D346<>\"\",VLOOKUP(D346,Desplegables!$A$12:$B$38,2,0),\"\")","v":""}]
[{"$f":"IF(A346<>\"\",A346,\"\")","v":""},{"$f":"IF(B346<>\"\",B346,\"\")","v":""},{"$f":"IF(C346<>\"\",C346,\"\")","v":""},{"$f":"IF(D346<>\"\",D346,\"\")","v":""},null,null,null,{"$f":"IF(AND(F347<>\"\",G347<>\"\"),VLOOKUP(F347,Desplegables!$E$2:$F$275,2,0)&G347,\"\")","v":""},null,null,null,null,null,null,null,{"$f":"IF(C347<>\"\",VLOOKUP(C347,Desplegables!$A$3:$B$12,2,0),\"\")","v":""},{"$f":"IF(D347<>\"\",VLOOKUP(D347,Desplegables!$A$26:$C$38,3,0),\"\")","v":""},{"$f":"IF(C347<>\"\",VLOOKUP(C347,Desplegables!$A$3:$C$12,3,0),\"\")","v":""},{"$f":"IF(D347<>\"\",VLOOKUP(D347,Desplegables!$A$12:$B$38,2,0),\"\")","v":""}]
[{"$f":"IF(A346<>\"\",A346,\"\")","v":""},{"$f":"IF(B346<>\"\",B346,\"\")","v":""},{"$f":"IF(C346<>\"\",C346,\"\")","v":""},{"$f":"IF(D346<>\"\",D346,\"\")","v":""},null,null,null,{"$f":"IF(AND(F348<>\"\",G348<>\"\"),VLOOKUP(F348,Desplegables!$E$2:$F$275,2,0)&G348,\"\")","v":""},null,null,null,null,null,null,null,{"$f":"IF(C348<>\"\",VLOOKUP(C348,Desplegables!$A$3:$B$12,2,0),\"\")","v":""},{"$f":"IF(D348<>\"\",VLOOKUP(D348,Desplegables!$A$26:$C$38,3,0),\"\")","v":""},{"$f":"IF(C348<>\"\",VLOOKUP(C348,Desplegables!$A$3:$C$12,3,0),\"\")","v":""},{"$f":"IF(D348<>\"\",VLOOKUP(D348,Desplegables!$A$12:$B$38,2,0),\"\")","v":""}]
[null,null,null,null,null,null,null,{"$f":"IF(AND(F349<>\"\",G349<>\"\"),VLOOKUP(F349,Desplegables!$E$2:$F$275,2,0)&G349,\"\")","v":""},null,null,null,null,null,null,null,{"$f":"IF(C349<>\"\",VLOOKUP(C349,Desplegables!$A$3:$B$12,2,0),\"\")","v":""},{"$f":"IF(D349<>\"\",VLOOKUP(D349,Desplegables!$A$26:$C$38,3,0),\"\")","v":""},{"$f":"IF(C349<>\"\",VLOOKUP(C349,Desplegables!$A$3:$C$12,3,0),\"\")","v":""},{"$f":"IF(D349<>\"\",VLOOKUP(D349,Desplegables!$A$12:$B$38,2,0),\"\")","v":""}]
[{"$f":"IF(A349<>\"\",A349,\"\")","v":""},{"$f":"IF(B349<>\"\",B349,\"\")","v":""},{"$f":"IF(C349<>\"\",C349,\"\")","v":""},{"$f":"IF(D349<>\"\",D349,\"\")","v":""},null,null,null,{"$f":"IF(AND(F350<>\"\",G350<>\"\"),VLOOKUP(F350,Desplegables!$E$2:$F$275,2,0)&G350,\"\")","v":""},null,null,null,null,null,null,null,{"$f":"IF(C350<>\"\",VLOOKUP(C350,Desplegables!$A$3:$B$12,2,0),\"\")","v":""},{"$f":"IF(D350<>\"\",VLOOKUP(D350,Desplegables!$A$26:$C$38,3,0),\"\")","v":""},{"$f":"IF(C350<>\"\",VLOOKUP(C350,Desplegables!$A$3:$C$12,3,0),\"\")","v":""},{"$f":"IF(D350<>\"\",VLOOKUP(D350,Desplegables!$A$12:$B$38,2,0),\"\")","v":""}]
[{"$f":"IF(A349<>\"\",A349,\"\")","v":""},{"$f":"IF(B349<>\"\",B349,\"\")","v":""},{"$f":"IF(C349<>\"\",C349,\"\")","v":""},{"$f":"IF(D349<>\"\",D349,\"\")","v":""},null,null,null,{"$f":"IF(AND(F351<>\"\",G351<>\"\"),VLOOKUP(F351,Desplegables!$E$2:$F$275,2,0)&G351,\"\")","v":""},null,null,null,null,null,null,null,{"$f":"IF(C351<>\"\",VLOOKUP(C351,Desplegables!$A$3:$B$12,2,0),\"\")","v":""},{"$f":"IF(D351<>\"\",VLOOKUP(D351,Desplegables!$A$26:$C$38,3,0),\"\")","v":""},{"$f":"IF(C351<>\"\",VLOOKUP(C351,Desplegables!$A$3:$C$12,3,0),\"\")","v":""},{"$f":"IF(D351<>\"\",VLOOKUP(D351,Desplegables!$A$12:$B$38,2,0),\"\")","v":""}]
[null,null,null,null,null,null,null,{"$f":"IF(AND(F352<>\"\",G352<>\"\"),VLOOKUP(F352,Desplegables!$E$2:$F$275,2,0)&G352,\"\")","v":""},null,null,null,null,null,null,null,{"$f":"IF(C352<>\"\",VLOOKUP(C352,Desplegables!$A$3:$B$12,2,0),\"\")","v":""},{"$f":"IF(D352<>\"\",VLOOKUP(D352,Desplegables!$A$26:$C$38,3,0),\"\")","v":""},{"$f":"IF(C352<>\"\",VLOOKUP(C352,Desplegables!$A$3:$C$12,3,0),\"\")","v":""},{"$f":"IF(D352<>\"\",VLOOKUP(D352,Desplegables!$A$12:$B$38,2,0),\"\")","v":""}]
[{"$f":"IF(A352<>\"\",A352,\"\")","v":""},{"$f":"IF(B352<>\"\",B352,\"\")","v":""},{"$f":"IF(C352<>\"\",C352,\"\")","v":""},{"$f":"IF(D352<>\"\",D352,\"\")","v":""},null,null,null,{"$f":"IF(AND(F353<>\"\",G353<>\"\"),VLOOKUP(F353,Desplegables!$E$2:$F$275,2,0)&G353,\"\")","v":""},null,null,null,null,null,null,null,{"$f":"IF(C353<>\"\",VLOOKUP(C353,Desplegables!$A$3:$B$12,2,0),\"\")","v":""},{"$f":"IF(D353<>\"\",VLOOKUP(D353,Desplegables!$A$26:$C$38,3,0),\"\")","v":""},{"$f":"IF(C353<>\"\",VLOOKUP(C353,Desplegables!$A$3:$C$12,3,0),\"\")","v":""},{"$f":"IF(D353<>\"\",VLOOKUP(D353,Desplegables!$A$12:$B$38,2,0),\"\")","v":""}]
[{"$f":"IF(A352<>\"\",A352,\"\")","v":""},{"$f":"IF(B352<>\"\",B352,\"\")","v":""},{"$f":"IF(C352<>\"\",C352,\"\")","v":""},{"$f":"IF(D352<>\"\",D352,\"\")","v":""},null,null,null,{"$f":"IF(AND(F354<>\"\",G354<>\"\"),VLOOKUP(F354,Desplegables!$E$2:$F$275,2,0)&G354,\"\")","v":""},null,null,null,null,null,null,null,{"$f":"IF(C354<>\"\",VLOOKUP(C354,Desplegables!$A$3:$B$12,2,0),\"\")","v":""},{"$f":"IF(D354<>\"\",VLOOKUP(D354,Desplegables!$A$26:$C$38,3,0),\"\")","v":""},{"$f":"IF(C354<>\"\",VLOOKUP(C354,Desplegables!$A$3:$C$12,3,0),\"\")","v":""},{"$f":"IF(D354<>\"\",VLOOKUP(D354,Desplegables!$A$12:$B$38,2,0),\"\")","v":""}]
[null,null,null,null,null,null,null,{"$f":"IF(AND(F355<>\"\",G355<>\"\"),VLOOKUP(F355,Desplegables!$E$2:$F$275,2,0)&G355,\"\")","v":""},null,null,null,null,null,null,null,{"$f":"IF(C355<>\"\",VLOOKUP(C355,Desplegables!$A$3:$B$12,2,0),\"\")","v":""},{"$f":"IF(D355<>\"\",VLOOKUP(D355,Desplegables!$A$26:$C$38,3,0),\"\")","v":""},{"$f":"IF(C355<>\"\",VLOOKUP(C355,Desplegables!$A$3:$C$12,3,0),\"\")","v":""},{"$f":"IF(D355<>\"\",VLOOKUP(D355,Desplegables!$A$12:$B$38,2,0),\"\")","v":""}]
[{"$f":"IF(A355<>\"\",A355,\"\")","v":""},{"$f":"IF(B355<>\"\",B355,\"\")","v":""},{"$f":"IF(C355<>\"\",C355,\"\")","v":""},{"$f":"IF(D355<>\"\",D355,\"\")","v":""},null,null,null,{"$f":"IF(AND(F356<>\"\",G356<>\"\"),VLOOKUP(F356,Desplegables!$E$2:$F$275,2,0)&G356,\"\")","v":""},null,null,null,null,null,null,null,{"$f":"IF(C356<>\"\",VLOOKUP(C356,Desplegables!$A$3:$B$12,2,0),\"\")","v":""},{"$f":"IF(D356<>\"\",VLOOKUP(D356,Desplegables!$A$26:$C$38,3,0),\"\")","v":""},{"$f":"IF(C356<>\"\",VLOOKUP(C356,Desplegables!$A$3:$C$12,3,0),\"\")","v":""},{"$f":"IF(D356<>\"\",VLOOKUP(D356,Desplegables!$A$12:$B$38,2,0),\"\")","v":""}]
[{"$f":"IF(A355<>\"\",A355,\"\")","v":""},{"$f":"IF(B355<>\"\",B355,\"\")","v":""},{"$f":"IF(C355<>\"\",C355,\"\")","v":""},{"$f":"IF(D355<>\"\",D355,\"\")","v":""},null,null,null,{"$f":"IF(AND(F357<>\"\",G357<>\"\"),VLOOKUP(F357,Desplegables!$E$2:$F$275,2,0)&G357,\"\")","v":""},null,null,null,null,null,null,null,{"$f":"IF(C357<>\"\",VLOOKUP(C357,Desplegables!$A$3:$B$12,2,0),\"\")","v":""},{"$f":"IF(D357<>\"\",VLOOKUP(D357,Desplegables!$A$26:$C$38,3,0),\"\")","v":""},{"$f":"IF(C357<>\"\",VLOOKUP(C357,Desplegables!$A$3:$C$12,3,0),\"\")","v":""},{"$f":"IF(D357<>\"\",VLOOKUP(D357,Desplegables!$A$12:$B$38,2,0),\"\")","v":""}]
[null,null,null,null,null,null,null,{"$f":"IF(AND(F358<>\"\",G358<>\"\"),VLOOKUP(F358,Desplegables!$E$2:$F$275,2,0)&G358,\"\")","v":""},null,null,null,null,null,null,null,{"$f":"IF(C358<>\"\",VLOOKUP(C358,Desplegables!$A$3:$B$12,2,0),\"\")","v":""},{"$f":"IF(D358<>\"\",VLOOKUP(D358,Desplegables!$A$26:$C$38,3,0),\"\")","v":""},{"$f":"IF(C358<>\"\",VLOOKUP(C358,Desplegables!$A$3:$C$12,3,0),\"\")","v":""},{"$f":"IF(D358<>\"\",VLOOKUP(D358,Desplegables!$A$12:$B$38,2,0),\"\")","v":""}]
[{"$f":"IF(A358<>\"\",A358,\"\")","v":""},{"$f":"IF(B358<>\"\",B358,\"\")","v":""},{"$f":"IF(C358<>\"\",C358,\"\")","v":""},{"$f":"IF(D358<>\"\",D358,\"\")","v":""},null,null,null,{"$f":"IF(AND(F359<>\"\",G359<>\"\"),VLOOKUP(F359,Desplegables!$E$2:$F$275,2,0)&G359,\"\")","v":""},null,null,null,null,null,null,null,{"$f":"IF(C359<>\"\",VLOOKUP(C359,Desplegables!$A$3:$B$12,2,0),\"\")","v":""},{"$f":"IF(D359<>\"\",VLOOKUP(D359,Desplegables!$A$26:$C$38,3,0),\"\")","v":""},{"$f":"IF(C359<>\"\",VLOOKUP(C359,Desplegables!$A$3:$C$12,3,0),\"\")","v":""},{"$f":"IF(D359<>\"\",VLOOKUP(D359,Desplegables!$A$12:$B$38,2,0),\"\")","v":""}]
[{"$f":"IF(A358<>\"\",A358,\"\")","v":""},{"$f":"IF(B358<>\"\",B358,\"\")","v":""},{"$f":"IF(C358<>\"\",C358,\"\")","v":""},{"$f":"IF(D358<>\"\",D358,\"\")","v":""},null,null,null,{"$f":"IF(AND(F360<>\"\",G360<>\"\"),VLOOKUP(F360,Desplegables!$E$2:$F$275,2,0)&G360,\"\")","v":""},null,null,null,null,null,null,null,{"$f":"IF(C360<>\"\",VLOOKUP(C360,Desplegables!$A$3:$B$12,2,0),\"\")","v":""},{"$f":"IF(D360<>\"\",VLOOKUP(D360,Desplegables!$A$26:$C$38,3,0),\"\")","v":""},{"$f":"IF(C360<>\"\",VLOOKUP(C360,Desplegables!$A$3:$C$12,3,0),\"\")","v":""},{"$f":"IF(D360<>\"\",VLOOKUP(D360,Desplegables!$A$12:$B$38,2,0),\"\")","v":""}]
[null,null,null,null,null,null,null,{"$f":"IF(AND(F361<>\"\",G361<>\"\"),VLOOKUP(F361,Desplegables!$E$2:$F$275,2,0)&G361,\"\")","v":""},null,null,null,null,null,null,null,{"$f":"IF(C361<>\"\",VLOOKUP(C361,Desplegables!$A$3:$B$12,2,0),\"\")","v":""},{"$f":"IF(D361<>\"\",VLOOKUP(D361,Desplegables!$A$26:$C$38,3,0),\"\")","v":""},{"$f":"IF(C361<>\"\",VLOOKUP(C361,Desplegables!$A$3:$C$12,3,0),\"\")","v":""},{"$f":"IF(D361<>\"\",VLOOKUP(D361,Desplegables!$A$12:$B$38,2,0),\"\")","v":""}]
[{"$f":"IF(A361<>\"\",A361,\"\")","v":""},{"$f":"IF(B361<>\"\",B361,\"\")","v":""},{"$f":"IF(C361<>\"\",C361,\"\")","v":""},{"$f":"IF(D361<>\"\",D361,\"\")","v":""},null,null,null,{"$f":"IF(AND(F362<>\"\",G362<>\"\"),VLOOKUP(F362,Desplegables!$E$2:$F$275,2,0)&G362,\"\")","v":""},null,null,null,null,null,null,null,{"$f":"IF(C362<>\"\",VLOOKUP(C362,Desplegables!$A$3:$B$12,2,0),\"\")","v":""},{"$f":"IF(D362<>\"\",VLOOKUP(D362,Desplegables!$A$26:$C$38,3,0),\"\")","v":""},{"$f":"IF(C362<>\"\",VLOOKUP(C362,Desplegables!$A$3:$C$12,3,0),\"\")","v":""},{"$f":"IF(D362<>\"\",VLOOKUP(D362,Desplegables!$A$12:$B$38,2,0),\"\")","v":""}]
[{"$f":"IF(A361<>\"\",A361,\"\")","v":""},{"$f":"IF(B361<>\"\",B361,\"\")","v":""},{"$f":"IF(C361<>\"\",C361,\"\")","v":""},{"$f":"IF(D361<>\"\",D361,\"\")","v":""},null,null,null,{"$f":"IF(AND(F363<>\"\",G363<>\"\"),VLOOKUP(F363,Desplegables!$E$2:$F$275,2,0)&G363,\"\")","v":""},null,null,null,null,null,null,null,{"$f":"IF(C363<>\"\",VLOOKUP(C363,Desplegables!$A$3:$B$12,2,0),\"\")","v":""},{"$f":"IF(D363<>\"\",VLOOKUP(D363,Desplegables!$A$26:$C$38,3,0),\"\")","v":""},{"$f":"IF(C363<>\"\",VLOOKUP(C363,Desplegables!$A$3:$C$12,3,0),\"\")","v":""},{"$f":"IF(D363<>\"\",VLOOKUP(D363,Desplegables!$A$12:$B$38,2,0),\"\")","v":""}]
[null,null,null,null,null,null,null,{"$f":"IF(AND(F364<>\"\",G364<>\"\"),VLOOKUP(F364,Desplegables!$E$2:$F$275,2,0)&G364,\"\")","v":""},null,null,null,null,null,null,null,{"$f":"IF(C364<>\"\",VLOOKUP(C364,Desplegables!$A$3:$B$12,2,0),\"\")","v":""},{"$f":"IF(D364<>\"\",VLOOKUP(D364,Desplegables!$A$26:$C$38,3,0),\"\")","v":""},{"$f":"IF(C364<>\"\",VLOOKUP(C364,Desplegables!$A$3:$C$12,3,0),\"\")","v":""},{"$f":"IF(D364<>\"\",VLOOKUP(D364,Desplegables!$A$12:$B$38,2,0),\"\")","v":""}]
[{"$f":"IF(A364<>\"\",A364,\"\")","v":""},{"$f":"IF(B364<>\"\",B364,\"\")","v":""},{"$f":"IF(C364<>\"\",C364,\"\")","v":""},{"$f":"IF(D364<>\"\",D364,\"\")","v":""},null,null,null,{"$f":"IF(AND(F365<>\"\",G365<>\"\"),VLOOKUP(F365,Desplegables!$E$2:$F$275,2,0)&G365,\"\")","v":""},null,null,null,null,null,null,null,{"$f":"IF(C365<>\"\",VLOOKUP(C365,Desplegables!$A$3:$B$12,2,0),\"\")","v":""},{"$f":"IF(D365<>\"\",VLOOKUP(D365,Desplegables!$A$26:$C$38,3,0),\"\")","v":""},{"$f":"IF(C365<>\"\",VLOOKUP(C365,Desplegables!$A$3:$C$12,3,0),\"\")","v":""},{"$f":"IF(D365<>\"\",VLOOKUP(D365,Desplegables!$A$12:$B$38,2,0),\"\")","v":""}]
[{"$f":"IF(A364<>\"\",A364,\"\")","v":""},{"$f":"IF(B364<>\"\",B364,\"\")","v":""},{"$f":"IF(C364<>\"\",C364,\"\")","v":""},{"$f":"IF(D364<>\"\",D364,\"\")","v":""},null,null,null,{"$f":"IF(AND(F366<>\"\",G366<>\"\"),VLOOKUP(F366,Desplegables!$E$2:$F$275,2,0)&G366,\"\")","v":""},null,null,null,null,null,null,null,{"$f":"IF(C366<>\"\",VLOOKUP(C366,Desplegables!$A$3:$B$12,2,0),\"\")","v":""},{"$f":"IF(D366<>\"\",VLOOKUP(D366,Desplegables!$A$26:$C$38,3,0),\"\")","v":""},{"$f":"IF(C366<>\"\",VLOOKUP(C366,Desplegables!$A$3:$C$12,3,0),\"\")","v":""},{"$f":"IF(D366<>\"\",VLOOKUP(D366,Desplegables!$A$12:$B$38,2,0),\"\")","v":""}]
[null,null,null,null,null,null,null,{"$f":"IF(AND(F367<>\"\",G367<>\"\"),VLOOKUP(F367,Desplegables!$E$2:$F$275,2,0)&G367,\"\")","v":""},null,null,null,null,null,null,null,{"$f":"IF(C367<>\"\",VLOOKUP(C367,Desplegables!$A$3:$B$12,2,0),\"\")","v":""},{"$f":"IF(D367<>\"\",VLOOKUP(D367,Desplegables!$A$26:$C$38,3,0),\"\")","v":""},{"$f":"IF(C367<>\"\",VLOOKUP(C367,Desplegables!$A$3:$C$12,3,0),\"\")","v":""},{"$f":"IF(D367<>\"\",VLOOKUP(D367,Desplegables!$A$12:$B$38,2,0),\"\")","v":""}]
[{"$f":"IF(A367<>\"\",A367,\"\")","v":""},{"$f":"IF(B367<>\"\",B367,\"\")","v":""},{"$f":"IF(C367<>\"\",C367,\"\")","v":""},{"$f":"IF(D367<>\"\",D367,\"\")","v":""},null,null,null,{"$f":"IF(AND(F368<>\"\",G368<>\"\"),VLOOKUP(F368,Desplegables!$E$2:$F$275,2,0)&G368,\"\")","v":""},null,null,null,null,null,null,null,{"$f":"IF(C368<>\"\",VLOOKUP(C368,Desplegables!$A$3:$B$12,2,0),\"\")","v":""},{"$f":"IF(D368<>\"\",VLOOKUP(D368,Desplegables!$A$26:$C$38,3,0),\"\")","v":""},{"$f":"IF(C368<>\"\",VLOOKUP(C368,Desplegables!$A$3:$C$12,3,0),\"\")","v":""},{"$f":"IF(D368<>\"\",VLOOKUP(D368,Desplegables!$A$12:$B$38,2,0),\"\")","v":""}]
[{"$f":"IF(A367<>\"\",A367,\"\")","v":""},{"$f":"IF(B367<>\"\",B367,\"\")","v":""},{"$f":"IF(C367<>\"\",C367,\"\")","v":""},{"$f":"IF(D367<>\"\",D367,\"\")","v":""},null,null,null,{"$f":"IF(AND(F369<>\"\",G369<>\"\"),VLOOKUP(F369,Desplegables!$E$2:$F$275,2,0)&G369,\"\")","v":""},null,null,null,null,null,null,null,{"$f":"IF(C369<>\"\",VLOOKUP(C369,Desplegables!$A$3:$B$12,2,0),\"\")","v":""},{"$f":"IF(D369<>\"\",VLOOKUP(D369,Desplegables!$A$26:$C$38,3,0),\"\")","v":""},{"$f":"IF(C369<>\"\",VLOOKUP(C369,Desplegables!$A$3:$C$12,3,0),\"\")","v":""},{"$f":"IF(D369<>\"\",VLOOKUP(D369,Desplegables!$A$12:$B$38,2,0),\"\")","v":""}]
[null,null,null,null,null,null,null,{"$f":"IF(AND(F370<>\"\",G370<>\"\"),VLOOKUP(F370,Desplegables!$E$2:$F$275,2,0)&G370,\"\")","v":""},null,null,null,null,null,null,null,{"$f":"IF(C370<>\"\",VLOOKUP(C370,Desplegables!$A$3:$B$12,2,0),\"\")","v":""},{"$f":"IF(D370<>\"\",VLOOKUP(D370,Desplegables!$A$26:$C$38,3,0),\"\")","v":""},{"$f":"IF(C370<>\"\",VLOOKUP(C370,Desplegables!$A$3:$C$12,3,0),\"\")","v":""},{"$f":"IF(D370<>\"\",VLOOKUP(D370,Desplegables!$A$12:$B$38,2,0),\"\")","v":""}]
[{"$f":"IF(A370<>\"\",A370,\"\")","v":""},{"$f":"IF(B370<>\"\",B370,\"\")","v":""},{"$f":"IF(C370<>\"\",C370,\"\")","v":""},{"$f":"IF(D370<>\"\",D370,\"\")","v":""},null,null,null,{"$f":"IF(AND(F371<>\"\",G371<>\"\"),VLOOKUP(F371,Desplegables!$E$2:$F$275,2,0)&G371,\"\")","v":""},null,null,null,null,null,null,null,{"$f":"IF(C371<>\"\",VLOOKUP(C371,Desplegables!$A$3:$B$12,2,0),\"\")","v":""},{"$f":"IF(D371<>\"\",VLOOKUP(D371,Desplegables!$A$26:$C$38,3,0),\"\")","v":""},{"$f":"IF(C371<>\"\",VLOOKUP(C371,Desplegables!$A$3:$C$12,3,0),\"\")","v":""},{"$f":"IF(D371<>\"\",VLOOKUP(D371,Desplegables!$A$12:$B$38,2,0),\"\")","v":""}]
[{"$f":"IF(A370<>\"\",A370,\"\")","v":""},{"$f":"IF(B370<>\"\",B370,\"\")","v":""},{"$f":"IF(C370<>\"\",C370,\"\")","v":""},{"$f":"IF(D370<>\"\",D370,\"\")","v":""},null,null,null,{"$f":"IF(AND(F372<>\"\",G372<>\"\"),VLOOKUP(F372,Desplegables!$E$2:$F$275,2,0)&G372,\"\")","v":""},null,null,null,null,null,null,null,{"$f":"IF(C372<>\"\",VLOOKUP(C372,Desplegables!$A$3:$B$12,2,0),\"\")","v":""},{"$f":"IF(D372<>\"\",VLOOKUP(D372,Desplegables!$A$26:$C$38,3,0),\"\")","v":""},{"$f":"IF(C372<>\"\",VLOOKUP(C372,Desplegables!$A$3:$C$12,3,0),\"\")","v":""},{"$f":"IF(D372<>\"\",VLOOKUP(D372,Desplegables!$A$12:$B$38,2,0),\"\")","v":""}]
[null,null,null,null,null,null,null,{"$f":"IF(AND(F373<>\"\",G373<>\"\"),VLOOKUP(F373,Desplegables!$E$2:$F$275,2,0)&G373,\"\")","v":""},null,null,null,null,null,null,null,{"$f":"IF(C373<>\"\",VLOOKUP(C373,Desplegables!$A$3:$B$12,2,0),\"\")","v":""},{"$f":"IF(D373<>\"\",VLOOKUP(D373,Desplegables!$A$26:$C$38,3,0),\"\")","v":""},{"$f":"IF(C373<>\"\",VLOOKUP(C373,Desplegables!$A$3:$C$12,3,0),\"\")","v":""},{"$f":"IF(D373<>\"\",VLOOKUP(D373,Desplegables!$A$12:$B$38,2,0),\"\")","v":""}]
[{"$f":"IF(A373<>\"\",A373,\"\")","v":""},{"$f":"IF(B373<>\"\",B373,\"\")","v":""},{"$f":"IF(C373<>\"\",C373,\"\")","v":""},{"$f":"IF(D373<>\"\",D373,\"\")","v":""},null,null,null,{"$f":"IF(AND(F374<>\"\",G374<>\"\"),VLOOKUP(F374,Desplegables!$E$2:$F$275,2,0)&G374,\"\")","v":""},null,null,null,null,null,null,null,{"$f":"IF(C374<>\"\",VLOOKUP(C374,Desplegables!$A$3:$B$12,2,0),\"\")","v":""},{"$f":"IF(D374<>\"\",VLOOKUP(D374,Desplegables!$A$26:$C$38,3,0),\"\")","v":""},{"$f":"IF(C374<>\"\",VLOOKUP(C374,Desplegables!$A$3:$C$12,3,0),\"\")","v":""},{"$f":"IF(D374<>\"\",VLOOKUP(D374,Desplegables!$A$12:$B$38,2,0),\"\")","v":""}]
[{"$f":"IF(A373<>\"\",A373,\"\")","v":""},{"$f":"IF(B373<>\"\",B373,\"\")","v":""},{"$f":"IF(C373<>\"\",C373,\"\")","v":""},{"$f":"IF(D373<>\"\",D373,\"\")","v":""},null,null,null,{"$f":"IF(AND(F375<>\"\",G375<>\"\"),VLOOKUP(F375,Desplegables!$E$2:$F$275,2,0)&G375,\"\")","v":""},null,null,null,null,null,null,null,{"$f":"IF(C375<>\"\",VLOOKUP(C375,Desplegables!$A$3:$B$12,2,0),\"\")","v":""},{"$f":"IF(D375<>\"\",VLOOKUP(D375,Desplegables!$A$26:$C$38,3,0),\"\")","v":""},{"$f":"IF(C375<>\"\",VLOOKUP(C375,Desplegables!$A$3:$C$12,3,0),\"\")","v":""},{"$f":"IF(D375<>\"\",VLOOKUP(D375,Desplegables!$A$12:$B$38,2,0),\"\")","v":""}]
[null,null,null,null,null,null,null,{"$f":"IF(AND(F376<>\"\",G376<>\"\"),VLOOKUP(F376,Desplegables!$E$2:$F$275,2,0)&G376,\"\")","v":""},null,null,null,null,null,null,null,{"$f":"IF(C376<>\"\",VLOOKUP(C376,Desplegables!$A$3:$B$12,2,0),\"\")","v":""},{"$f":"IF(D376<>\"\",VLOOKUP(D376,Desplegables!$A$26:$C$38,3,0),\"\")","v":""},{"$f":"IF(C376<>\"\",VLOOKUP(C376,Desplegables!$A$3:$C$12,3,0),\"\")","v":""},{"$f":"IF(D376<>\"\",VLOOKUP(D376,Desplegables!$A$12:$B$38,2,0),\"\")","v":""}]
[{"$f":"IF(A376<>\"\",A376,\"\")","v":""},{"$f":"IF(B376<>\"\",B376,\"\")","v":""},{"$f":"IF(C376<>\"\",C376,\"\")","v":""},{"$f":"IF(D376<>\"\",D376,\"\")","v":""},null,null,null,{"$f":"IF(AND(F377<>\"\",G377<>\"\"),VLOOKUP(F377,Desplegables!$E$2:$F$275,2,0)&G377,\"\")","v":""},null,null,null,null,null,null,null,{"$f":"IF(C377<>\"\",VLOOKUP(C377,Desplegables!$A$3:$B$12,2,0),\"\")","v":""},{"$f":"IF(D377<>\"\",VLOOKUP(D377,Desplegables!$A$26:$C$38,3,0),\"\")","v":""},{"$f":"IF(C377<>\"\",VLOOKUP(C377,Desplegables!$A$3:$C$12,3,0),\"\")","v":""},{"$f":"IF(D377<>\"\",VLOOKUP(D377,Desplegables!$A$12:$B$38,2,0),\"\")","v":""}]
[{"$f":"IF(A376<>\"\",A376,\"\")","v":""},{"$f":"IF(B376<>\"\",B376,\"\")","v":""},{"$f":"IF(C376<>\"\",C376,\"\")","v":""},{"$f":"IF(D376<>\"\",D376,\"\")","v":""},null,null,null,{"$f":"IF(AND(F378<>\"\",G378<>\"\"),VLOOKUP(F378,Desplegables!$E$2:$F$275,2,0)&G378,\"\")","v":""},null,null,null,null,null,null,null,{"$f":"IF(C378<>\"\",VLOOKUP(C378,Desplegables!$A$3:$B$12,2,0),\"\")","v":""},{"$f":"IF(D378<>\"\",VLOOKUP(D378,Desplegables!$A$26:$C$38,3,0),\"\")","v":""},{"$f":"IF(C378<>\"\",VLOOKUP(C378,Desplegables!$A$3:$C$12,3,0),\"\")","v":""},{"$f":"IF(D378<>\"\",VLOOKUP(D378,Desplegables!$A$12:$B$38,2,0),\"\")","v":""}]
[null,null,null,null,null,null,null,{"$f":"IF(AND(F379<>\"\",G379<>\"\"),VLOOKUP(F379,Desplegables!$E$2:$F$275,2,0)&G379,\"\")","v":""},null,null,null,null,null,null,null,{"$f":"IF(C379<>\"\",VLOOKUP(C379,Desplegables!$A$3:$B$12,2,0),\"\")","v":""},{"$f":"IF(D379<>\"\",VLOOKUP(D379,Desplegables!$A$26:$C$38,3,0),\"\")","v":""},{"$f":"IF(C379<>\"\",VLOOKUP(C379,Desplegables!$A$3:$C$12,3,0),\"\")","v":""},{"$f":"IF(D379<>\"\",VLOOKUP(D379,Desplegables!$A$12:$B$38,2,0),\"\")","v":""}]
[{"$f":"IF(A379<>\"\",A379,\"\")","v":""},{"$f":"IF(B379<>\"\",B379,\"\")","v":""},{"$f":"IF(C379<>\"\",C379,\"\")","v":""},{"$f":"IF(D379<>\"\",D379,\"\")","v":""},null,null,null,{"$f":"IF(AND(F380<>\"\",G380<>\"\"),VLOOKUP(F380,Desplegables!$E$2:$F$275,2,0)&G380,\"\")","v":""},null,null,null,null,null,null,null,{"$f":"IF(C380<>\"\",VLOOKUP(C380,Desplegables!$A$3:$B$12,2,0),\"\")","v":""},{"$f":"IF(D380<>\"\",VLOOKUP(D380,Desplegables!$A$26:$C$38,3,0),\"\")","v":""},{"$f":"IF(C380<>\"\",VLOOKUP(C380,Desplegables!$A$3:$C$12,3,0),\"\")","v":""},{"$f":"IF(D380<>\"\",VLOOKUP(D380,Desplegables!$A$12:$B$38,2,0),\"\")","v":""}]
[{"$f":"IF(A379<>\"\",A379,\"\")","v":""},{"$f":"IF(B379<>\"\",B379,\"\")","v":""},{"$f":"IF(C379<>\"\",C379,\"\")","v":""},{"$f":"IF(D379<>\"\",D379,\"\")","v":""},null,null,null,{"$f":"IF(AND(F381<>\"\",G381<>\"\"),VLOOKUP(F381,Desplegables!$E$2:$F$275,2,0)&G381,\"\")","v":""},null,null,null,null,null,null,null,{"$f":"IF(C381<>\"\",VLOOKUP(C381,Desplegables!$A$3:$B$12,2,0),\"\")","v":""},{"$f":"IF(D381<>\"\",VLOOKUP(D381,Desplegables!$A$26:$C$38,3,0),\"\")","v":""},{"$f":"IF(C381<>\"\",VLOOKUP(C381,Desplegables!$A$3:$C$12,3,0),\"\")","v":""},{"$f":"IF(D381<>\"\",VLOOKUP(D381,Desplegables!$A$12:$B$38,2,0),\"\")","v":""}]
[null,null,null,null,null,null,null,{"$f":"IF(AND(F382<>\"\",G382<>\"\"),VLOOKUP(F382,Desplegables!$E$2:$F$275,2,0)&G382,\"\")","v":""},null,null,null,null,null,null,null,{"$f":"IF(C382<>\"\",VLOOKUP(C382,Desplegables!$A$3:$B$12,2,0),\"\")","v":""},{"$f":"IF(D382<>\"\",VLOOKUP(D382,Desplegables!$A$26:$C$38,3,0),\"\")","v":""},{"$f":"IF(C382<>\"\",VLOOKUP(C382,Desplegables!$A$3:$C$12,3,0),\"\")","v":""},{"$f":"IF(D382<>\"\",VLOOKUP(D382,Desplegables!$A$12:$B$38,2,0),\"\")","v":""}]
[{"$f":"IF(A382<>\"\",A382,\"\")","v":""},{"$f":"IF(B382<>\"\",B382,\"\")","v":""},{"$f":"IF(C382<>\"\",C382,\"\")","v":""},{"$f":"IF(D382<>\"\",D382,\"\")","v":""},null,null,null,{"$f":"IF(AND(F383<>\"\",G383<>\"\"),VLOOKUP(F383,Desplegables!$E$2:$F$275,2,0)&G383,\"\")","v":""},null,null,null,null,null,null,null,{"$f":"IF(C383<>\"\",VLOOKUP(C383,Desplegables!$A$3:$B$12,2,0),\"\")","v":""},{"$f":"IF(D383<>\"\",VLOOKUP(D383,Desplegables!$A$26:$C$38,3,0),\"\")","v":""},{"$f":"IF(C383<>\"\",VLOOKUP(C383,Desplegables!$A$3:$C$12,3,0),\"\")","v":""},{"$f":"IF(D383<>\"\",VLOOKUP(D383,Desplegables!$A$12:$B$38,2,0),\"\")","v":""}]
[{"$f":"IF(A382<>\"\",A382,\"\")","v":""},{"$f":"IF(B382<>\"\",B382,\"\")","v":""},{"$f":"IF(C382<>\"\",C382,\"\")","v":""},{"$f":"IF(D382<>\"\",D382,\"\")","v":""},null,null,null,{"$f":"IF(AND(F384<>\"\",G384<>\"\"),VLOOKUP(F384,Desplegables!$E$2:$F$275,2,0)&G384,\"\")","v":""},null,null,null,null,null,null,null,{"$f":"IF(C384<>\"\",VLOOKUP(C384,Desplegables!$A$3:$B$12,2,0),\"\")","v":""},{"$f":"IF(D384<>\"\",VLOOKUP(D384,Desplegables!$A$26:$C$38,3,0),\"\")","v":""},{"$f":"IF(C384<>\"\",VLOOKUP(C384,Desplegables!$A$3:$C$12,3,0),\"\")","v":""},{"$f":"IF(D384<>\"\",VLOOKUP(D384,Desplegables!$A$12:$B$38,2,0),\"\")","v":""}]
[null,null,null,null,null,null,null,{"$f":"IF(AND(F385<>\"\",G385<>\"\"),VLOOKUP(F385,Desplegables!$E$2:$F$275,2,0)&G385,\"\")","v":""},null,null,null,null,null,null,null,{"$f":"IF(C385<>\"\",VLOOKUP(C385,Desplegables!$A$3:$B$12,2,0),\"\")","v":""},{"$f":"IF(D385<>\"\",VLOOKUP(D385,Desplegables!$A$26:$C$38,3,0),\"\")","v":""},{"$f":"IF(C385<>\"\",VLOOKUP(C385,Desplegables!$A$3:$C$12,3,0),\"\")","v":""},{"$f":"IF(D385<>\"\",VLOOKUP(D385,Desplegables!$A$12:$B$38,2,0),\"\")","v":""}]
[{"$f":"IF(A385<>\"\",A385,\"\")","v":""},{"$f":"IF(B385<>\"\",B385,\"\")","v":""},{"$f":"IF(C385<>\"\",C385,\"\")","v":""},{"$f":"IF(D385<>\"\",D385,\"\")","v":""},null,null,null,{"$f":"IF(AND(F386<>\"\",G386<>\"\"),VLOOKUP(F386,Desplegables!$E$2:$F$275,2,0)&G386,\"\")","v":""},null,null,null,null,null,null,null,{"$f":"IF(C386<>\"\",VLOOKUP(C386,Desplegables!$A$3:$B$12,2,0),\"\")","v":""},{"$f":"IF(D386<>\"\",VLOOKUP(D386,Desplegables!$A$26:$C$38,3,0),\"\")","v":""},{"$f":"IF(C386<>\"\",VLOOKUP(C386,Desplegables!$A$3:$C$12,3,0),\"\")","v":""},{"$f":"IF(D386<>\"\",VLOOKUP(D386,Desplegables!$A$12:$B$38,2,0),\"\")","v":""}]
[{"$f":"IF(A385<>\"\",A385,\"\")","v":""},{"$f":"IF(B385<>\"\",B385,\"\")","v":""},{"$f":"IF(C385<>\"\",C385,\"\")","v":""},{"$f":"IF(D385<>\"\",D385,\"\")","v":""},null,null,null,{"$f":"IF(AND(F387<>\"\",G387<>\"\"),VLOOKUP(F387,Desplegables!$E$2:$F$275,2,0)&G387,\"\")","v":""},null,null,null,null,null,null,null,{"$f":"IF(C387<>\"\",VLOOKUP(C387,Desplegables!$A$3:$B$12,2,0),\"\")","v":""},{"$f":"IF(D387<>\"\",VLOOKUP(D387,Desplegables!$A$26:$C$38,3,0),\"\")","v":""},{"$f":"IF(C387<>\"\",VLOOKUP(C387,Desplegables!$A$3:$C$12,3,0),\"\")","v":""},{"$f":"IF(D387<>\"\",VLOOKUP(D387,Desplegables!$A$12:$B$38,2,0),\"\")","v":""}]
[null,null,null,null,null,null,null,{"$f":"IF(AND(F388<>\"\",G388<>\"\"),VLOOKUP(F388,Desplegables!$E$2:$F$275,2,0)&G388,\"\")","v":""},null,null,null,null,null,null,null,{"$f":"IF(C388<>\"\",VLOOKUP(C388,Desplegables!$A$3:$B$12,2,0),\"\")","v":""},{"$f":"IF(D388<>\"\",VLOOKUP(D388,Desplegables!$A$26:$C$38,3,0),\"\")","v":""},{"$f":"IF(C388<>\"\",VLOOKUP(C388,Desplegables!$A$3:$C$12,3,0),\"\")","v":""},{"$f":"IF(D388<>\"\",VLOOKUP(D388,Desplegables!$A$12:$B$38,2,0),\"\")","v":""}]
[{"$f":"IF(A388<>\"\",A388,\"\")","v":""},{"$f":"IF(B388<>\"\",B388,\"\")","v":""},{"$f":"IF(C388<>\"\",C388,\"\")","v":""},{"$f":"IF(D388<>\"\",D388,\"\")","v":""},null,null,null,{"$f":"IF(AND(F389<>\"\",G389<>\"\"),VLOOKUP(F389,Desplegables!$E$2:$F$275,2,0)&G389,\"\")","v":""},null,null,null,null,null,null,null,{"$f":"IF(C389<>\"\",VLOOKUP(C389,Desplegables!$A$3:$B$12,2,0),\"\")","v":""},{"$f":"IF(D389<>\"\",VLOOKUP(D389,Desplegables!$A$26:$C$38,3,0),\"\")","v":""},{"$f":"IF(C389<>\"\",VLOOKUP(C389,Desplegables!$A$3:$C$12,3,0),\"\")","v":""},{"$f":"IF(D389<>\"\",VLOOKUP(D389,Desplegables!$A$12:$B$38,2,0),\"\")","v":""}]
[{"$f":"IF(A388<>\"\",A388,\"\")","v":""},{"$f":"IF(B388<>\"\",B388,\"\")","v":""},{"$f":"IF(C388<>\"\",C388,\"\")","v":""},{"$f":"IF(D388<>\"\",D388,\"\")","v":""},null,null,null,{"$f":"IF(AND(F390<>\"\",G390<>\"\"),VLOOKUP(F390,Desplegables!$E$2:$F$275,2,0)&G390,\"\")","v":""},null,null,null,null,null,null,null,{"$f":"IF(C390<>\"\",VLOOKUP(C390,Desplegables!$A$3:$B$12,2,0),\"\")","v":""},{"$f":"IF(D390<>\"\",VLOOKUP(D390,Desplegables!$A$26:$C$38,3,0),\"\")","v":""},{"$f":"IF(C390<>\"\",VLOOKUP(C390,Desplegables!$A$3:$C$12,3,0),\"\")","v":""},{"$f":"IF(D390<>\"\",VLOOKUP(D390,Desplegables!$A$12:$B$38,2,0),\"\")","v":""}]
[null,null,null,null,null,null,null,{"$f":"IF(AND(F391<>\"\",G391<>\"\"),VLOOKUP(F391,Desplegables!$E$2:$F$275,2,0)&G391,\"\")","v":""},null,null,null,null,null,null,null,{"$f":"IF(C391<>\"\",VLOOKUP(C391,Desplegables!$A$3:$B$12,2,0),\"\")","v":""},{"$f":"IF(D391<>\"\",VLOOKUP(D391,Desplegables!$A$26:$C$38,3,0),\"\")","v":""},{"$f":"IF(C391<>\"\",VLOOKUP(C391,Desplegables!$A$3:$C$12,3,0),\"\")","v":""},{"$f":"IF(D391<>\"\",VLOOKUP(D391,Desplegables!$A$12:$B$38,2,0),\"\")","v":""}]
[{"$f":"IF(A391<>\"\",A391,\"\")","v":""},{"$f":"IF(B391<>\"\",B391,\"\")","v":""},{"$f":"IF(C391<>\"\",C391,\"\")","v":""},{"$f":"IF(D391<>\"\",D391,\"\")","v":""},null,null,null,{"$f":"IF(AND(F392<>\"\",G392<>\"\"),VLOOKUP(F392,Desplegables!$E$2:$F$275,2,0)&G392,\"\")","v":""},null,null,null,null,null,null,null,{"$f":"IF(C392<>\"\",VLOOKUP(C392,Desplegables!$A$3:$B$12,2,0),\"\")","v":""},{"$f":"IF(D392<>\"\",VLOOKUP(D392,Desplegables!$A$26:$C$38,3,0),\"\")","v":""},{"$f":"IF(C392<>\"\",VLOOKUP(C392,Desplegables!$A$3:$C$12,3,0),\"\")","v":""},{"$f":"IF(D392<>\"\",VLOOKUP(D392,Desplegables!$A$12:$B$38,2,0),\"\")","v":""}]
[{"$f":"IF(A391<>\"\",A391,\"\")","v":""},{"$f":"IF(B391<>\"\",B391,\"\")","v":""},{"$f":"IF(C391<>\"\",C391,\"\")","v":""},{"$f":"IF(D391<>\"\",D391,\"\")","v":""},null,null,null,{"$f":"IF(AND(F393<>\"\",G393<>\"\"),VLOOKUP(F393,Desplegables!$E$2:$F$275,2,0)&G393,\"\")","v":""},null,null,null,null,null,null,null,{"$f":"IF(C393<>\"\",VLOOKUP(C393,Desplegables!$A$3:$B$12,2,0),\"\")","v":""},{"$f":"IF(D393<>\"\",VLOOKUP(D393,Desplegables!$A$26:$C$38,3,0),\"\")","v":""},{"$f":"IF(C393<>\"\",VLOOKUP(C393,Desplegables!$A$3:$C$12,3,0),\"\")","v":""},{"$f":"IF(D393<>\"\",VLOOKUP(D393,Desplegables!$A$12:$B$38,2,0),\"\")","v":""}]
[null,null,null,null,null,null,null,{"$f":"IF(AND(F394<>\"\",G394<>\"\"),VLOOKUP(F394,Desplegables!$E$2:$F$275,2,0)&G394,\"\")","v":""},null,null,null,null,null,null,null,{"$f":"IF(C394<>\"\",VLOOKUP(C394,Desplegables!$A$3:$B$12,2,0),\"\")","v":""},{"$f":"IF(D394<>\"\",VLOOKUP(D394,Desplegables!$A$26:$C$38,3,0),\"\")","v":""},{"$f":"IF(C394<>\"\",VLOOKUP(C394,Desplegables!$A$3:$C$12,3,0),\"\")","v":""},{"$f":"IF(D394<>\"\",VLOOKUP(D394,Desplegables!$A$12:$B$38,2,0),\"\")","v":""}]
[{"$f":"IF(A394<>\"\",A394,\"\")","v":""},{"$f":"IF(B394<>\"\",B394,\"\")","v":""},{"$f":"IF(C394<>\"\",C394,\"\")","v":""},{"$f":"IF(D394<>\"\",D394,\"\")","v":""},null,null,null,{"$f":"IF(AND(F395<>\"\",G395<>\"\"),VLOOKUP(F395,Desplegables!$E$2:$F$275,2,0)&G395,\"\")","v":""},null,null,null,null,null,null,null,{"$f":"IF(C395<>\"\",VLOOKUP(C395,Desplegables!$A$3:$B$12,2,0),\"\")","v":""},{"$f":"IF(D395<>\"\",VLOOKUP(D395,Desplegables!$A$26:$C$38,3,0),\"\")","v":""},{"$f":"IF(C395<>\"\",VLOOKUP(C395,Desplegables!$A$3:$C$12,3,0),\"\")","v":""},{"$f":"IF(D395<>\"\",VLOOKUP(D395,Desplegables!$A$12:$B$38,2,0),\"\")","v":""}]
[{"$f":"IF(A394<>\"\",A394,\"\")","v":""},{"$f":"IF(B394<>\"\",B394,\"\")","v":""},{"$f":"IF(C394<>\"\",C394,\"\")","v":""},{"$f":"IF(D394<>\"\",D394,\"\")","v":""},null,null,null,{"$f":"IF(AND(F396<>\"\",G396<>\"\"),VLOOKUP(F396,Desplegables!$E$2:$F$275,2,0)&G396,\"\")","v":""},null,null,null,null,null,null,null,{"$f":"IF(C396<>\"\",VLOOKUP(C396,Desplegables!$A$3:$B$12,2,0),\"\")","v":""},{"$f":"IF(D396<>\"\",VLOOKUP(D396,Desplegables!$A$26:$C$38,3,0),\"\")","v":""},{"$f":"IF(C396<>\"\",VLOOKUP(C396,Desplegables!$A$3:$C$12,3,0),\"\")","v":""},{"$f":"IF(D396<>\"\",VLOOKUP(D396,Desplegables!$A$12:$B$38,2,0),\"\")","v":""}]
[null,null,null,null,null,null,null,{"$f":"IF(AND(F397<>\"\",G397<>\"\"),VLOOKUP(F397,Desplegables!$E$2:$F$275,2,0)&G397,\"\")","v":""},null,null,null,null,null,null,null,{"$f":"IF(C397<>\"\",VLOOKUP(C397,Desplegables!$A$3:$B$12,2,0),\"\")","v":""},{"$f":"IF(D397<>\"\",VLOOKUP(D397,Desplegables!$A$26:$C$38,3,0),\"\")","v":""},{"$f":"IF(C397<>\"\",VLOOKUP(C397,Desplegables!$A$3:$C$12,3,0),\"\")","v":""},{"$f":"IF(D397<>\"\",VLOOKUP(D397,Desplegables!$A$12:$B$38,2,0),\"\")","v":""}]
[{"$f":"IF(A397<>\"\",A397,\"\")","v":""},{"$f":"IF(B397<>\"\",B397,\"\")","v":""},{"$f":"IF(C397<>\"\",C397,\"\")","v":""},{"$f":"IF(D397<>\"\",D397,\"\")","v":""},null,null,null,{"$f":"IF(AND(F398<>\"\",G398<>\"\"),VLOOKUP(F398,Desplegables!$E$2:$F$275,2,0)&G398,\"\")","v":""},null,null,null,null,null,null,null,{"$f":"IF(C398<>\"\",VLOOKUP(C398,Desplegables!$A$3:$B$12,2,0),\"\")","v":""},{"$f":"IF(D398<>\"\",VLOOKUP(D398,Desplegables!$A$26:$C$38,3,0),\"\")","v":""},{"$f":"IF(C398<>\"\",VLOOKUP(C398,Desplegables!$A$3:$C$12,3,0),\"\")","v":""},{"$f":"IF(D398<>\"\",VLOOKUP(D398,Desplegables!$A$12:$B$38,2,0),\"\")","v":""}]
[{"$f":"IF(A397<>\"\",A397,\"\")","v":""},{"$f":"IF(B397<>\"\",B397,\"\")","v":""},{"$f":"IF(C397<>\"\",C397,\"\")","v":""},{"$f":"IF(D397<>\"\",D397,\"\")","v":""},null,null,null,{"$f":"IF(AND(F399<>\"\",G399<>\"\"),VLOOKUP(F399,Desplegables!$E$2:$F$275,2,0)&G399,\"\")","v":""},null,null,null,null,null,null,null,{"$f":"IF(C399<>\"\",VLOOKUP(C399,Desplegables!$A$3:$B$12,2,0),\"\")","v":""},{"$f":"IF(D399<>\"\",VLOOKUP(D399,Desplegables!$A$26:$C$38,3,0),\"\")","v":""},{"$f":"IF(C399<>\"\",VLOOKUP(C399,Desplegables!$A$3:$C$12,3,0),\"\")","v":""},{"$f":"IF(D399<>\"\",VLOOKUP(D399,Desplegables!$A$12:$B$38,2,0),\"\")","v":""}]
[null,null,null,null,null,null,null,{"$f":"IF(AND(F400<>\"\",G400<>\"\"),VLOOKUP(F400,Desplegables!$E$2:$F$275,2,0)&G400,\"\")","v":""},null,null,null,null,null,null,null,{"$f":"IF(C400<>\"\",VLOOKUP(C400,Desplegables!$A$3:$B$12,2,0),\"\")","v":""},{"$f":"IF(D400<>\"\",VLOOKUP(D400,Desplegables!$A$26:$C$38,3,0),\"\")","v":""},{"$f":"IF(C400<>\"\",VLOOKUP(C400,Desplegables!$A$3:$C$12,3,0),\"\")","v":""},{"$f":"IF(D400<>\"\",VLOOKUP(D400,Desplegables!$A$12:$B$38,2,0),\"\")","v":""}]
[{"$f":"IF(A400<>\"\",A400,\"\")","v":""},{"$f":"IF(B400<>\"\",B400,\"\")","v":""},{"$f":"IF(C400<>\"\",C400,\"\")","v":""},{"$f":"IF(D400<>\"\",D400,\"\")","v":""},null,null,null,{"$f":"IF(AND(F401<>\"\",G401<>\"\"),VLOOKUP(F401,Desplegables!$E$2:$F$275,2,0)&G401,\"\")","v":""},null,null,null,null,null,null,null,{"$f":"IF(C401<>\"\",VLOOKUP(C401,Desplegables!$A$3:$B$12,2,0),\"\")","v":""},{"$f":"IF(D401<>\"\",VLOOKUP(D401,Desplegables!$A$26:$C$38,3,0),\"\")","v":""},{"$f":"IF(C401<>\"\",VLOOKUP(C401,Desplegables!$A$3:$C$12,3,0),\"\")","v":""},{"$f":"IF(D401<>\"\",VLOOKUP(D401,Desplegables!$A$12:$B$38,2,0),\"\")","v":""}]
[{"$f":"IF(A400<>\"\",A400,\"\")","v":""},{"$f":"IF(B400<>\"\",B400,\"\")","v":""},{"$f":"IF(C400<>\"\",C400,\"\")","v":""},{"$f":"IF(D400<>\"\",D400,\"\")","v":""},null,null,null,{"$f":"IF(AND(F402<>\"\",G402<>\"\"),VLOOKUP(F402,Desplegables!$E$2:$F$275,2,0)&G402,\"\")","v":""},null,null,null,null,null,null,null,{"$f":"IF(C402<>\"\",VLOOKUP(C402,Desplegables!$A$3:$B$12,2,0),\"\")","v":""},{"$f":"IF(D402<>\"\",VLOOKUP(D402,Desplegables!$A$26:$C$38,3,0),\"\")","v":""},{"$f":"IF(C402<>\"\",VLOOKUP(C402,Desplegables!$A$3:$C$12,3,0),\"\")","v":""},{"$f":"IF(D402<>\"\",VLOOKUP(D402,Desplegables!$A$12:$B$38,2,0),\"\")","v":""}]
[null,null,null,null,null,null,null,{"$f":"IF(AND(F403<>\"\",G403<>\"\"),VLOOKUP(F403,Desplegables!$E$2:$F$275,2,0)&G403,\"\")","v":""},null,null,null,null,null,null,null,{"$f":"IF(C403<>\"\",VLOOKUP(C403,Desplegables!$A$3:$B$12,2,0),\"\")","v":""},{"$f":"IF(D403<>\"\",VLOOKUP(D403,Desplegables!$A$26:$C$38,3,0),\"\")","v":""},{"$f":"IF(C403<>\"\",VLOOKUP(C403,Desplegables!$A$3:$C$12,3,0),\"\")","v":""},{"$f":"IF(D403<>\"\",VLOOKUP(D403,Desplegables!$A$12:$B$38,2,0),\"\")","v":""}]
[{"$f":"IF(A403<>\"\",A403,\"\")","v":""},{"$f":"IF(B403<>\"\",B403,\"\")","v":""},{"$f":"IF(C403<>\"\",C403,\"\")","v":""},{"$f":"IF(D403<>\"\",D403,\"\")","v":""},null,null,null,{"$f":"IF(AND(F404<>\"\",G404<>\"\"),VLOOKUP(F404,Desplegables!$E$2:$F$275,2,0)&G404,\"\")","v":""},null,null,null,null,null,null,null,{"$f":"IF(C404<>\"\",VLOOKUP(C404,Desplegables!$A$3:$B$12,2,0),\"\")","v":""},{"$f":"IF(D404<>\"\",VLOOKUP(D404,Desplegables!$A$26:$C$38,3,0),\"\")","v":""},{"$f":"IF(C404<>\"\",VLOOKUP(C404,Desplegables!$A$3:$C$12,3,0),\"\")","v":""},{"$f":"IF(D404<>\"\",VLOOKUP(D404,Desplegables!$A$12:$B$38,2,0),\"\")","v":""}]
[{"$f":"IF(A403<>\"\",A403,\"\")","v":""},{"$f":"IF(B403<>\"\",B403,\"\")","v":""},{"$f":"IF(C403<>\"\",C403,\"\")","v":""},{"$f":"IF(D403<>\"\",D403,\"\")","v":""},null,null,null,{"$f":"IF(AND(F405<>\"\",G405<>\"\"),VLOOKUP(F405,Desplegables!$E$2:$F$275,2,0)&G405,\"\")","v":""},null,null,null,null,null,null,null,{"$f":"IF(C405<>\"\",VLOOKUP(C405,Desplegables!$A$3:$B$12,2,0),\"\")","v":""},{"$f":"IF(D405<>\"\",VLOOKUP(D405,Desplegables!$A$26:$C$38,3,0),\"\")","v":""},{"$f":"IF(C405<>\"\",VLOOKUP(C405,Desplegables!$A$3:$C$12,3,0),\"\")","v":""},{"$f":"IF(D405<>\"\",VLOOKUP(D405,Desplegables!$A$12:$B$38,2,0),\"\")","v":""}]
[null,null,null,null,null,null,null,{"$f":"IF(AND(F406<>\"\",G406<>\"\"),VLOOKUP(F406,Desplegables!$E$2:$F$275,2,0)&G406,\"\")","v":""},null,null,null,null,null,null,null,{"$f":"IF(C406<>\"\",VLOOKUP(C406,Desplegables!$A$3:$B$12,2,0),\"\")","v":""},{"$f":"IF(D406<>\"\",VLOOKUP(D406,Desplegables!$A$26:$C$38,3,0),\"\")","v":""},{"$f":"IF(C406<>\"\",VLOOKUP(C406,Desplegables!$A$3:$C$12,3,0),\"\")","v":""},{"$f":"IF(D406<>\"\",VLOOKUP(D406,Desplegables!$A$12:$B$38,2,0),\"\")","v":""}]
[{"$f":"IF(A406<>\"\",A406,\"\")","v":""},{"$f":"IF(B406<>\"\",B406,\"\")","v":""},{"$f":"IF(C406<>\"\",C406,\"\")","v":""},{"$f":"IF(D406<>\"\",D406,\"\")","v":""},null,null,null,{"$f":"IF(AND(F407<>\"\",G407<>\"\"),VLOOKUP(F407,Desplegables!$E$2:$F$275,2,0)&G407,\"\")","v":""},null,null,null,null,null,null,null,{"$f":"IF(C407<>\"\",VLOOKUP(C407,Desplegables!$A$3:$B$12,2,0),\"\")","v":""},{"$f":"IF(D407<>\"\",VLOOKUP(D407,Desplegables!$A$26:$C$38,3,0),\"\")","v":""},{"$f":"IF(C407<>\"\",VLOOKUP(C407,Desplegables!$A$3:$C$12,3,0),\"\")","v":""},{"$f":"IF(D407<>\"\",VLOOKUP(D407,Desplegables!$A$12:$B$38,2,0),\"\")","v":""}]
[{"$f":"IF(A406<>\"\",A406,\"\")","v":""},{"$f":"IF(B406<>\"\",B406,\"\")","v":""},{"$f":"IF(C406<>\"\",C406,\"\")","v":""},{"$f":"IF(D406<>\"\",D406,\"\")","v":""},null,null,null,{"$f":"IF(AND(F408<>\"\",G408<>\"\"),VLOOKUP(F408,Desplegables!$E$2:$F$275,2,0)&G408,\"\")","v":""},null,null,null,null,null,null,null,{"$f":"IF(C408<>\"\",VLOOKUP(C408,Desplegables!$A$3:$B$12,2,0),\"\")","v":""},{"$f":"IF(D408<>\"\",VLOOKUP(D408,Desplegables!$A$26:$C$38,3,0),\"\")","v":""},{"$f":"IF(C408<>\"\",VLOOKUP(C408,Desplegables!$A$3:$C$12,3,0),\"\")","v":""},{"$f":"IF(D408<>\"\",VLOOKUP(D408,Desplegables!$A$12:$B$38,2,0),\"\")","v":""}]
[null,null,null,null,null,null,null,{"$f":"IF(AND(F409<>\"\",G409<>\"\"),VLOOKUP(F409,Desplegables!$E$2:$F$275,2,0)&G409,\"\")","v":""},null,null,null,null,null,null,null,{"$f":"IF(C409<>\"\",VLOOKUP(C409,Desplegables!$A$3:$B$12,2,0),\"\")","v":""},{"$f":"IF(D409<>\"\",VLOOKUP(D409,Desplegables!$A$26:$C$38,3,0),\"\")","v":""},{"$f":"IF(C409<>\"\",VLOOKUP(C409,Desplegables!$A$3:$C$12,3,0),\"\")","v":""},{"$f":"IF(D409<>\"\",VLOOKUP(D409,Desplegables!$A$12:$B$38,2,0),\"\")","v":""}]
[{"$f":"IF(A409<>\"\",A409,\"\")","v":""},{"$f":"IF(B409<>\"\",B409,\"\")","v":""},{"$f":"IF(C409<>\"\",C409,\"\")","v":""},{"$f":"IF(D409<>\"\",D409,\"\")","v":""},null,null,null,{"$f":"IF(AND(F410<>\"\",G410<>\"\"),VLOOKUP(F410,Desplegables!$E$2:$F$275,2,0)&G410,\"\")","v":""},null,null,null,null,null,null,null,{"$f":"IF(C410<>\"\",VLOOKUP(C410,Desplegables!$A$3:$B$12,2,0),\"\")","v":""},{"$f":"IF(D410<>\"\",VLOOKUP(D410,Desplegables!$A$26:$C$38,3,0),\"\")","v":""},{"$f":"IF(C410<>\"\",VLOOKUP(C410,Desplegables!$A$3:$C$12,3,0),\"\")","v":""},{"$f":"IF(D410<>\"\",VLOOKUP(D410,Desplegables!$A$12:$B$38,2,0),\"\")","v":""}]
[{"$f":"IF(A409<>\"\",A409,\"\")","v":""},{"$f":"IF(B409<>\"\",B409,\"\")","v":""},{"$f":"IF(C409<>\"\",C409,\"\")","v":""},{"$f":"IF(D409<>\"\",D409,\"\")","v":""},null,null,null,{"$f":"IF(AND(F411<>\"\",G411<>\"\"),VLOOKUP(F411,Desplegables!$E$2:$F$275,2,0)&G411,\"\")","v":""},null,null,null,null,null,null,null,{"$f":"IF(C411<>\"\",VLOOKUP(C411,Desplegables!$A$3:$B$12,2,0),\"\")","v":""},{"$f":"IF(D411<>\"\",VLOOKUP(D411,Desplegables!$A$26:$C$38,3,0),\"\")","v":""},{"$f":"IF(C411<>\"\",VLOOKUP(C411,Desplegables!$A$3:$C$12,3,0),\"\")","v":""},{"$f":"IF(D411<>\"\",VLOOKUP(D411,Desplegables!$A$12:$B$38,2,0),\"\")","v":""}]
[null,null,null,null,null,null,null,{"$f":"IF(AND(F412<>\"\",G412<>\"\"),VLOOKUP(F412,Desplegables!$E$2:$F$275,2,0)&G412,\"\")","v":""},null,null,null,null,null,null,null,{"$f":"IF(C412<>\"\",VLOOKUP(C412,Desplegables!$A$3:$B$12,2,0),\"\")","v":""},{"$f":"IF(D412<>\"\",VLOOKUP(D412,Desplegables!$A$26:$C$38,3,0),\"\")","v":""},{"$f":"IF(C412<>\"\",VLOOKUP(C412,Desplegables!$A$3:$C$12,3,0),\"\")","v":""},{"$f":"IF(D412<>\"\",VLOOKUP(D412,Desplegables!$A$12:$B$38,2,0),\"\")","v":""}]
[{"$f":"IF(A412<>\"\",A412,\"\")","v":""},{"$f":"IF(B412<>\"\",B412,\"\")","v":""},{"$f":"IF(C412<>\"\",C412,\"\")","v":""},{"$f":"IF(D412<>\"\",D412,\"\")","v":""},null,null,null,{"$f":"IF(AND(F413<>\"\",G413<>\"\"),VLOOKUP(F413,Desplegables!$E$2:$F$275,2,0)&G413,\"\")","v":""},null,null,null,null,null,null,null,{"$f":"IF(C413<>\"\",VLOOKUP(C413,Desplegables!$A$3:$B$12,2,0),\"\")","v":""},{"$f":"IF(D413<>\"\",VLOOKUP(D413,Desplegables!$A$26:$C$38,3,0),\"\")","v":""},{"$f":"IF(C413<>\"\",VLOOKUP(C413,Desplegables!$A$3:$C$12,3,0),\"\")","v":""},{"$f":"IF(D413<>\"\",VLOOKUP(D413,Desplegables!$A$12:$B$38,2,0),\"\")","v":""}]
[{"$f":"IF(A412<>\"\",A412,\"\")","v":""},{"$f":"IF(B412<>\"\",B412,\"\")","v":""},{"$f":"IF(C412<>\"\",C412,\"\")","v":""},{"$f":"IF(D412<>\"\",D412,\"\")","v":""},null,null,null,{"$f":"IF(AND(F414<>\"\",G414<>\"\"),VLOOKUP(F414,Desplegables!$E$2:$F$275,2,0)&G414,\"\")","v":""},null,null,null,null,null,null,null,{"$f":"IF(C414<>\"\",VLOOKUP(C414,Desplegables!$A$3:$B$12,2,0),\"\")","v":""},{"$f":"IF(D414<>\"\",VLOOKUP(D414,Desplegables!$A$26:$C$38,3,0),\"\")","v":""},{"$f":"IF(C414<>\"\",VLOOKUP(C414,Desplegables!$A$3:$C$12,3,0),\"\")","v":""},{"$f":"IF(D414<>\"\",VLOOKUP(D414,Desplegables!$A$12:$B$38,2,0),\"\")","v":""}]
[null,null,null,null,null,null,null,{"$f":"IF(AND(F415<>\"\",G415<>\"\"),VLOOKUP(F415,Desplegables!$E$2:$F$275,2,0)&G415,\"\")","v":""},null,null,null,null,null,null,null,{"$f":"IF(C415<>\"\",VLOOKUP(C415,Desplegables!$A$3:$B$12,2,0),\"\")","v":""},{"$f":"IF(D415<>\"\",VLOOKUP(D415,Desplegables!$A$26:$C$38,3,0),\"\")","v":""},{"$f":"IF(C415<>\"\",VLOOKUP(C415,Desplegables!$A$3:$C$12,3,0),\"\")","v":""},{"$f":"IF(D415<>\"\",VLOOKUP(D415,Desplegables!$A$12:$B$38,2,0),\"\")","v":""}]
[{"$f":"IF(A415<>\"\",A415,\"\")","v":""},{"$f":"IF(B415<>\"\",B415,\"\")","v":""},{"$f":"IF(C415<>\"\",C415,\"\")","v":""},{"$f":"IF(D415<>\"\",D415,\"\")","v":""},null,null,null,{"$f":"IF(AND(F416<>\"\",G416<>\"\"),VLOOKUP(F416,Desplegables!$E$2:$F$275,2,0)&G416,\"\")","v":""},null,null,null,null,null,null,null,{"$f":"IF(C416<>\"\",VLOOKUP(C416,Desplegables!$A$3:$B$12,2,0),\"\")","v":""},{"$f":"IF(D416<>\"\",VLOOKUP(D416,Desplegables!$A$26:$C$38,3,0),\"\")","v":""},{"$f":"IF(C416<>\"\",VLOOKUP(C416,Desplegables!$A$3:$C$12,3,0),\"\")","v":""},{"$f":"IF(D416<>\"\",VLOOKUP(D416,Desplegables!$A$12:$B$38,2,0),\"\")","v":""}]
[{"$f":"IF(A415<>\"\",A415,\"\")","v":""},{"$f":"IF(B415<>\"\",B415,\"\")","v":""},{"$f":"IF(C415<>\"\",C415,\"\")","v":""},{"$f":"IF(D415<>\"\",D415,\"\")","v":""},null,null,null,{"$f":"IF(AND(F417<>\"\",G417<>\"\"),VLOOKUP(F417,Desplegables!$E$2:$F$275,2,0)&G417,\"\")","v":""},null,null,null,null,null,null,null,{"$f":"IF(C417<>\"\",VLOOKUP(C417,Desplegables!$A$3:$B$12,2,0),\"\")","v":""},{"$f":"IF(D417<>\"\",VLOOKUP(D417,Desplegables!$A$26:$C$38,3,0),\"\")","v":""},{"$f":"IF(C417<>\"\",VLOOKUP(C417,Desplegables!$A$3:$C$12,3,0),\"\")","v":""},{"$f":"IF(D417<>\"\",VLOOKUP(D417,Desplegables!$A$12:$B$38,2,0),\"\")","v":""}]
[null,null,null,null,null,null,null,{"$f":"IF(AND(F418<>\"\",G418<>\"\"),VLOOKUP(F418,Desplegables!$E$2:$F$275,2,0)&G418,\"\")","v":""},null,null,null,null,null,null,null,{"$f":"IF(C418<>\"\",VLOOKUP(C418,Desplegables!$A$3:$B$12,2,0),\"\")","v":""},{"$f":"IF(D418<>\"\",VLOOKUP(D418,Desplegables!$A$26:$C$38,3,0),\"\")","v":""},{"$f":"IF(C418<>\"\",VLOOKUP(C418,Desplegables!$A$3:$C$12,3,0),\"\")","v":""},{"$f":"IF(D418<>\"\",VLOOKUP(D418,Desplegables!$A$12:$B$38,2,0),\"\")","v":""}]
[{"$f":"IF(A418<>\"\",A418,\"\")","v":""},{"$f":"IF(B418<>\"\",B418,\"\")","v":""},{"$f":"IF(C418<>\"\",C418,\"\")","v":""},{"$f":"IF(D418<>\"\",D418,\"\")","v":""},null,null,null,{"$f":"IF(AND(F419<>\"\",G419<>\"\"),VLOOKUP(F419,Desplegables!$E$2:$F$275,2,0)&G419,\"\")","v":""},null,null,null,null,null,null,null,{"$f":"IF(C419<>\"\",VLOOKUP(C419,Desplegables!$A$3:$B$12,2,0),\"\")","v":""},{"$f":"IF(D419<>\"\",VLOOKUP(D419,Desplegables!$A$26:$C$38,3,0),\"\")","v":""},{"$f":"IF(C419<>\"\",VLOOKUP(C419,Desplegables!$A$3:$C$12,3,0),\"\")","v":""},{"$f":"IF(D419<>\"\",VLOOKUP(D419,Desplegables!$A$12:$B$38,2,0),\"\")","v":""}]
[{"$f":"IF(A418<>\"\",A418,\"\")","v":""},{"$f":"IF(B418<>\"\",B418,\"\")","v":""},{"$f":"IF(C418<>\"\",C418,\"\")","v":""},{"$f":"IF(D418<>\"\",D418,\"\")","v":""},null,null,null,{"$f":"IF(AND(F420<>\"\",G420<>\"\"),VLOOKUP(F420,Desplegables!$E$2:$F$275,2,0)&G420,\"\")","v":""},null,null,null,null,null,null,null,{"$f":"IF(C420<>\"\",VLOOKUP(C420,Desplegables!$A$3:$B$12,2,0),\"\")","v":""},{"$f":"IF(D420<>\"\",VLOOKUP(D420,Desplegables!$A$26:$C$38,3,0),\"\")","v":""},{"$f":"IF(C420<>\"\",VLOOKUP(C420,Desplegables!$A$3:$C$12,3,0),\"\")","v":""},{"$f":"IF(D420<>\"\",VLOOKUP(D420,Desplegables!$A$12:$B$38,2,0),\"\")","v":""}]
[null,null,null,null,null,null,null,{"$f":"IF(AND(F421<>\"\",G421<>\"\"),VLOOKUP(F421,Desplegables!$E$2:$F$275,2,0)&G421,\"\")","v":""},null,null,null,null,null,null,null,{"$f":"IF(C421<>\"\",VLOOKUP(C421,Desplegables!$A$3:$B$12,2,0),\"\")","v":""},{"$f":"IF(D421<>\"\",VLOOKUP(D421,Desplegables!$A$26:$C$38,3,0),\"\")","v":""},{"$f":"IF(C421<>\"\",VLOOKUP(C421,Desplegables!$A$3:$C$12,3,0),\"\")","v":""},{"$f":"IF(D421<>\"\",VLOOKUP(D421,Desplegables!$A$12:$B$38,2,0),\"\")","v":""}]
[{"$f":"IF(A421<>\"\",A421,\"\")","v":""},{"$f":"IF(B421<>\"\",B421,\"\")","v":""},{"$f":"IF(C421<>\"\",C421,\"\")","v":""},{"$f":"IF(D421<>\"\",D421,\"\")","v":""},null,null,null,{"$f":"IF(AND(F422<>\"\",G422<>\"\"),VLOOKUP(F422,Desplegables!$E$2:$F$275,2,0)&G422,\"\")","v":""},null,null,null,null,null,null,null,{"$f":"IF(C422<>\"\",VLOOKUP(C422,Desplegables!$A$3:$B$12,2,0),\"\")","v":""},{"$f":"IF(D422<>\"\",VLOOKUP(D422,Desplegables!$A$26:$C$38,3,0),\"\")","v":""},{"$f":"IF(C422<>\"\",VLOOKUP(C422,Desplegables!$A$3:$C$12,3,0),\"\")","v":""},{"$f":"IF(D422<>\"\",VLOOKUP(D422,Desplegables!$A$12:$B$38,2,0),\"\")","v":""}]
[{"$f":"IF(A421<>\"\",A421,\"\")","v":""},{"$f":"IF(B421<>\"\",B421,\"\")","v":""},{"$f":"IF(C421<>\"\",C421,\"\")","v":""},{"$f":"IF(D421<>\"\",D421,\"\")","v":""},null,null,null,{"$f":"IF(AND(F423<>\"\",G423<>\"\"),VLOOKUP(F423,Desplegables!$E$2:$F$275,2,0)&G423,\"\")","v":""},null,null,null,null,null,null,null,{"$f":"IF(C423<>\"\",VLOOKUP(C423,Desplegables!$A$3:$B$12,2,0),\"\")","v":""},{"$f":"IF(D423<>\"\",VLOOKUP(D423,Desplegables!$A$26:$C$38,3,0),\"\")","v":""},{"$f":"IF(C423<>\"\",VLOOKUP(C423,Desplegables!$A$3:$C$12,3,0),\"\")","v":""},{"$f":"IF(D423<>\"\",VLOOKUP(D423,Desplegables!$A$12:$B$38,2,0),\"\")","v":""}]
[null,null,null,null,null,null,null,{"$f":"IF(AND(F424<>\"\",G424<>\"\"),VLOOKUP(F424,Desplegables!$E$2:$F$275,2,0)&G424,\"\")","v":""},null,null,null,null,null,null,null,{"$f":"IF(C424<>\"\",VLOOKUP(C424,Desplegables!$A$3:$B$12,2,0),\"\")","v":""},{"$f":"IF(D424<>\"\",VLOOKUP(D424,Desplegables!$A$26:$C$38,3,0),\"\")","v":""},{"$f":"IF(C424<>\"\",VLOOKUP(C424,Desplegables!$A$3:$C$12,3,0),\"\")","v":""},{"$f":"IF(D424<>\"\",VLOOKUP(D424,Desplegables!$A$12:$B$38,2,0),\"\")","v":""}]
[{"$f":"IF(A424<>\"\",A424,\"\")","v":""},{"$f":"IF(B424<>\"\",B424,\"\")","v":""},{"$f":"IF(C424<>\"\",C424,\"\")","v":""},{"$f":"IF(D424<>\"\",D424,\"\")","v":""},null,null,null,{"$f":"IF(AND(F425<>\"\",G425<>\"\"),VLOOKUP(F425,Desplegables!$E$2:$F$275,2,0)&G425,\"\")","v":""},null,null,null,null,null,null,null,{"$f":"IF(C425<>\"\",VLOOKUP(C425,Desplegables!$A$3:$B$12,2,0),\"\")","v":""},{"$f":"IF(D425<>\"\",VLOOKUP(D425,Desplegables!$A$26:$C$38,3,0),\"\")","v":""},{"$f":"IF(C425<>\"\",VLOOKUP(C425,Desplegables!$A$3:$C$12,3,0),\"\")","v":""},{"$f":"IF(D425<>\"\",VLOOKUP(D425,Desplegables!$A$12:$B$38,2,0),\"\")","v":""}]
[{"$f":"IF(A424<>\"\",A424,\"\")","v":""},{"$f":"IF(B424<>\"\",B424,\"\")","v":""},{"$f":"IF(C424<>\"\",C424,\"\")","v":""},{"$f":"IF(D424<>\"\",D424,\"\")","v":""},null,null,null,{"$f":"IF(AND(F426<>\"\",G426<>\"\"),VLOOKUP(F426,Desplegables!$E$2:$F$275,2,0)&G426,\"\")","v":""},null,null,null,null,null,null,null,{"$f":"IF(C426<>\"\",VLOOKUP(C426,Desplegables!$A$3:$B$12,2,0),\"\")","v":""},{"$f":"IF(D426<>\"\",VLOOKUP(D426,Desplegables!$A$26:$C$38,3,0),\"\")","v":""},{"$f":"IF(C426<>\"\",VLOOKUP(C426,Desplegables!$A$3:$C$12,3,0),\"\")","v":""},{"$f":"IF(D426<>\"\",VLOOKUP(D426,Desplegables!$A$12:$B$38,2,0),\"\")","v":""}]
[null,null,null,null,null,null,null,{"$f":"IF(AND(F427<>\"\",G427<>\"\"),VLOOKUP(F427,Desplegables!$E$2:$F$275,2,0)&G427,\"\")","v":""},null,null,null,null,null,null,null,{"$f":"IF(C427<>\"\",VLOOKUP(C427,Desplegables!$A$3:$B$12,2,0),\"\")","v":""},{"$f":"IF(D427<>\"\",VLOOKUP(D427,Desplegables!$A$26:$C$38,3,0),\"\")","v":""},{"$f":"IF(C427<>\"\",VLOOKUP(C427,Desplegables!$A$3:$C$12,3,0),\"\")","v":""},{"$f":"IF(D427<>\"\",VLOOKUP(D427,Desplegables!$A$12:$B$38,2,0),\"\")","v":""}]
[{"$f":"IF(A427<>\"\",A427,\"\")","v":""},{"$f":"IF(B427<>\"\",B427,\"\")","v":""},{"$f":"IF(C427<>\"\",C427,\"\")","v":""},{"$f":"IF(D427<>\"\",D427,\"\")","v":""},null,null,null,{"$f":"IF(AND(F428<>\"\",G428<>\"\"),VLOOKUP(F428,Desplegables!$E$2:$F$275,2,0)&G428,\"\")","v":""},null,null,null,null,null,null,null,{"$f":"IF(C428<>\"\",VLOOKUP(C428,Desplegables!$A$3:$B$12,2,0),\"\")","v":""},{"$f":"IF(D428<>\"\",VLOOKUP(D428,Desplegables!$A$26:$C$38,3,0),\"\")","v":""},{"$f":"IF(C428<>\"\",VLOOKUP(C428,Desplegables!$A$3:$C$12,3,0),\"\")","v":""},{"$f":"IF(D428<>\"\",VLOOKUP(D428,Desplegables!$A$12:$B$38,2,0),\"\")","v":""}]
[{"$f":"IF(A427<>\"\",A427,\"\")","v":""},{"$f":"IF(B427<>\"\",B427,\"\")","v":""},{"$f":"IF(C427<>\"\",C427,\"\")","v":""},{"$f":"IF(D427<>\"\",D427,\"\")","v":""},null,null,null,{"$f":"IF(AND(F429<>\"\",G429<>\"\"),VLOOKUP(F429,Desplegables!$E$2:$F$275,2,0)&G429,\"\")","v":""},null,null,null,null,null,null,null,{"$f":"IF(C429<>\"\",VLOOKUP(C429,Desplegables!$A$3:$B$12,2,0),\"\")","v":""},{"$f":"IF(D429<>\"\",VLOOKUP(D429,Desplegables!$A$26:$C$38,3,0),\"\")","v":""},{"$f":"IF(C429<>\"\",VLOOKUP(C429,Desplegables!$A$3:$C$12,3,0),\"\")","v":""},{"$f":"IF(D429<>\"\",VLOOKUP(D429,Desplegables!$A$12:$B$38,2,0),\"\")","v":""}]
[null,null,null,null,null,null,null,{"$f":"IF(AND(F430<>\"\",G430<>\"\"),VLOOKUP(F430,Desplegables!$E$2:$F$275,2,0)&G430,\"\")","v":""},null,null,null,null,null,null,null,{"$f":"IF(C430<>\"\",VLOOKUP(C430,Desplegables!$A$3:$B$12,2,0),\"\")","v":""},{"$f":"IF(D430<>\"\",VLOOKUP(D430,Desplegables!$A$26:$C$38,3,0),\"\")","v":""},{"$f":"IF(C430<>\"\",VLOOKUP(C430,Desplegables!$A$3:$C$12,3,0),\"\")","v":""},{"$f":"IF(D430<>\"\",VLOOKUP(D430,Desplegables!$A$12:$B$38,2,0),\"\")","v":""}]
[{"$f":"IF(A430<>\"\",A430,\"\")","v":""},{"$f":"IF(B430<>\"\",B430,\"\")","v":""},{"$f":"IF(C430<>\"\",C430,\"\")","v":""},{"$f":"IF(D430<>\"\",D430,\"\")","v":""},null,null,null,{"$f":"IF(AND(F431<>\"\",G431<>\"\"),VLOOKUP(F431,Desplegables!$E$2:$F$275,2,0)&G431,\"\")","v":""},null,null,null,null,null,null,null,{"$f":"IF(C431<>\"\",VLOOKUP(C431,Desplegables!$A$3:$B$12,2,0),\"\")","v":""},{"$f":"IF(D431<>\"\",VLOOKUP(D431,Desplegables!$A$26:$C$38,3,0),\"\")","v":""},{"$f":"IF(C431<>\"\",VLOOKUP(C431,Desplegables!$A$3:$C$12,3,0),\"\")","v":""},{"$f":"IF(D431<>\"\",VLOOKUP(D431,Desplegables!$A$12:$B$38,2,0),\"\")","v":""}]
[{"$f":"IF(A430<>\"\",A430,\"\")","v":""},{"$f":"IF(B430<>\"\",B430,\"\")","v":""},{"$f":"IF(C430<>\"\",C430,\"\")","v":""},{"$f":"IF(D430<>\"\",D430,\"\")","v":""},null,null,null,{"$f":"IF(AND(F432<>\"\",G432<>\"\"),VLOOKUP(F432,Desplegables!$E$2:$F$275,2,0)&G432,\"\")","v":""},null,null,null,null,null,null,null,{"$f":"IF(C432<>\"\",VLOOKUP(C432,Desplegables!$A$3:$B$12,2,0),\"\")","v":""},{"$f":"IF(D432<>\"\",VLOOKUP(D432,Desplegables!$A$26:$C$38,3,0),\"\")","v":""},{"$f":"IF(C432<>\"\",VLOOKUP(C432,Desplegables!$A$3:$C$12,3,0),\"\")","v":""},{"$f":"IF(D432<>\"\",VLOOKUP(D432,Desplegables!$A$12:$B$38,2,0),\"\")","v":""}]
[null,null,null,null,null,null,null,{"$f":"IF(AND(F433<>\"\",G433<>\"\"),VLOOKUP(F433,Desplegables!$E$2:$F$275,2,0)&G433,\"\")","v":""},null,null,null,null,null,null,null,{"$f":"IF(C433<>\"\",VLOOKUP(C433,Desplegables!$A$3:$B$12,2,0),\"\")","v":""},{"$f":"IF(D433<>\"\",VLOOKUP(D433,Desplegables!$A$26:$C$38,3,0),\"\")","v":""},{"$f":"IF(C433<>\"\",VLOOKUP(C433,Desplegables!$A$3:$C$12,3,0),\"\")","v":""},{"$f":"IF(D433<>\"\",VLOOKUP(D433,Desplegables!$A$12:$B$38,2,0),\"\")","v":""}]
[{"$f":"IF(A433<>\"\",A433,\"\")","v":""},{"$f":"IF(B433<>\"\",B433,\"\")","v":""},{"$f":"IF(C433<>\"\",C433,\"\")","v":""},{"$f":"IF(D433<>\"\",D433,\"\")","v":""},null,null,null,{"$f":"IF(AND(F434<>\"\",G434<>\"\"),VLOOKUP(F434,Desplegables!$E$2:$F$275,2,0)&G434,\"\")","v":""},null,null,null,null,null,null,null,{"$f":"IF(C434<>\"\",VLOOKUP(C434,Desplegables!$A$3:$B$12,2,0),\"\")","v":""},{"$f":"IF(D434<>\"\",VLOOKUP(D434,Desplegables!$A$26:$C$38,3,0),\"\")","v":""},{"$f":"IF(C434<>\"\",VLOOKUP(C434,Desplegables!$A$3:$C$12,3,0),\"\")","v":""},{"$f":"IF(D434<>\"\",VLOOKUP(D434,Desplegables!$A$12:$B$38,2,0),\"\")","v":""}]
[{"$f":"IF(A433<>\"\",A433,\"\")","v":""},{"$f":"IF(B433<>\"\",B433,\"\")","v":""},{"$f":"IF(C433<>\"\",C433,\"\")","v":""},{"$f":"IF(D433<>\"\",D433,\"\")","v":""},null,null,null,{"$f":"IF(AND(F435<>\"\",G435<>\"\"),VLOOKUP(F435,Desplegables!$E$2:$F$275,2,0)&G435,\"\")","v":""},null,null,null,null,null,null,null,{"$f":"IF(C435<>\"\",VLOOKUP(C435,Desplegables!$A$3:$B$12,2,0),\"\")","v":""},{"$f":"IF(D435<>\"\",VLOOKUP(D435,Desplegables!$A$26:$C$38,3,0),\"\")","v":""},{"$f":"IF(C435<>\"\",VLOOKUP(C435,Desplegables!$A$3:$C$12,3,0),\"\")","v":""},{"$f":"IF(D435<>\"\",VLOOKUP(D435,Desplegables!$A$12:$B$38,2,0),\"\")","v":""}]
[null,null,null,null,null,null,null,{"$f":"IF(AND(F436<>\"\",G436<>\"\"),VLOOKUP(F436,Desplegables!$E$2:$F$275,2,0)&G436,\"\")","v":""},null,null,null,null,null,null,null,{"$f":"IF(C436<>\"\",VLOOKUP(C436,Desplegables!$A$3:$B$12,2,0),\"\")","v":""},{"$f":"IF(D436<>\"\",VLOOKUP(D436,Desplegables!$A$26:$C$38,3,0),\"\")","v":""},{"$f":"IF(C436<>\"\",VLOOKUP(C436,Desplegables!$A$3:$C$12,3,0),\"\")","v":""},{"$f":"IF(D436<>\"\",VLOOKUP(D436,Desplegables!$A$12:$B$38,2,0),\"\")","v":""}]
[{"$f":"IF(A436<>\"\",A436,\"\")","v":""},{"$f":"IF(B436<>\"\",B436,\"\")","v":""},{"$f":"IF(C436<>\"\",C436,\"\")","v":""},{"$f":"IF(D436<>\"\",D436,\"\")","v":""},null,null,null,{"$f":"IF(AND(F437<>\"\",G437<>\"\"),VLOOKUP(F437,Desplegables!$E$2:$F$275,2,0)&G437,\"\")","v":""},null,null,null,null,null,null,null,{"$f":"IF(C437<>\"\",VLOOKUP(C437,Desplegables!$A$3:$B$12,2,0),\"\")","v":""},{"$f":"IF(D437<>\"\",VLOOKUP(D437,Desplegables!$A$26:$C$38,3,0),\"\")","v":""},{"$f":"IF(C437<>\"\",VLOOKUP(C437,Desplegables!$A$3:$C$12,3,0),\"\")","v":""},{"$f":"IF(D437<>\"\",VLOOKUP(D437,Desplegables!$A$12:$B$38,2,0),\"\")","v":""}]
[{"$f":"IF(A436<>\"\",A436,\"\")","v":""},{"$f":"IF(B436<>\"\",B436,\"\")","v":""},{"$f":"IF(C436<>\"\",C436,\"\")","v":""},{"$f":"IF(D436<>\"\",D436,\"\")","v":""},null,null,null,{"$f":"IF(AND(F438<>\"\",G438<>\"\"),VLOOKUP(F438,Desplegables!$E$2:$F$275,2,0)&G438,\"\")","v":""},null,null,null,null,null,null,null,{"$f":"IF(C438<>\"\",VLOOKUP(C438,Desplegables!$A$3:$B$12,2,0),\"\")","v":""},{"$f":"IF(D438<>\"\",VLOOKUP(D438,Desplegables!$A$26:$C$38,3,0),\"\")","v":""},{"$f":"IF(C438<>\"\",VLOOKUP(C438,Desplegables!$A$3:$C$12,3,0),\"\")","v":""},{"$f":"IF(D438<>\"\",VLOOKUP(D438,Desplegables!$A$12:$B$38,2,0),\"\")","v":""}]
[null,null,null,null,null,null,null,{"$f":"IF(AND(F439<>\"\",G439<>\"\"),VLOOKUP(F439,Desplegables!$E$2:$F$275,2,0)&G439,\"\")","v":""},null,null,null,null,null,null,null,{"$f":"IF(C439<>\"\",VLOOKUP(C439,Desplegables!$A$3:$B$12,2,0),\"\")","v":""},{"$f":"IF(D439<>\"\",VLOOKUP(D439,Desplegables!$A$26:$C$38,3,0),\"\")","v":""},{"$f":"IF(C439<>\"\",VLOOKUP(C439,Desplegables!$A$3:$C$12,3,0),\"\")","v":""},{"$f":"IF(D439<>\"\",VLOOKUP(D439,Desplegables!$A$12:$B$38,2,0),\"\")","v":""}]
[{"$f":"IF(A439<>\"\",A439,\"\")","v":""},{"$f":"IF(B439<>\"\",B439,\"\")","v":""},{"$f":"IF(C439<>\"\",C439,\"\")","v":""},{"$f":"IF(D439<>\"\",D439,\"\")","v":""},null,null,null,{"$f":"IF(AND(F440<>\"\",G440<>\"\"),VLOOKUP(F440,Desplegables!$E$2:$F$275,2,0)&G440,\"\")","v":""},null,null,null,null,null,null,null,{"$f":"IF(C440<>\"\",VLOOKUP(C440,Desplegables!$A$3:$B$12,2,0),\"\")","v":""},{"$f":"IF(D440<>\"\",VLOOKUP(D440,Desplegables!$A$26:$C$38,3,0),\"\")","v":""},{"$f":"IF(C440<>\"\",VLOOKUP(C440,Desplegables!$A$3:$C$12,3,0),\"\")","v":""},{"$f":"IF(D440<>\"\",VLOOKUP(D440,Desplegables!$A$12:$B$38,2,0),\"\")","v":""}]
[{"$f":"IF(A439<>\"\",A439,\"\")","v":""},{"$f":"IF(B439<>\"\",B439,\"\")","v":""},{"$f":"IF(C439<>\"\",C439,\"\")","v":""},{"$f":"IF(D439<>\"\",D439,\"\")","v":""},null,null,null,{"$f":"IF(AND(F441<>\"\",G441<>\"\"),VLOOKUP(F441,Desplegables!$E$2:$F$275,2,0)&G441,\"\")","v":""},null,null,null,null,null,null,null,{"$f":"IF(C441<>\"\",VLOOKUP(C441,Desplegables!$A$3:$B$12,2,0),\"\")","v":""},{"$f":"IF(D441<>\"\",VLOOKUP(D441,Desplegables!$A$26:$C$38,3,0),\"\")","v":""},{"$f":"IF(C441<>\"\",VLOOKUP(C441,Desplegables!$A$3:$C$12,3,0),\"\")","v":""},{"$f":"IF(D441<>\"\",VLOOKUP(D441,Desplegables!$A$12:$B$38,2,0),\"\")","v":""}]
[null,null,null,null,null,null,null,{"$f":"IF(AND(F442<>\"\",G442<>\"\"),VLOOKUP(F442,Desplegables!$E$2:$F$275,2,0)&G442,\"\")","v":""},null,null,null,null,null,null,null,{"$f":"IF(C442<>\"\",VLOOKUP(C442,Desplegables!$A$3:$B$12,2,0),\"\")","v":""},{"$f":"IF(D442<>\"\",VLOOKUP(D442,Desplegables!$A$26:$C$38,3,0),\"\")","v":""},{"$f":"IF(C442<>\"\",VLOOKUP(C442,Desplegables!$A$3:$C$12,3,0),\"\")","v":""},{"$f":"IF(D442<>\"\",VLOOKUP(D442,Desplegables!$A$12:$B$38,2,0),\"\")","v":""}]
[{"$f":"IF(A442<>\"\",A442,\"\")","v":""},{"$f":"IF(B442<>\"\",B442,\"\")","v":""},{"$f":"IF(C442<>\"\",C442,\"\")","v":""},{"$f":"IF(D442<>\"\",D442,\"\")","v":""},null,null,null,{"$f":"IF(AND(F443<>\"\",G443<>\"\"),VLOOKUP(F443,Desplegables!$E$2:$F$275,2,0)&G443,\"\")","v":""},null,null,null,null,null,null,null,{"$f":"IF(C443<>\"\",VLOOKUP(C443,Desplegables!$A$3:$B$12,2,0),\"\")","v":""},{"$f":"IF(D443<>\"\",VLOOKUP(D443,Desplegables!$A$26:$C$38,3,0),\"\")","v":""},{"$f":"IF(C443<>\"\",VLOOKUP(C443,Desplegables!$A$3:$C$12,3,0),\"\")","v":""},{"$f":"IF(D443<>\"\",VLOOKUP(D443,Desplegables!$A$12:$B$38,2,0),\"\")","v":""}]
[{"$f":"IF(A442<>\"\",A442,\"\")","v":""},{"$f":"IF(B442<>\"\",B442,\"\")","v":""},{"$f":"IF(C442<>\"\",C442,\"\")","v":""},{"$f":"IF(D442<>\"\",D442,\"\")","v":""},null,null,null,{"$f":"IF(AND(F444<>\"\",G444<>\"\"),VLOOKUP(F444,Desplegables!$E$2:$F$275,2,0)&G444,\"\")","v":""},null,null,null,null,null,null,null,{"$f":"IF(C444<>\"\",VLOOKUP(C444,Desplegables!$A$3:$B$12,2,0),\"\")","v":""},{"$f":"IF(D444<>\"\",VLOOKUP(D444,Desplegables!$A$26:$C$38,3,0),\"\")","v":""},{"$f":"IF(C444<>\"\",VLOOKUP(C444,Desplegables!$A$3:$C$12,3,0),\"\")","v":""},{"$f":"IF(D444<>\"\",VLOOKUP(D444,Desplegables!$A$12:$B$38,2,0),\"\")","v":""}]
[null,null,null,null,null,null,null,{"$f":"IF(AND(F445<>\"\",G445<>\"\"),VLOOKUP(F445,Desplegables!$E$2:$F$275,2,0)&G445,\"\")","v":""},null,null,null,null,null,null,null,{"$f":"IF(C445<>\"\",VLOOKUP(C445,Desplegables!$A$3:$B$12,2,0),\"\")","v":""},{"$f":"IF(D445<>\"\",VLOOKUP(D445,Desplegables!$A$26:$C$38,3,0),\"\")","v":""},{"$f":"IF(C445<>\"\",VLOOKUP(C445,Desplegables!$A$3:$C$12,3,0),\"\")","v":""},{"$f":"IF(D445<>\"\",VLOOKUP(D445,Desplegables!$A$12:$B$38,2,0),\"\")","v":""}]
[{"$f":"IF(A445<>\"\",A445,\"\")","v":""},{"$f":"IF(B445<>\"\",B445,\"\")","v":""},{"$f":"IF(C445<>\"\",C445,\"\")","v":""},{"$f":"IF(D445<>\"\",D445,\"\")","v":""},null,null,null,{"$f":"IF(AND(F446<>\"\",G446<>\"\"),VLOOKUP(F446,Desplegables!$E$2:$F$275,2,0)&G446,\"\")","v":""},null,null,null,null,null,null,null,{"$f":"IF(C446<>\"\",VLOOKUP(C446,Desplegables!$A$3:$B$12,2,0),\"\")","v":""},{"$f":"IF(D446<>\"\",VLOOKUP(D446,Desplegables!$A$26:$C$38,3,0),\"\")","v":""},{"$f":"IF(C446<>\"\",VLOOKUP(C446,Desplegables!$A$3:$C$12,3,0),\"\")","v":""},{"$f":"IF(D446<>\"\",VLOOKUP(D446,Desplegables!$A$12:$B$38,2,0),\"\")","v":""}]
[{"$f":"IF(A445<>\"\",A445,\"\")","v":""},{"$f":"IF(B445<>\"\",B445,\"\")","v":""},{"$f":"IF(C445<>\"\",C445,\"\")","v":""},{"$f":"IF(D445<>\"\",D445,\"\")","v":""},null,null,null,{"$f":"IF(AND(F447<>\"\",G447<>\"\"),VLOOKUP(F447,Desplegables!$E$2:$F$275,2,0)&G447,\"\")","v":""},null,null,null,null,null,null,null,{"$f":"IF(C447<>\"\",VLOOKUP(C447,Desplegables!$A$3:$B$12,2,0),\"\")","v":""},{"$f":"IF(D447<>\"\",VLOOKUP(D447,Desplegables!$A$26:$C$38,3,0),\"\")","v":""},{"$f":"IF(C447<>\"\",VLOOKUP(C447,Desplegables!$A$3:$C$12,3,0),\"\")","v":""},{"$f":"IF(D447<>\"\",VLOOKUP(D447,Desplegables!$A$12:$B$38,2,0),\"\")","v":""}]
[null,null,null,null,null,null,null,{"$f":"IF(AND(F448<>\"\",G448<>\"\"),VLOOKUP(F448,Desplegables!$E$2:$F$275,2,0)&G448,\"\")","v":""},null,null,null,null,null,null,null,{"$f":"IF(C448<>\"\",VLOOKUP(C448,Desplegables!$A$3:$B$12,2,0),\"\")","v":""},{"$f":"IF(D448<>\"\",VLOOKUP(D448,Desplegables!$A$26:$C$38,3,0),\"\")","v":""},{"$f":"IF(C448<>\"\",VLOOKUP(C448,Desplegables!$A$3:$C$12,3,0),\"\")","v":""},{"$f":"IF(D448<>\"\",VLOOKUP(D448,Desplegables!$A$12:$B$38,2,0),\"\")","v":""}]
[{"$f":"IF(A448<>\"\",A448,\"\")","v":""},{"$f":"IF(B448<>\"\",B448,\"\")","v":""},{"$f":"IF(C448<>\"\",C448,\"\")","v":""},{"$f":"IF(D448<>\"\",D448,\"\")","v":""},null,null,null,{"$f":"IF(AND(F449<>\"\",G449<>\"\"),VLOOKUP(F449,Desplegables!$E$2:$F$275,2,0)&G449,\"\")","v":""},null,null,null,null,null,null,null,{"$f":"IF(C449<>\"\",VLOOKUP(C449,Desplegables!$A$3:$B$12,2,0),\"\")","v":""},{"$f":"IF(D449<>\"\",VLOOKUP(D449,Desplegables!$A$26:$C$38,3,0),\"\")","v":""},{"$f":"IF(C449<>\"\",VLOOKUP(C449,Desplegables!$A$3:$C$12,3,0),\"\")","v":""},{"$f":"IF(D449<>\"\",VLOOKUP(D449,Desplegables!$A$12:$B$38,2,0),\"\")","v":""}]
[{"$f":"IF(A448<>\"\",A448,\"\")","v":""},{"$f":"IF(B448<>\"\",B448,\"\")","v":""},{"$f":"IF(C448<>\"\",C448,\"\")","v":""},{"$f":"IF(D448<>\"\",D448,\"\")","v":""},null,null,null,{"$f":"IF(AND(F450<>\"\",G450<>\"\"),VLOOKUP(F450,Desplegables!$E$2:$F$275,2,0)&G450,\"\")","v":""},null,null,null,null,null,null,null,{"$f":"IF(C450<>\"\",VLOOKUP(C450,Desplegables!$A$3:$B$12,2,0),\"\")","v":""},{"$f":"IF(D450<>\"\",VLOOKUP(D450,Desplegables!$A$26:$C$38,3,0),\"\")","v":""},{"$f":"IF(C450<>\"\",VLOOKUP(C450,Desplegables!$A$3:$C$12,3,0),\"\")","v":""},{"$f":"IF(D450<>\"\",VLOOKUP(D450,Desplegables!$A$12:$B$38,2,0),\"\")","v":""}]
[null,null,null,null,null,null,null,{"$f":"IF(AND(F451<>\"\",G451<>\"\"),VLOOKUP(F451,Desplegables!$E$2:$F$275,2,0)&G451,\"\")","v":""},null,null,null,null,null,null,null,{"$f":"IF(C451<>\"\",VLOOKUP(C451,Desplegables!$A$3:$B$12,2,0),\"\")","v":""},{"$f":"IF(D451<>\"\",VLOOKUP(D451,Desplegables!$A$26:$C$38,3,0),\"\")","v":""},{"$f":"IF(C451<>\"\",VLOOKUP(C451,Desplegables!$A$3:$C$12,3,0),\"\")","v":""},{"$f":"IF(D451<>\"\",VLOOKUP(D451,Desplegables!$A$12:$B$38,2,0),\"\")","v":""}]
[{"$f":"IF(A451<>\"\",A451,\"\")","v":""},{"$f":"IF(B451<>\"\",B451,\"\")","v":""},{"$f":"IF(C451<>\"\",C451,\"\")","v":""},{"$f":"IF(D451<>\"\",D451,\"\")","v":""},null,null,null,{"$f":"IF(AND(F452<>\"\",G452<>\"\"),VLOOKUP(F452,Desplegables!$E$2:$F$275,2,0)&G452,\"\")","v":""},null,null,null,null,null,null,null,{"$f":"IF(C452<>\"\",VLOOKUP(C452,Desplegables!$A$3:$B$12,2,0),\"\")","v":""},{"$f":"IF(D452<>\"\",VLOOKUP(D452,Desplegables!$A$26:$C$38,3,0),\"\")","v":""},{"$f":"IF(C452<>\"\",VLOOKUP(C452,Desplegables!$A$3:$C$12,3,0),\"\")","v":""},{"$f":"IF(D452<>\"\",VLOOKUP(D452,Desplegables!$A$12:$B$38,2,0),\"\")","v":""}]
[{"$f":"IF(A451<>\"\",A451,\"\")","v":""},{"$f":"IF(B451<>\"\",B451,\"\")","v":""},{"$f":"IF(C451<>\"\",C451,\"\")","v":""},{"$f":"IF(D451<>\"\",D451,\"\")","v":""},null,null,null,{"$f":"IF(AND(F453<>\"\",G453<>\"\"),VLOOKUP(F453,Desplegables!$E$2:$F$275,2,0)&G453,\"\")","v":""},null,null,null,null,null,null,null,{"$f":"IF(C453<>\"\",VLOOKUP(C453,Desplegables!$A$3:$B$12,2,0),\"\")","v":""},{"$f":"IF(D453<>\"\",VLOOKUP(D453,Desplegables!$A$26:$C$38,3,0),\"\")","v":""},{"$f":"IF(C453<>\"\",VLOOKUP(C453,Desplegables!$A$3:$C$12,3,0),\"\")","v":""},{"$f":"IF(D453<>\"\",VLOOKUP(D453,Desplegables!$A$12:$B$38,2,0),\"\")","v":""}]
[null,null,null,null,null,null,null,{"$f":"IF(AND(F454<>\"\",G454<>\"\"),VLOOKUP(F454,Desplegables!$E$2:$F$275,2,0)&G454,\"\")","v":""},null,null,null,null,null,null,null,{"$f":"IF(C454<>\"\",VLOOKUP(C454,Desplegables!$A$3:$B$12,2,0),\"\")","v":""},{"$f":"IF(D454<>\"\",VLOOKUP(D454,Desplegables!$A$26:$C$38,3,0),\"\")","v":""},{"$f":"IF(C454<>\"\",VLOOKUP(C454,Desplegables!$A$3:$C$12,3,0),\"\")","v":""},{"$f":"IF(D454<>\"\",VLOOKUP(D454,Desplegables!$A$12:$B$38,2,0),\"\")","v":""}]
[{"$f":"IF(A454<>\"\",A454,\"\")","v":""},{"$f":"IF(B454<>\"\",B454,\"\")","v":""},{"$f":"IF(C454<>\"\",C454,\"\")","v":""},{"$f":"IF(D454<>\"\",D454,\"\")","v":""},null,null,null,{"$f":"IF(AND(F455<>\"\",G455<>\"\"),VLOOKUP(F455,Desplegables!$E$2:$F$275,2,0)&G455,\"\")","v":""},null,null,null,null,null,null,null,{"$f":"IF(C455<>\"\",VLOOKUP(C455,Desplegables!$A$3:$B$12,2,0),\"\")","v":""},{"$f":"IF(D455<>\"\",VLOOKUP(D455,Desplegables!$A$26:$C$38,3,0),\"\")","v":""},{"$f":"IF(C455<>\"\",VLOOKUP(C455,Desplegables!$A$3:$C$12,3,0),\"\")","v":""},{"$f":"IF(D455<>\"\",VLOOKUP(D455,Desplegables!$A$12:$B$38,2,0),\"\")","v":""}]
[{"$f":"IF(A454<>\"\",A454,\"\")","v":""},{"$f":"IF(B454<>\"\",B454,\"\")","v":""},{"$f":"IF(C454<>\"\",C454,\"\")","v":""},{"$f":"IF(D454<>\"\",D454,\"\")","v":""},null,null,null,{"$f":"IF(AND(F456<>\"\",G456<>\"\"),VLOOKUP(F456,Desplegables!$E$2:$F$275,2,0)&G456,\"\")","v":""},null,null,null,null,null,null,null,{"$f":"IF(C456<>\"\",VLOOKUP(C456,Desplegables!$A$3:$B$12,2,0),\"\")","v":""},{"$f":"IF(D456<>\"\",VLOOKUP(D456,Desplegables!$A$26:$C$38,3,0),\"\")","v":""},{"$f":"IF(C456<>\"\",VLOOKUP(C456,Desplegables!$A$3:$C$12,3,0),\"\")","v":""},{"$f":"IF(D456<>\"\",VLOOKUP(D456,Desplegables!$A$12:$B$38,2,0),\"\")","v":""}]
[null,null,null,null,null,null,null,{"$f":"IF(AND(F457<>\"\",G457<>\"\"),VLOOKUP(F457,Desplegables!$E$2:$F$275,2,0)&G457,\"\")","v":""},null,null,null,null,null,null,null,{"$f":"IF(C457<>\"\",VLOOKUP(C457,Desplegables!$A$3:$B$12,2,0),\"\")","v":""},{"$f":"IF(D457<>\"\",VLOOKUP(D457,Desplegables!$A$26:$C$38,3,0),\"\")","v":""},{"$f":"IF(C457<>\"\",VLOOKUP(C457,Desplegables!$A$3:$C$12,3,0),\"\")","v":""},{"$f":"IF(D457<>\"\",VLOOKUP(D457,Desplegables!$A$12:$B$38,2,0),\"\")","v":""}]
[{"$f":"IF(A457<>\"\",A457,\"\")","v":""},{"$f":"IF(B457<>\"\",B457,\"\")","v":""},{"$f":"IF(C457<>\"\",C457,\"\")","v":""},{"$f":"IF(D457<>\"\",D457,\"\")","v":""},null,null,null,{"$f":"IF(AND(F458<>\"\",G458<>\"\"),VLOOKUP(F458,Desplegables!$E$2:$F$275,2,0)&G458,\"\")","v":""},null,null,null,null,null,null,null,{"$f":"IF(C458<>\"\",VLOOKUP(C458,Desplegables!$A$3:$B$12,2,0),\"\")","v":""},{"$f":"IF(D458<>\"\",VLOOKUP(D458,Desplegables!$A$26:$C$38,3,0),\"\")","v":""},{"$f":"IF(C458<>\"\",VLOOKUP(C458,Desplegables!$A$3:$C$12,3,0),\"\")","v":""},{"$f":"IF(D458<>\"\",VLOOKUP(D458,Desplegables!$A$12:$B$38,2,0),\"\")","v":""}]
[{"$f":"IF(A457<>\"\",A457,\"\")","v":""},{"$f":"IF(B457<>\"\",B457,\"\")","v":""},{"$f":"IF(C457<>\"\",C457,\"\")","v":""},{"$f":"IF(D457<>\"\",D457,\"\")","v":""},null,null,null,{"$f":"IF(AND(F459<>\"\",G459<>\"\"),VLOOKUP(F459,Desplegables!$E$2:$F$275,2,0)&G459,\"\")","v":""},null,null,null,null,null,null,null,{"$f":"IF(C459<>\"\",VLOOKUP(C459,Desplegables!$A$3:$B$12,2,0),\"\")","v":""},{"$f":"IF(D459<>\"\",VLOOKUP(D459,Desplegables!$A$26:$C$38,3,0),\"\")","v":""},{"$f":"IF(C459<>\"\",VLOOKUP(C459,Desplegables!$A$3:$C$12,3,0),\"\")","v":""},{"$f":"IF(D459<>\"\",VLOOKUP(D459,Desplegables!$A$12:$B$38,2,0),\"\")","v":""}]
[null,null,null,null,null,null,null,{"$f":"IF(AND(F460<>\"\",G460<>\"\"),VLOOKUP(F460,Desplegables!$E$2:$F$275,2,0)&G460,\"\")","v":""},null,null,null,null,null,null,null,{"$f":"IF(C460<>\"\",VLOOKUP(C460,Desplegables!$A$3:$B$12,2,0),\"\")","v":""},{"$f":"IF(D460<>\"\",VLOOKUP(D460,Desplegables!$A$26:$C$38,3,0),\"\")","v":""},{"$f":"IF(C460<>\"\",VLOOKUP(C460,Desplegables!$A$3:$C$12,3,0),\"\")","v":""},{"$f":"IF(D460<>\"\",VLOOKUP(D460,Desplegables!$A$12:$B$38,2,0),\"\")","v":""}]
[{"$f":"IF(A460<>\"\",A460,\"\")","v":""},{"$f":"IF(B460<>\"\",B460,\"\")","v":""},{"$f":"IF(C460<>\"\",C460,\"\")","v":""},{"$f":"IF(D460<>\"\",D460,\"\")","v":""},null,null,null,{"$f":"IF(AND(F461<>\"\",G461<>\"\"),VLOOKUP(F461,Desplegables!$E$2:$F$275,2,0)&G461,\"\")","v":""},null,null,null,null,null,null,null,{"$f":"IF(C461<>\"\",VLOOKUP(C461,Desplegables!$A$3:$B$12,2,0),\"\")","v":""},{"$f":"IF(D461<>\"\",VLOOKUP(D461,Desplegables!$A$26:$C$38,3,0),\"\")","v":""},{"$f":"IF(C461<>\"\",VLOOKUP(C461,Desplegables!$A$3:$C$12,3,0),\"\")","v":""},{"$f":"IF(D461<>\"\",VLOOKUP(D461,Desplegables!$A$12:$B$38,2,0),\"\")","v":""}]
[{"$f":"IF(A460<>\"\",A460,\"\")","v":""},{"$f":"IF(B460<>\"\",B460,\"\")","v":""},{"$f":"IF(C460<>\"\",C460,\"\")","v":""},{"$f":"IF(D460<>\"\",D460,\"\")","v":""},null,null,null,{"$f":"IF(AND(F462<>\"\",G462<>\"\"),VLOOKUP(F462,Desplegables!$E$2:$F$275,2,0)&G462,\"\")","v":""},null,null,null,null,null,null,null,{"$f":"IF(C462<>\"\",VLOOKUP(C462,Desplegables!$A$3:$B$12,2,0),\"\")","v":""},{"$f":"IF(D462<>\"\",VLOOKUP(D462,Desplegables!$A$26:$C$38,3,0),\"\")","v":""},{"$f":"IF(C462<>\"\",VLOOKUP(C462,Desplegables!$A$3:$C$12,3,0),\"\")","v":""},{"$f":"IF(D462<>\"\",VLOOKUP(D462,Desplegables!$A$12:$B$38,2,0),\"\")","v":""}]
[null,null,null,null,null,null,null,{"$f":"IF(AND(F463<>\"\",G463<>\"\"),VLOOKUP(F463,Desplegables!$E$2:$F$275,2,0)&G463,\"\")","v":""},null,null,null,null,null,null,null,{"$f":"IF(C463<>\"\",VLOOKUP(C463,Desplegables!$A$3:$B$12,2,0),\"\")","v":""},{"$f":"IF(D463<>\"\",VLOOKUP(D463,Desplegables!$A$26:$C$38,3,0),\"\")","v":""},{"$f":"IF(C463<>\"\",VLOOKUP(C463,Desplegables!$A$3:$C$12,3,0),\"\")","v":""},{"$f":"IF(D463<>\"\",VLOOKUP(D463,Desplegables!$A$12:$B$38,2,0),\"\")","v":""}]
[{"$f":"IF(A463<>\"\",A463,\"\")","v":""},{"$f":"IF(B463<>\"\",B463,\"\")","v":""},{"$f":"IF(C463<>\"\",C463,\"\")","v":""},{"$f":"IF(D463<>\"\",D463,\"\")","v":""},null,null,null,{"$f":"IF(AND(F464<>\"\",G464<>\"\"),VLOOKUP(F464,Desplegables!$E$2:$F$275,2,0)&G464,\"\")","v":""},null,null,null,null,null,null,null,{"$f":"IF(C464<>\"\",VLOOKUP(C464,Desplegables!$A$3:$B$12,2,0),\"\")","v":""},{"$f":"IF(D464<>\"\",VLOOKUP(D464,Desplegables!$A$26:$C$38,3,0),\"\")","v":""},{"$f":"IF(C464<>\"\",VLOOKUP(C464,Desplegables!$A$3:$C$12,3,0),\"\")","v":""},{"$f":"IF(D464<>\"\",VLOOKUP(D464,Desplegables!$A$12:$B$38,2,0),\"\")","v":""}]
[{"$f":"IF(A463<>\"\",A463,\"\")","v":""},{"$f":"IF(B463<>\"\",B463,\"\")","v":""},{"$f":"IF(C463<>\"\",C463,\"\")","v":""},{"$f":"IF(D463<>\"\",D463,\"\")","v":""},null,null,null,{"$f":"IF(AND(F465<>\"\",G465<>\"\"),VLOOKUP(F465,Desplegables!$E$2:$F$275,2,0)&G465,\"\")","v":""},null,null,null,null,null,null,null,{"$f":"IF(C465<>\"\",VLOOKUP(C465,Desplegables!$A$3:$B$12,2,0),\"\")","v":""},{"$f":"IF(D465<>\"\",VLOOKUP(D465,Desplegables!$A$26:$C$38,3,0),\"\")","v":""},{"$f":"IF(C465<>\"\",VLOOKUP(C465,Desplegables!$A$3:$C$12,3,0),\"\")","v":""},{"$f":"IF(D465<>\"\",VLOOKUP(D465,Desplegables!$A$12:$B$38,2,0),\"\")","v":""}]
[null,null,null,null,null,null,null,{"$f":"IF(AND(F466<>\"\",G466<>\"\"),VLOOKUP(F466,Desplegables!$E$2:$F$275,2,0)&G466,\"\")","v":""},null,null,null,null,null,null,null,{"$f":"IF(C466<>\"\",VLOOKUP(C466,Desplegables!$A$3:$B$12,2,0),\"\")","v":""},{"$f":"IF(D466<>\"\",VLOOKUP(D466,Desplegables!$A$26:$C$38,3,0),\"\")","v":""},{"$f":"IF(C466<>\"\",VLOOKUP(C466,Desplegables!$A$3:$C$12,3,0),\"\")","v":""},{"$f":"IF(D466<>\"\",VLOOKUP(D466,Desplegables!$A$12:$B$38,2,0),\"\")","v":""}]
[{"$f":"IF(A466<>\"\",A466,\"\")","v":""},{"$f":"IF(B466<>\"\",B466,\"\")","v":""},{"$f":"IF(C466<>\"\",C466,\"\")","v":""},{"$f":"IF(D466<>\"\",D466,\"\")","v":""},null,null,null,{"$f":"IF(AND(F467<>\"\",G467<>\"\"),VLOOKUP(F467,Desplegables!$E$2:$F$275,2,0)&G467,\"\")","v":""},null,null,null,null,null,null,null,{"$f":"IF(C467<>\"\",VLOOKUP(C467,Desplegables!$A$3:$B$12,2,0),\"\")","v":""},{"$f":"IF(D467<>\"\",VLOOKUP(D467,Desplegables!$A$26:$C$38,3,0),\"\")","v":""},{"$f":"IF(C467<>\"\",VLOOKUP(C467,Desplegables!$A$3:$C$12,3,0),\"\")","v":""},{"$f":"IF(D467<>\"\",VLOOKUP(D467,Desplegables!$A$12:$B$38,2,0),\"\")","v":""}]
[{"$f":"IF(A466<>\"\",A466,\"\")","v":""},{"$f":"IF(B466<>\"\",B466,\"\")","v":""},{"$f":"IF(C466<>\"\",C466,\"\")","v":""},{"$f":"IF(D466<>\"\",D466,\"\")","v":""},null,null,null,{"$f":"IF(AND(F468<>\"\",G468<>\"\"),VLOOKUP(F468,Desplegables!$E$2:$F$275,2,0)&G468,\"\")","v":""},null,null,null,null,null,null,null,{"$f":"IF(C468<>\"\",VLOOKUP(C468,Desplegables!$A$3:$B$12,2,0),\"\")","v":""},{"$f":"IF(D468<>\"\",VLOOKUP(D468,Desplegables!$A$26:$C$38,3,0),\"\")","v":""},{"$f":"IF(C468<>\"\",VLOOKUP(C468,Desplegables!$A$3:$C$12,3,0),\"\")","v":""},{"$f":"IF(D468<>\"\",VLOOKUP(D468,Desplegables!$A$12:$B$38,2,0),\"\")","v":""}]
[null,null,null,null,null,null,null,{"$f":"IF(AND(F469<>\"\",G469<>\"\"),VLOOKUP(F469,Desplegables!$E$2:$F$275,2,0)&G469,\"\")","v":""},null,null,null,null,null,null,null,{"$f":"IF(C469<>\"\",VLOOKUP(C469,Desplegables!$A$3:$B$12,2,0),\"\")","v":""},{"$f":"IF(D469<>\"\",VLOOKUP(D469,Desplegables!$A$26:$C$38,3,0),\"\")","v":""},{"$f":"IF(C469<>\"\",VLOOKUP(C469,Desplegables!$A$3:$C$12,3,0),\"\")","v":""},{"$f":"IF(D469<>\"\",VLOOKUP(D469,Desplegables!$A$12:$B$38,2,0),\"\")","v":""}]
[{"$f":"IF(A469<>\"\",A469,\"\")","v":""},{"$f":"IF(B469<>\"\",B469,\"\")","v":""},{"$f":"IF(C469<>\"\",C469,\"\")","v":""},{"$f":"IF(D469<>\"\",D469,\"\")","v":""},null,null,null,{"$f":"IF(AND(F470<>\"\",G470<>\"\"),VLOOKUP(F470,Desplegables!$E$2:$F$275,2,0)&G470,\"\")","v":""},null,null,null,null,null,null,null,{"$f":"IF(C470<>\"\",VLOOKUP(C470,Desplegables!$A$3:$B$12,2,0),\"\")","v":""},{"$f":"IF(D470<>\"\",VLOOKUP(D470,Desplegables!$A$26:$C$38,3,0),\"\")","v":""},{"$f":"IF(C470<>\"\",VLOOKUP(C470,Desplegables!$A$3:$C$12,3,0),\"\")","v":""},{"$f":"IF(D470<>\"\",VLOOKUP(D470,Desplegables!$A$12:$B$38,2,0),\"\")","v":""}]
[{"$f":"IF(A469<>\"\",A469,\"\")","v":""},{"$f":"IF(B469<>\"\",B469,\"\")","v":""},{"$f":"IF(C469<>\"\",C469,\"\")","v":""},{"$f":"IF(D469<>\"\",D469,\"\")","v":""},null,null,null,{"$f":"IF(AND(F471<>\"\",G471<>\"\"),VLOOKUP(F471,Desplegables!$E$2:$F$275,2,0)&G471,\"\")","v":""},null,null,null,null,null,null,null,{"$f":"IF(C471<>\"\",VLOOKUP(C471,Desplegables!$A$3:$B$12,2,0),\"\")","v":""},{"$f":"IF(D471<>\"\",VLOOKUP(D471,Desplegables!$A$26:$C$38,3,0),\"\")","v":""},{"$f":"IF(C471<>\"\",VLOOKUP(C471,Desplegables!$A$3:$C$12,3,0),\"\")","v":""},{"$f":"IF(D471<>\"\",VLOOKUP(D471,Desplegables!$A$12:$B$38,2,0),\"\")","v":""}]
[null,null,null,null,null,null,null,{"$f":"IF(AND(F472<>\"\",G472<>\"\"),VLOOKUP(F472,Desplegables!$E$2:$F$275,2,0)&G472,\"\")","v":""},null,null,null,null,null,null,null,{"$f":"IF(C472<>\"\",VLOOKUP(C472,Desplegables!$A$3:$B$12,2,0),\"\")","v":""},{"$f":"IF(D472<>\"\",VLOOKUP(D472,Desplegables!$A$26:$C$38,3,0),\"\")","v":""},{"$f":"IF(C472<>\"\",VLOOKUP(C472,Desplegables!$A$3:$C$12,3,0),\"\")","v":""},{"$f":"IF(D472<>\"\",VLOOKUP(D472,Desplegables!$A$12:$B$38,2,0),\"\")","v":""}]
[{"$f":"IF(A472<>\"\",A472,\"\")","v":""},{"$f":"IF(B472<>\"\",B472,\"\")","v":""},{"$f":"IF(C472<>\"\",C472,\"\")","v":""},{"$f":"IF(D472<>\"\",D472,\"\")","v":""},null,null,null,{"$f":"IF(AND(F473<>\"\",G473<>\"\"),VLOOKUP(F473,Desplegables!$E$2:$F$275,2,0)&G473,\"\")","v":""},null,null,null,null,null,null,null,{"$f":"IF(C473<>\"\",VLOOKUP(C473,Desplegables!$A$3:$B$12,2,0),\"\")","v":""},{"$f":"IF(D473<>\"\",VLOOKUP(D473,Desplegables!$A$26:$C$38,3,0),\"\")","v":""},{"$f":"IF(C473<>\"\",VLOOKUP(C473,Desplegables!$A$3:$C$12,3,0),\"\")","v":""},{"$f":"IF(D473<>\"\",VLOOKUP(D473,Desplegables!$A$12:$B$38,2,0),\"\")","v":""}]
[{"$f":"IF(A472<>\"\",A472,\"\")","v":""},{"$f":"IF(B472<>\"\",B472,\"\")","v":""},{"$f":"IF(C472<>\"\",C472,\"\")","v":""},{"$f":"IF(D472<>\"\",D472,\"\")","v":""},null,null,null,{"$f":"IF(AND(F474<>\"\",G474<>\"\"),VLOOKUP(F474,Desplegables!$E$2:$F$275,2,0)&G474,\"\")","v":""},null,null,null,null,null,null,null,{"$f":"IF(C474<>\"\",VLOOKUP(C474,Desplegables!$A$3:$B$12,2,0),\"\")","v":""},{"$f":"IF(D474<>\"\",VLOOKUP(D474,Desplegables!$A$26:$C$38,3,0),\"\")","v":""},{"$f":"IF(C474<>\"\",VLOOKUP(C474,Desplegables!$A$3:$C$12,3,0),\"\")","v":""},{"$f":"IF(D474<>\"\",VLOOKUP(D474,Desplegables!$A$12:$B$38,2,0),\"\")","v":""}]
[null,null,null,null,null,null,null,{"$f":"IF(AND(F475<>\"\",G475<>\"\"),VLOOKUP(F475,Desplegables!$E$2:$F$275,2,0)&G475,\"\")","v":""},null,null,null,null,null,null,null,{"$f":"IF(C475<>\"\",VLOOKUP(C475,Desplegables!$A$3:$B$12,2,0),\"\")","v":""},{"$f":"IF(D475<>\"\",VLOOKUP(D475,Desplegables!$A$26:$C$38,3,0),\"\")","v":""},{"$f":"IF(C475<>\"\",VLOOKUP(C475,Desplegables!$A$3:$C$12,3,0),\"\")","v":""},{"$f":"IF(D475<>\"\",VLOOKUP(D475,Desplegables!$A$12:$B$38,2,0),\"\")","v":""}]
[{"$f":"IF(A475<>\"\",A475,\"\")","v":""},{"$f":"IF(B475<>\"\",B475,\"\")","v":""},{"$f":"IF(C475<>\"\",C475,\"\")","v":""},{"$f":"IF(D475<>\"\",D475,\"\")","v":""},null,null,null,{"$f":"IF(AND(F476<>\"\",G476<>\"\"),VLOOKUP(F476,Desplegables!$E$2:$F$275,2,0)&G476,\"\")","v":""},null,null,null,null,null,null,null,{"$f":"IF(C476<>\"\",VLOOKUP(C476,Desplegables!$A$3:$B$12,2,0),\"\")","v":""},{"$f":"IF(D476<>\"\",VLOOKUP(D476,Desplegables!$A$26:$C$38,3,0),\"\")","v":""},{"$f":"IF(C476<>\"\",VLOOKUP(C476,Desplegables!$A$3:$C$12,3,0),\"\")","v":""},{"$f":"IF(D476<>\"\",VLOOKUP(D476,Desplegables!$A$12:$B$38,2,0),\"\")","v":""}]
[{"$f":"IF(A475<>\"\",A475,\"\")","v":""},{"$f":"IF(B475<>\"\",B475,\"\")","v":""},{"$f":"IF(C475<>\"\",C475,\"\")","v":""},{"$f":"IF(D475<>\"\",D475,\"\")","v":""},null,null,null,{"$f":"IF(AND(F477<>\"\",G477<>\"\"),VLOOKUP(F477,Desplegables!$E$2:$F$275,2,0)&G477,\"\")","v":""},null,null,null,null,null,null,null,{"$f":"IF(C477<>\"\",VLOOKUP(C477,Desplegables!$A$3:$B$12,2,0),\"\")","v":""},{"$f":"IF(D477<>\"\",VLOOKUP(D477,Desplegables!$A$26:$C$38,3,0),\"\")","v":""},{"$f":"IF(C477<>\"\",VLOOKUP(C477,Desplegables!$A$3:$C$12,3,0),\"\")","v":""},{"$f":"IF(D477<>\"\",VLOOKUP(D477,Desplegables!$A$12:$B$38,2,0),\"\")","v":""}]
[null,null,null,null,null,null,null,{"$f":"IF(AND(F478<>\"\",G478<>\"\"),VLOOKUP(F478,Desplegables!$E$2:$F$275,2,0)&G478,\"\")","v":""},null,null,null,null,null,null,null,{"$f":"IF(C478<>\"\",VLOOKUP(C478,Desplegables!$A$3:$B$12,2,0),\"\")","v":""},{"$f":"IF(D478<>\"\",VLOOKUP(D478,Desplegables!$A$26:$C$38,3,0),\"\")","v":""},{"$f":"IF(C478<>\"\",VLOOKUP(C478,Desplegables!$A$3:$C$12,3,0),\"\")","v":""},{"$f":"IF(D478<>\"\",VLOOKUP(D478,Desplegables!$A$12:$B$38,2,0),\"\")","v":""}]
[{"$f":"IF(A478<>\"\",A478,\"\")","v":""},{"$f":"IF(B478<>\"\",B478,\"\")","v":""},{"$f":"IF(C478<>\"\",C478,\"\")","v":""},{"$f":"IF(D478<>\"\",D478,\"\")","v":""},null,null,null,{"$f":"IF(AND(F479<>\"\",G479<>\"\"),VLOOKUP(F479,Desplegables!$E$2:$F$275,2,0)&G479,\"\")","v":""},null,null,null,null,null,null,null,{"$f":"IF(C479<>\"\",VLOOKUP(C479,Desplegables!$A$3:$B$12,2,0),\"\")","v":""},{"$f":"IF(D479<>\"\",VLOOKUP(D479,Desplegables!$A$26:$C$38,3,0),\"\")","v":""},{"$f":"IF(C479<>\"\",VLOOKUP(C479,Desplegables!$A$3:$C$12,3,0),\"\")","v":""},{"$f":"IF(D479<>\"\",VLOOKUP(D479,Desplegables!$A$12:$B$38,2,0),\"\")","v":""}]
[{"$f":"IF(A478<>\"\",A478,\"\")","v":""},{"$f":"IF(B478<>\"\",B478,\"\")","v":""},{"$f":"IF(C478<>\"\",C478,\"\")","v":""},{"$f":"IF(D478<>\"\",D478,\"\")","v":""},null,null,null,{"$f":"IF(AND(F480<>\"\",G480<>\"\"),VLOOKUP(F480,Desplegables!$E$2:$F$275,2,0)&G480,\"\")","v":""},null,null,null,null,null,null,null,{"$f":"IF(C480<>\"\",VLOOKUP(C480,Desplegables!$A$3:$B$12,2,0),\"\")","v":""},{"$f":"IF(D480<>\"\",VLOOKUP(D480,Desplegables!$A$26:$C$38,3,0),\"\")","v":""},{"$f":"IF(C480<>\"\",VLOOKUP(C480,Desplegables!$A$3:$C$12,3,0),\"\")","v":""},{"$f":"IF(D480<>\"\",VLOOKUP(D480,Desplegables!$A$12:$B$38,2,0),\"\")","v":""}]
[null,null,null,null,null,null,null,{"$f":"IF(AND(F481<>\"\",G481<>\"\"),VLOOKUP(F481,Desplegables!$E$2:$F$275,2,0)&G481,\"\")","v":""},null,null,null,null,null,null,null,{"$f":"IF(C481<>\"\",VLOOKUP(C481,Desplegables!$A$3:$B$12,2,0),\"\")","v":""},{"$f":"IF(D481<>\"\",VLOOKUP(D481,Desplegables!$A$26:$C$38,3,0),\"\")","v":""},{"$f":"IF(C481<>\"\",VLOOKUP(C481,Desplegables!$A$3:$C$12,3,0),\"\")","v":""},{"$f":"IF(D481<>\"\",VLOOKUP(D481,Desplegables!$A$12:$B$38,2,0),\"\")","v":""}]
[{"$f":"IF(A481<>\"\",A481,\"\")","v":""},{"$f":"IF(B481<>\"\",B481,\"\")","v":""},{"$f":"IF(C481<>\"\",C481,\"\")","v":""},{"$f":"IF(D481<>\"\",D481,\"\")","v":""},null,null,null,{"$f":"IF(AND(F482<>\"\",G482<>\"\"),VLOOKUP(F482,Desplegables!$E$2:$F$275,2,0)&G482,\"\")","v":""},null,null,null,null,null,null,null,{"$f":"IF(C482<>\"\",VLOOKUP(C482,Desplegables!$A$3:$B$12,2,0),\"\")","v":""},{"$f":"IF(D482<>\"\",VLOOKUP(D482,Desplegables!$A$26:$C$38,3,0),\"\")","v":""},{"$f":"IF(C482<>\"\",VLOOKUP(C482,Desplegables!$A$3:$C$12,3,0),\"\")","v":""},{"$f":"IF(D482<>\"\",VLOOKUP(D482,Desplegables!$A$12:$B$38,2,0),\"\")","v":""}]
[{"$f":"IF(A481<>\"\",A481,\"\")","v":""},{"$f":"IF(B481<>\"\",B481,\"\")","v":""},{"$f":"IF(C481<>\"\",C481,\"\")","v":""},{"$f":"IF(D481<>\"\",D481,\"\")","v":""},null,null,null,{"$f":"IF(AND(F483<>\"\",G483<>\"\"),VLOOKUP(F483,Desplegables!$E$2:$F$275,2,0)&G483,\"\")","v":""},null,null,null,null,null,null,null,{"$f":"IF(C483<>\"\",VLOOKUP(C483,Desplegables!$A$3:$B$12,2,0),\"\")","v":""},{"$f":"IF(D483<>\"\",VLOOKUP(D483,Desplegables!$A$26:$C$38,3,0),\"\")","v":""},{"$f":"IF(C483<>\"\",VLOOKUP(C483,Desplegables!$A$3:$C$12,3,0),\"\")","v":""},{"$f":"IF(D483<>\"\",VLOOKUP(D483,Desplegables!$A$12:$B$38,2,0),\"\")","v":""}]
[null,null,null,null,null,null,null,{"$f":"IF(AND(F484<>\"\",G484<>\"\"),VLOOKUP(F484,Desplegables!$E$2:$F$275,2,0)&G484,\"\")","v":""},null,null,null,null,null,null,null,{"$f":"IF(C484<>\"\",VLOOKUP(C484,Desplegables!$A$3:$B$12,2,0),\"\")","v":""},{"$f":"IF(D484<>\"\",VLOOKUP(D484,Desplegables!$A$26:$C$38,3,0),\"\")","v":""},{"$f":"IF(C484<>\"\",VLOOKUP(C484,Desplegables!$A$3:$C$12,3,0),\"\")","v":""},{"$f":"IF(D484<>\"\",VLOOKUP(D484,Desplegables!$A$12:$B$38,2,0),\"\")","v":""}]
[{"$f":"IF(A484<>\"\",A484,\"\")","v":""},{"$f":"IF(B484<>\"\",B484,\"\")","v":""},{"$f":"IF(C484<>\"\",C484,\"\")","v":""},{"$f":"IF(D484<>\"\",D484,\"\")","v":""},null,null,null,{"$f":"IF(AND(F485<>\"\",G485<>\"\"),VLOOKUP(F485,Desplegables!$E$2:$F$275,2,0)&G485,\"\")","v":""},null,null,null,null,null,null,null,{"$f":"IF(C485<>\"\",VLOOKUP(C485,Desplegables!$A$3:$B$12,2,0),\"\")","v":""},{"$f":"IF(D485<>\"\",VLOOKUP(D485,Desplegables!$A$26:$C$38,3,0),\"\")","v":""},{"$f":"IF(C485<>\"\",VLOOKUP(C485,Desplegables!$A$3:$C$12,3,0),\"\")","v":""},{"$f":"IF(D485<>\"\",VLOOKUP(D485,Desplegables!$A$12:$B$38,2,0),\"\")","v":""}]
[{"$f":"IF(A484<>\"\",A484,\"\")","v":""},{"$f":"IF(B484<>\"\",B484,\"\")","v":""},{"$f":"IF(C484<>\"\",C484,\"\")","v":""},{"$f":"IF(D484<>\"\",D484,\"\")","v":""},null,null,null,{"$f":"IF(AND(F486<>\"\",G486<>\"\"),VLOOKUP(F486,Desplegables!$E$2:$F$275,2,0)&G486,\"\")","v":""},null,null,null,null,null,null,null,{"$f":"IF(C486<>\"\",VLOOKUP(C486,Desplegables!$A$3:$B$12,2,0),\"\")","v":""},{"$f":"IF(D486<>\"\",VLOOKUP(D486,Desplegables!$A$26:$C$38,3,0),\"\")","v":""},{"$f":"IF(C486<>\"\",VLOOKUP(C486,Desplegables!$A$3:$C$12,3,0),\"\")","v":""},{"$f":"IF(D486<>\"\",VLOOKUP(D486,Desplegables!$A$12:$B$38,2,0),\"\")","v":""}]
[null,null,null,null,null,null,null,{"$f":"IF(AND(F487<>\"\",G487<>\"\"),VLOOKUP(F487,Desplegables!$E$2:$F$275,2,0)&G487,\"\")","v":""},null,null,null,null,null,null,null,{"$f":"IF(C487<>\"\",VLOOKUP(C487,Desplegables!$A$3:$B$12,2,0),\"\")","v":""},{"$f":"IF(D487<>\"\",VLOOKUP(D487,Desplegables!$A$26:$C$38,3,0),\"\")","v":""},{"$f":"IF(C487<>\"\",VLOOKUP(C487,Desplegables!$A$3:$C$12,3,0),\"\")","v":""},{"$f":"IF(D487<>\"\",VLOOKUP(D487,Desplegables!$A$12:$B$38,2,0),\"\")","v":""}]
[{"$f":"IF(A487<>\"\",A487,\"\")","v":""},{"$f":"IF(B487<>\"\",B487,\"\")","v":""},{"$f":"IF(C487<>\"\",C487,\"\")","v":""},{"$f":"IF(D487<>\"\",D487,\"\")","v":""},null,null,null,{"$f":"IF(AND(F488<>\"\",G488<>\"\"),VLOOKUP(F488,Desplegables!$E$2:$F$275,2,0)&G488,\"\")","v":""},null,null,null,null,null,null,null,{"$f":"IF(C488<>\"\",VLOOKUP(C488,Desplegables!$A$3:$B$12,2,0),\"\")","v":""},{"$f":"IF(D488<>\"\",VLOOKUP(D488,Desplegables!$A$26:$C$38,3,0),\"\")","v":""},{"$f":"IF(C488<>\"\",VLOOKUP(C488,Desplegables!$A$3:$C$12,3,0),\"\")","v":""},{"$f":"IF(D488<>\"\",VLOOKUP(D488,Desplegables!$A$12:$B$38,2,0),\"\")","v":""}]
[{"$f":"IF(A487<>\"\",A487,\"\")","v":""},{"$f":"IF(B487<>\"\",B487,\"\")","v":""},{"$f":"IF(C487<>\"\",C487,\"\")","v":""},{"$f":"IF(D487<>\"\",D487,\"\")","v":""},null,null,null,{"$f":"IF(AND(F489<>\"\",G489<>\"\"),VLOOKUP(F489,Desplegables!$E$2:$F$275,2,0)&G489,\"\")","v":""},null,null,null,null,null,null,null,{"$f":"IF(C489<>\"\",VLOOKUP(C489,Desplegables!$A$3:$B$12,2,0),\"\")","v":""},{"$f":"IF(D489<>\"\",VLOOKUP(D489,Desplegables!$A$26:$C$38,3,0),\"\")","v":""},{"$f":"IF(C489<>\"\",VLOOKUP(C489,Desplegables!$A$3:$C$12,3,0),\"\")","v":""},{"$f":"IF(D489<>\"\",VLOOKUP(D489,Desplegables!$A$12:$B$38,2,0),\"\")","v":""}]
[null,null,null,null,null,null,null,{"$f":"IF(AND(F490<>\"\",G490<>\"\"),VLOOKUP(F490,Desplegables!$E$2:$F$275,2,0)&G490,\"\")","v":""},null,null,null,null,null,null,null,{"$f":"IF(C490<>\"\",VLOOKUP(C490,Desplegables!$A$3:$B$12,2,0),\"\")","v":""},{"$f":"IF(D490<>\"\",VLOOKUP(D490,Desplegables!$A$26:$C$38,3,0),\"\")","v":""},{"$f":"IF(C490<>\"\",VLOOKUP(C490,Desplegables!$A$3:$C$12,3,0),\"\")","v":""},{"$f":"IF(D490<>\"\",VLOOKUP(D490,Desplegables!$A$12:$B$38,2,0),\"\")","v":""}]
[{"$f":"IF(A490<>\"\",A490,\"\")","v":""},{"$f":"IF(B490<>\"\",B490,\"\")","v":""},{"$f":"IF(C490<>\"\",C490,\"\")","v":""},{"$f":"IF(D490<>\"\",D490,\"\")","v":""},null,null,null,{"$f":"IF(AND(F491<>\"\",G491<>\"\"),VLOOKUP(F491,Desplegables!$E$2:$F$275,2,0)&G491,\"\")","v":""},null,null,null,null,null,null,null,{"$f":"IF(C491<>\"\",VLOOKUP(C491,Desplegables!$A$3:$B$12,2,0),\"\")","v":""},{"$f":"IF(D491<>\"\",VLOOKUP(D491,Desplegables!$A$26:$C$38,3,0),\"\")","v":""},{"$f":"IF(C491<>\"\",VLOOKUP(C491,Desplegables!$A$3:$C$12,3,0),\"\")","v":""},{"$f":"IF(D491<>\"\",VLOOKUP(D491,Desplegables!$A$12:$B$38,2,0),\"\")","v":""}]
[{"$f":"IF(A490<>\"\",A490,\"\")","v":""},{"$f":"IF(B490<>\"\",B490,\"\")","v":""},{"$f":"IF(C490<>\"\",C490,\"\")","v":""},{"$f":"IF(D490<>\"\",D490,\"\")","v":""},null,null,null,{"$f":"IF(AND(F492<>\"\",G492<>\"\"),VLOOKUP(F492,Desplegables!$E$2:$F$275,2,0)&G492,\"\")","v":""},null,null,null,null,null,null,null,{"$f":"IF(C492<>\"\",VLOOKUP(C492,Desplegables!$A$3:$B$12,2,0),\"\")","v":""},{"$f":"IF(D492<>\"\",VLOOKUP(D492,Desplegables!$A$26:$C$38,3,0),\"\")","v":""},{"$f":"IF(C492<>\"\",VLOOKUP(C492,Desplegables!$A$3:$C$12,3,0),\"\")","v":""},{"$f":"IF(D492<>\"\",VLOOKUP(D492,Desplegables!$A$12:$B$38,2,0),\"\")","v":""}]
[null,null,null,null,null,null,null,{"$f":"IF(AND(F493<>\"\",G493<>\"\"),VLOOKUP(F493,Desplegables!$E$2:$F$275,2,0)&G493,\"\")","v":""},null,null,null,null,null,null,null,{"$f":"IF(C493<>\"\",VLOOKUP(C493,Desplegables!$A$3:$B$12,2,0),\"\")","v":""},{"$f":"IF(D493<>\"\",VLOOKUP(D493,Desplegables!$A$26:$C$38,3,0),\"\")","v":""},{"$f":"IF(C493<>\"\",VLOOKUP(C493,Desplegables!$A$3:$C$12,3,0),\"\")","v":""},{"$f":"IF(D493<>\"\",VLOOKUP(D493,Desplegables!$A$12:$B$38,2,0),\"\")","v":""}]
[{"$f":"IF(A493<>\"\",A493,\"\")","v":""},{"$f":"IF(B493<>\"\",B493,\"\")","v":""},{"$f":"IF(C493<>\"\",C493,\"\")","v":""},{"$f":"IF(D493<>\"\",D493,\"\")","v":""},null,null,null,{"$f":"IF(AND(F494<>\"\",G494<>\"\"),VLOOKUP(F494,Desplegables!$E$2:$F$275,2,0)&G494,\"\")","v":""},null,null,null,null,null,null,null,{"$f":"IF(C494<>\"\",VLOOKUP(C494,Desplegables!$A$3:$B$12,2,0),\"\")","v":""},{"$f":"IF(D494<>\"\",VLOOKUP(D494,Desplegables!$A$26:$C$38,3,0),\"\")","v":""},{"$f":"IF(C494<>\"\",VLOOKUP(C494,Desplegables!$A$3:$C$12,3,0),\"\")","v":""},{"$f":"IF(D494<>\"\",VLOOKUP(D494,Desplegables!$A$12:$B$38,2,0),\"\")","v":""}]
[{"$f":"IF(A493<>\"\",A493,\"\")","v":""},{"$f":"IF(B493<>\"\",B493,\"\")","v":""},{"$f":"IF(C493<>\"\",C493,\"\")","v":""},{"$f":"IF(D493<>\"\",D493,\"\")","v":""},null,null,null,{"$f":"IF(AND(F495<>\"\",G495<>\"\"),VLOOKUP(F495,Desplegables!$E$2:$F$275,2,0)&G495,\"\")","v":""},null,null,null,null,null,null,null,{"$f":"IF(C495<>\"\",VLOOKUP(C495,Desplegables!$A$3:$B$12,2,0),\"\")","v":""},{"$f":"IF(D495<>\"\",VLOOKUP(D495,Desplegables!$A$26:$C$38,3,0),\"\")","v":""},{"$f":"IF(C495<>\"\",VLOOKUP(C495,Desplegables!$A$3:$C$12,3,0),\"\")","v":""},{"$f":"IF(D495<>\"\",VLOOKUP(D495,Desplegables!$A$12:$B$38,2,0),\"\")","v":""}]
[null,null,null,null,null,null,null,{"$f":"IF(AND(F496<>\"\",G496<>\"\"),VLOOKUP(F496,Desplegables!$E$2:$F$275,2,0)&G496,\"\")","v":""},null,null,null,null,null,null,null,{"$f":"IF(C496<>\"\",VLOOKUP(C496,Desplegables!$A$3:$B$12,2,0),\"\")","v":""},{"$f":"IF(D496<>\"\",VLOOKUP(D496,Desplegables!$A$26:$C$38,3,0),\"\")","v":""},{"$f":"IF(C496<>\"\",VLOOKUP(C496,Desplegables!$A$3:$C$12,3,0),\"\")","v":""},{"$f":"IF(D496<>\"\",VLOOKUP(D496,Desplegables!$A$12:$B$38,2,0),\"\")","v":""}]
[{"$f":"IF(A496<>\"\",A496,\"\")","v":""},{"$f":"IF(B496<>\"\",B496,\"\")","v":""},{"$f":"IF(C496<>\"\",C496,\"\")","v":""},{"$f":"IF(D496<>\"\",D496,\"\")","v":""},null,null,null,{"$f":"IF(AND(F497<>\"\",G497<>\"\"),VLOOKUP(F497,Desplegables!$E$2:$F$275,2,0)&G497,\"\")","v":""},null,null,null,null,null,null,null,{"$f":"IF(C497<>\"\",VLOOKUP(C497,Desplegables!$A$3:$B$12,2,0),\"\")","v":""},{"$f":"IF(D497<>\"\",VLOOKUP(D497,Desplegables!$A$26:$C$38,3,0),\"\")","v":""},{"$f":"IF(C497<>\"\",VLOOKUP(C497,Desplegables!$A$3:$C$12,3,0),\"\")","v":""},{"$f":"IF(D497<>\"\",VLOOKUP(D497,Desplegables!$A$12:$B$38,2,0),\"\")","v":""}]
[{"$f":"IF(A496<>\"\",A496,\"\")","v":""},{"$f":"IF(B496<>\"\",B496,\"\")","v":""},{"$f":"IF(C496<>\"\",C496,\"\")","v":""},{"$f":"IF(D496<>\"\",D496,\"\")","v":""},null,null,null,{"$f":"IF(AND(F498<>\"\",G498<>\"\"),VLOOKUP(F498,Desplegables!$E$2:$F$275,2,0)&G498,\"\")","v":""},null,null,null,null,null,null,null,{"$f":"IF(C498<>\"\",VLOOKUP(C498,Desplegables!$A$3:$B$12,2,0),\"\")","v":""},{"$f":"IF(D498<>\"\",VLOOKUP(D498,Desplegables!$A$26:$C$38,3,0),\"\")","v":""},{"$f":"IF(C498<>\"\",VLOOKUP(C498,Desplegables!$A$3:$C$12,3,0),\"\")","v":""},{"$f":"IF(D498<>\"\",VLOOKUP(D498,Desplegables!$A$12:$B$38,2,0),\"\")","v":""}]
[null,null,null,null,null,null,null,{"$f":"IF(AND(F499<>\"\",G499<>\"\"),VLOOKUP(F499,Desplegables!$E$2:$F$275,2,0)&G499,\"\")","v":""},null,null,null,null,null,null,null,{"$f":"IF(C499<>\"\",VLOOKUP(C499,Desplegables!$A$3:$B$12,2,0),\"\")","v":""},{"$f":"IF(D499<>\"\",VLOOKUP(D499,Desplegables!$A$26:$C$38,3,0),\"\")","v":""},{"$f":"IF(C499<>\"\",VLOOKUP(C499,Desplegables!$A$3:$C$12,3,0),\"\")","v":""},{"$f":"IF(D499<>\"\",VLOOKUP(D499,Desplegables!$A$12:$B$38,2,0),\"\")","v":""}]
[{"$f":"IF(A499<>\"\",A499,\"\")","v":""},{"$f":"IF(B499<>\"\",B499,\"\")","v":""},{"$f":"IF(C499<>\"\",C499,\"\")","v":""},{"$f":"IF(D499<>\"\",D499,\"\")","v":""},null,null,null,{"$f":"IF(AND(F500<>\"\",G500<>\"\"),VLOOKUP(F500,Desplegables!$E$2:$F$275,2,0)&G500,\"\")","v":""},null,null,null,null,null,null,null,{"$f":"IF(C500<>\"\",VLOOKUP(C500,Desplegables!$A$3:$B$12,2,0),\"\")","v":""},{"$f":"IF(D500<>\"\",VLOOKUP(D500,Desplegables!$A$26:$C$38,3,0),\"\")","v":""},{"$f":"IF(C500<>\"\",VLOOKUP(C500,Desplegables!$A$3:$C$12,3,0),\"\")","v":""},{"$f":"IF(D500<>\"\",VLOOKUP(D500,Desplegables!$A$12:$B$38,2,0),\"\")","v":""}]
[{"$f":"IF(A499<>\"\",A499,\"\")","v":""},{"$f":"IF(B499<>\"\",B499,\"\")","v":""},{"$f":"IF(C499<>\"\",C499,\"\")","v":""},{"$f":"IF(D499<>\"\",D499,\"\")","v":""},null,null,null,{"$f":"IF(AND(F501<>\"\",G501<>\"\"),VLOOKUP(F501,Desplegables!$E$2:$F$275,2,0)&G501,\"\")","v":""},null,null,null,null,null,null,null,{"$f":"IF(C501<>\"\",VLOOKUP(C501,Desplegables!$A$3:$B$12,2,0),\"\")","v":""},{"$f":"IF(D501<>\"\",VLOOKUP(D501,Desplegables!$A$26:$C$38,3,0),\"\")","v":""},{"$f":"IF(C501<>\"\",VLOOKUP(C501,Desplegables!$A$3:$C$12,3,0),\"\")","v":""},{"$f":"IF(D501<>\"\",VLOOKUP(D501,Desplegables!$A$12:$B$38,2,0),\"\")","v":""}]
[null,null,null,null,null,null,null,{"$f":"IF(AND(F502<>\"\",G502<>\"\"),VLOOKUP(F502,Desplegables!$E$2:$F$275,2,0)&G502,\"\")","v":""},null,null,null,null,null,null,null,{"$f":"IF(C502<>\"\",VLOOKUP(C502,Desplegables!$A$3:$B$12,2,0),\"\")","v":""},{"$f":"IF(D502<>\"\",VLOOKUP(D502,Desplegables!$A$26:$C$38,3,0),\"\")","v":""},{"$f":"IF(C502<>\"\",VLOOKUP(C502,Desplegables!$A$3:$C$12,3,0),\"\")","v":""},{"$f":"IF(D502<>\"\",VLOOKUP(D502,Desplegables!$A$12:$B$38,2,0),\"\")","v":""}]
[{"$f":"IF(A502<>\"\",A502,\"\")","v":""},{"$f":"IF(B502<>\"\",B502,\"\")","v":""},{"$f":"IF(C502<>\"\",C502,\"\")","v":""},{"$f":"IF(D502<>\"\",D502,\"\")","v":""},null,null,null,{"$f":"IF(AND(F503<>\"\",G503<>\"\"),VLOOKUP(F503,Desplegables!$E$2:$F$275,2,0)&G503,\"\")","v":""},null,null,null,null,null,null,null,{"$f":"IF(C503<>\"\",VLOOKUP(C503,Desplegables!$A$3:$B$12,2,0),\"\")","v":""},{"$f":"IF(D503<>\"\",VLOOKUP(D503,Desplegables!$A$26:$C$38,3,0),\"\")","v":""},{"$f":"IF(C503<>\"\",VLOOKUP(C503,Desplegables!$A$3:$C$12,3,0),\"\")","v":""},{"$f":"IF(D503<>\"\",VLOOKUP(D503,Desplegables!$A$12:$B$38,2,0),\"\")","v":""}]
[{"$f":"IF(A502<>\"\",A502,\"\")","v":""},{"$f":"IF(B502<>\"\",B502,\"\")","v":""},{"$f":"IF(C502<>\"\",C502,\"\")","v":""},{"$f":"IF(D502<>\"\",D502,\"\")","v":""},null,null,null,{"$f":"IF(AND(F504<>\"\",G504<>\"\"),VLOOKUP(F504,Desplegables!$E$2:$F$275,2,0)&G504,\"\")","v":""},null,null,null,null,null,null,null,{"$f":"IF(C504<>\"\",VLOOKUP(C504,Desplegables!$A$3:$B$12,2,0),\"\")","v":""},{"$f":"IF(D504<>\"\",VLOOKUP(D504,Desplegables!$A$26:$C$38,3,0),\"\")","v":""},{"$f":"IF(C504<>\"\",VLOOKUP(C504,Desplegables!$A$3:$C$12,3,0),\"\")","v":""},{"$f":"IF(D504<>\"\",VLOOKUP(D504,Desplegables!$A$12:$B$38,2,0),\"\")","v":""}]
[null,null,null,null,null,null,null,{"$f":"IF(AND(F505<>\"\",G505<>\"\"),VLOOKUP(F505,Desplegables!$E$2:$F$275,2,0)&G505,\"\")","v":""},null,null,null,null,null,null,null,{"$f":"IF(C505<>\"\",VLOOKUP(C505,Desplegables!$A$3:$B$12,2,0),\"\")","v":""},{"$f":"IF(D505<>\"\",VLOOKUP(D505,Desplegables!$A$26:$C$38,3,0),\"\")","v":""},{"$f":"IF(C505<>\"\",VLOOKUP(C505,Desplegables!$A$3:$C$12,3,0),\"\")","v":""},{"$f":"IF(D505<>\"\",VLOOKUP(D505,Desplegables!$A$12:$B$38,2,0),\"\")","v":""}]
[{"$f":"IF(A505<>\"\",A505,\"\")","v":""},{"$f":"IF(B505<>\"\",B505,\"\")","v":""},{"$f":"IF(C505<>\"\",C505,\"\")","v":""},{"$f":"IF(D505<>\"\",D505,\"\")","v":""},null,null,null,{"$f":"IF(AND(F506<>\"\",G506<>\"\"),VLOOKUP(F506,Desplegables!$E$2:$F$275,2,0)&G506,\"\")","v":""},null,null,null,null,null,null,null,{"$f":"IF(C506<>\"\",VLOOKUP(C506,Desplegables!$A$3:$B$12,2,0),\"\")","v":""},{"$f":"IF(D506<>\"\",VLOOKUP(D506,Desplegables!$A$26:$C$38,3,0),\"\")","v":""},{"$f":"IF(C506<>\"\",VLOOKUP(C506,Desplegables!$A$3:$C$12,3,0),\"\")","v":""},{"$f":"IF(D506<>\"\",VLOOKUP(D506,Desplegables!$A$12:$B$38,2,0),\"\")","v":""}]
[{"$f":"IF(A505<>\"\",A505,\"\")","v":""},{"$f":"IF(B505<>\"\",B505,\"\")","v":""},{"$f":"IF(C505<>\"\",C505,\"\")","v":""},{"$f":"IF(D505<>\"\",D505,\"\")","v":""},null,null,null,{"$f":"IF(AND(F507<>\"\",G507<>\"\"),VLOOKUP(F507,Desplegables!$E$2:$F$275,2,0)&G507,\"\")","v":""},null,null,null,null,null,null,null,{"$f":"IF(C507<>\"\",VLOOKUP(C507,Desplegables!$A$3:$B$12,2,0),\"\")","v":""},{"$f":"IF(D507<>\"\",VLOOKUP(D507,Desplegables!$A$26:$C$38,3,0),\"\")","v":""},{"$f":"IF(C507<>\"\",VLOOKUP(C507,Desplegables!$A$3:$C$12,3,0),\"\")","v":""},{"$f":"IF(D507<>\"\",VLOOKUP(D507,Desplegables!$A$12:$B$38,2,0),\"\")","v":""}]
[null,null,null,null,null,null,null,{"$f":"IF(AND(F508<>\"\",G508<>\"\"),VLOOKUP(F508,Desplegables!$E$2:$F$275,2,0)&G508,\"\")","v":""},null,null,null,null,null,null,null,{"$f":"IF(C508<>\"\",VLOOKUP(C508,Desplegables!$A$3:$B$12,2,0),\"\")","v":""},{"$f":"IF(D508<>\"\",VLOOKUP(D508,Desplegables!$A$26:$C$38,3,0),\"\")","v":""},{"$f":"IF(C508<>\"\",VLOOKUP(C508,Desplegables!$A$3:$C$12,3,0),\"\")","v":""},{"$f":"IF(D508<>\"\",VLOOKUP(D508,Desplegables!$A$12:$B$38,2,0),\"\")","v":""}]
[{"$f":"IF(A508<>\"\",A508,\"\")","v":""},{"$f":"IF(B508<>\"\",B508,\"\")","v":""},{"$f":"IF(C508<>\"\",C508,\"\")","v":""},{"$f":"IF(D508<>\"\",D508,\"\")","v":""},null,null,null,{"$f":"IF(AND(F509<>\"\",G509<>\"\"),VLOOKUP(F509,Desplegables!$E$2:$F$275,2,0)&G509,\"\")","v":""},null,null,null,null,null,null,null,{"$f":"IF(C509<>\"\",VLOOKUP(C509,Desplegables!$A$3:$B$12,2,0),\"\")","v":""},{"$f":"IF(D509<>\"\",VLOOKUP(D509,Desplegables!$A$26:$C$38,3,0),\"\")","v":""},{"$f":"IF(C509<>\"\",VLOOKUP(C509,Desplegables!$A$3:$C$12,3,0),\"\")","v":""},{"$f":"IF(D509<>\"\",VLOOKUP(D509,Desplegables!$A$12:$B$38,2,0),\"\")","v":""}]
[{"$f":"IF(A508<>\"\",A508,\"\")","v":""},{"$f":"IF(B508<>\"\",B508,\"\")","v":""},{"$f":"IF(C508<>\"\",C508,\"\")","v":""},{"$f":"IF(D508<>\"\",D508,\"\")","v":""},null,null,null,{"$f":"IF(AND(F510<>\"\",G510<>\"\"),VLOOKUP(F510,Desplegables!$E$2:$F$275,2,0)&G510,\"\")","v":""},null,null,null,null,null,null,null,{"$f":"IF(C510<>\"\",VLOOKUP(C510,Desplegables!$A$3:$B$12,2,0),\"\")","v":""},{"$f":"IF(D510<>\"\",VLOOKUP(D510,Desplegables!$A$26:$C$38,3,0),\"\")","v":""},{"$f":"IF(C510<>\"\",VLOOKUP(C510,Desplegables!$A$3:$C$12,3,0),\"\")","v":""},{"$f":"IF(D510<>\"\",VLOOKUP(D510,Desplegables!$A$12:$B$38,2,0),\"\")","v":""}]
[null,null,null,null,null,null,null,{"$f":"IF(AND(F511<>\"\",G511<>\"\"),VLOOKUP(F511,Desplegables!$E$2:$F$275,2,0)&G511,\"\")","v":""},null,null,null,null,null,null,null,{"$f":"IF(C511<>\"\",VLOOKUP(C511,Desplegables!$A$3:$B$12,2,0),\"\")","v":""},{"$f":"IF(D511<>\"\",VLOOKUP(D511,Desplegables!$A$26:$C$38,3,0),\"\")","v":""},{"$f":"IF(C511<>\"\",VLOOKUP(C511,Desplegables!$A$3:$C$12,3,0),\"\")","v":""},{"$f":"IF(D511<>\"\",VLOOKUP(D511,Desplegables!$A$12:$B$38,2,0),\"\")","v":""}]
[{"$f":"IF(A511<>\"\",A511,\"\")","v":""},{"$f":"IF(B511<>\"\",B511,\"\")","v":""},{"$f":"IF(C511<>\"\",C511,\"\")","v":""},{"$f":"IF(D511<>\"\",D511,\"\")","v":""},null,null,null,{"$f":"IF(AND(F512<>\"\",G512<>\"\"),VLOOKUP(F512,Desplegables!$E$2:$F$275,2,0)&G512,\"\")","v":""},null,null,null,null,null,null,null,{"$f":"IF(C512<>\"\",VLOOKUP(C512,Desplegables!$A$3:$B$12,2,0),\"\")","v":""},{"$f":"IF(D512<>\"\",VLOOKUP(D512,Desplegables!$A$26:$C$38,3,0),\"\")","v":""},{"$f":"IF(C512<>\"\",VLOOKUP(C512,Desplegables!$A$3:$C$12,3,0),\"\")","v":""},{"$f":"IF(D512<>\"\",VLOOKUP(D512,Desplegables!$A$12:$B$38,2,0),\"\")","v":""}]
[{"$f":"IF(A511<>\"\",A511,\"\")","v":""},{"$f":"IF(B511<>\"\",B511,\"\")","v":""},{"$f":"IF(C511<>\"\",C511,\"\")","v":""},{"$f":"IF(D511<>\"\",D511,\"\")","v":""},null,null,null,{"$f":"IF(AND(F513<>\"\",G513<>\"\"),VLOOKUP(F513,Desplegables!$E$2:$F$275,2,0)&G513,\"\")","v":""},null,null,null,null,null,null,null,{"$f":"IF(C513<>\"\",VLOOKUP(C513,Desplegables!$A$3:$B$12,2,0),\"\")","v":""},{"$f":"IF(D513<>\"\",VLOOKUP(D513,Desplegables!$A$26:$C$38,3,0),\"\")","v":""},{"$f":"IF(C513<>\"\",VLOOKUP(C513,Desplegables!$A$3:$C$12,3,0),\"\")","v":""},{"$f":"IF(D513<>\"\",VLOOKUP(D513,Desplegables!$A$12:$B$38,2,0),\"\")","v":""}]
[null,null,null,null,null,null,null,{"$f":"IF(AND(F514<>\"\",G514<>\"\"),VLOOKUP(F514,Desplegables!$E$2:$F$275,2,0)&G514,\"\")","v":""},null,null,null,null,null,null,null,{"$f":"IF(C514<>\"\",VLOOKUP(C514,Desplegables!$A$3:$B$12,2,0),\"\")","v":""},{"$f":"IF(D514<>\"\",VLOOKUP(D514,Desplegables!$A$26:$C$38,3,0),\"\")","v":""},{"$f":"IF(C514<>\"\",VLOOKUP(C514,Desplegables!$A$3:$C$12,3,0),\"\")","v":""},{"$f":"IF(D514<>\"\",VLOOKUP(D514,Desplegables!$A$12:$B$38,2,0),\"\")","v":""}]
[{"$f":"IF(A514<>\"\",A514,\"\")","v":""},{"$f":"IF(B514<>\"\",B514,\"\")","v":""},{"$f":"IF(C514<>\"\",C514,\"\")","v":""},{"$f":"IF(D514<>\"\",D514,\"\")","v":""},null,null,null,{"$f":"IF(AND(F515<>\"\",G515<>\"\"),VLOOKUP(F515,Desplegables!$E$2:$F$275,2,0)&G515,\"\")","v":""},null,null,null,null,null,null,null,{"$f":"IF(C515<>\"\",VLOOKUP(C515,Desplegables!$A$3:$B$12,2,0),\"\")","v":""},{"$f":"IF(D515<>\"\",VLOOKUP(D515,Desplegables!$A$26:$C$38,3,0),\"\")","v":""},{"$f":"IF(C515<>\"\",VLOOKUP(C515,Desplegables!$A$3:$C$12,3,0),\"\")","v":""},{"$f":"IF(D515<>\"\",VLOOKUP(D515,Desplegables!$A$12:$B$38,2,0),\"\")","v":""}]
[{"$f":"IF(A514<>\"\",A514,\"\")","v":""},{"$f":"IF(B514<>\"\",B514,\"\")","v":""},{"$f":"IF(C514<>\"\",C514,\"\")","v":""},{"$f":"IF(D514<>\"\",D514,\"\")","v":""},null,null,null,{"$f":"IF(AND(F516<>\"\",G516<>\"\"),VLOOKUP(F516,Desplegables!$E$2:$F$275,2,0)&G516,\"\")","v":""},null,null,null,null,null,null,null,{"$f":"IF(C516<>\"\",VLOOKUP(C516,Desplegables!$A$3:$B$12,2,0),\"\")","v":""},{"$f":"IF(D516<>\"\",VLOOKUP(D516,Desplegables!$A$26:$C$38,3,0),\"\")","v":""},{"$f":"IF(C516<>\"\",VLOOKUP(C516,Desplegables!$A$3:$C$12,3,0),\"\")","v":""},{"$f":"IF(D516<>\"\",VLOOKUP(D516,Desplegables!$A$12:$B$38,2,0),\"\")","v":""}]
[null,null,null,null,null,null,null,{"$f":"IF(AND(F517<>\"\",G517<>\"\"),VLOOKUP(F517,Desplegables!$E$2:$F$275,2,0)&G517,\"\")","v":""},null,null,null,null,null,null,null,{"$f":"IF(C517<>\"\",VLOOKUP(C517,Desplegables!$A$3:$B$12,2,0),\"\")","v":""},{"$f":"IF(D517<>\"\",VLOOKUP(D517,Desplegables!$A$26:$C$38,3,0),\"\")","v":""},{"$f":"IF(C517<>\"\",VLOOKUP(C517,Desplegables!$A$3:$C$12,3,0),\"\")","v":""},{"$f":"IF(D517<>\"\",VLOOKUP(D517,Desplegables!$A$12:$B$38,2,0),\"\")","v":""}]
[{"$f":"IF(A517<>\"\",A517,\"\")","v":""},{"$f":"IF(B517<>\"\",B517,\"\")","v":""},{"$f":"IF(C517<>\"\",C517,\"\")","v":""},{"$f":"IF(D517<>\"\",D517,\"\")","v":""},null,null,null,{"$f":"IF(AND(F518<>\"\",G518<>\"\"),VLOOKUP(F518,Desplegables!$E$2:$F$275,2,0)&G518,\"\")","v":""},null,null,null,null,null,null,null,{"$f":"IF(C518<>\"\",VLOOKUP(C518,Desplegables!$A$3:$B$12,2,0),\"\")","v":""},{"$f":"IF(D518<>\"\",VLOOKUP(D518,Desplegables!$A$26:$C$38,3,0),\"\")","v":""},{"$f":"IF(C518<>\"\",VLOOKUP(C518,Desplegables!$A$3:$C$12,3,0),\"\")","v":""},{"$f":"IF(D518<>\"\",VLOOKUP(D518,Desplegables!$A$12:$B$38,2,0),\"\")","v":""}]
[{"$f":"IF(A517<>\"\",A517,\"\")","v":""},{"$f":"IF(B517<>\"\",B517,\"\")","v":""},{"$f":"IF(C517<>\"\",C517,\"\")","v":""},{"$f":"IF(D517<>\"\",D517,\"\")","v":""},null,null,null,{"$f":"IF(AND(F519<>\"\",G519<>\"\"),VLOOKUP(F519,Desplegables!$E$2:$F$275,2,0)&G519,\"\")","v":""},null,null,null,null,null,null,null,{"$f":"IF(C519<>\"\",VLOOKUP(C519,Desplegables!$A$3:$B$12,2,0),\"\")","v":""},{"$f":"IF(D519<>\"\",VLOOKUP(D519,Desplegables!$A$26:$C$38,3,0),\"\")","v":""},{"$f":"IF(C519<>\"\",VLOOKUP(C519,Desplegables!$A$3:$C$12,3,0),\"\")","v":""},{"$f":"IF(D519<>\"\",VLOOKUP(D519,Desplegables!$A$12:$B$38,2,0),\"\")","v":""}]
[null,null,null,null,null,null,null,{"$f":"IF(AND(F520<>\"\",G520<>\"\"),VLOOKUP(F520,Desplegables!$E$2:$F$275,2,0)&G520,\"\")","v":""},null,null,null,null,null,null,null,{"$f":"IF(C520<>\"\",VLOOKUP(C520,Desplegables!$A$3:$B$12,2,0),\"\")","v":""},{"$f":"IF(D520<>\"\",VLOOKUP(D520,Desplegables!$A$26:$C$38,3,0),\"\")","v":""},{"$f":"IF(C520<>\"\",VLOOKUP(C520,Desplegables!$A$3:$C$12,3,0),\"\")","v":""},{"$f":"IF(D520<>\"\",VLOOKUP(D520,Desplegables!$A$12:$B$38,2,0),\"\")","v":""}]
[{"$f":"IF(A520<>\"\",A520,\"\")","v":""},{"$f":"IF(B520<>\"\",B520,\"\")","v":""},{"$f":"IF(C520<>\"\",C520,\"\")","v":""},{"$f":"IF(D520<>\"\",D520,\"\")","v":""},null,null,null,{"$f":"IF(AND(F521<>\"\",G521<>\"\"),VLOOKUP(F521,Desplegables!$E$2:$F$275,2,0)&G521,\"\")","v":""},null,null,null,null,null,null,null,{"$f":"IF(C521<>\"\",VLOOKUP(C521,Desplegables!$A$3:$B$12,2,0),\"\")","v":""},{"$f":"IF(D521<>\"\",VLOOKUP(D521,Desplegables!$A$26:$C$38,3,0),\"\")","v":""},{"$f":"IF(C521<>\"\",VLOOKUP(C521,Desplegables!$A$3:$C$12,3,0),\"\")","v":""},{"$f":"IF(D521<>\"\",VLOOKUP(D521,Desplegables!$A$12:$B$38,2,0),\"\")","v":""}]
[{"$f":"IF(A520<>\"\",A520,\"\")","v":""},{"$f":"IF(B520<>\"\",B520,\"\")","v":""},{"$f":"IF(C520<>\"\",C520,\"\")","v":""},{"$f":"IF(D520<>\"\",D520,\"\")","v":""},null,null,null,{"$f":"IF(AND(F522<>\"\",G522<>\"\"),VLOOKUP(F522,Desplegables!$E$2:$F$275,2,0)&G522,\"\")","v":""},null,null,null,null,null,null,null,{"$f":"IF(C522<>\"\",VLOOKUP(C522,Desplegables!$A$3:$B$12,2,0),\"\")","v":""},{"$f":"IF(D522<>\"\",VLOOKUP(D522,Desplegables!$A$26:$C$38,3,0),\"\")","v":""},{"$f":"IF(C522<>\"\",VLOOKUP(C522,Desplegables!$A$3:$C$12,3,0),\"\")","v":""},{"$f":"IF(D522<>\"\",VLOOKUP(D522,Desplegables!$A$12:$B$38,2,0),\"\")","v":""}]
[null,null,null,null,null,null,null,{"$f":"IF(AND(F523<>\"\",G523<>\"\"),VLOOKUP(F523,Desplegables!$E$2:$F$275,2,0)&G523,\"\")","v":""},null,null,null,null,null,null,null,{"$f":"IF(C523<>\"\",VLOOKUP(C523,Desplegables!$A$3:$B$12,2,0),\"\")","v":""},{"$f":"IF(D523<>\"\",VLOOKUP(D523,Desplegables!$A$26:$C$38,3,0),\"\")","v":""},{"$f":"IF(C523<>\"\",VLOOKUP(C523,Desplegables!$A$3:$C$12,3,0),\"\")","v":""},{"$f":"IF(D523<>\"\",VLOOKUP(D523,Desplegables!$A$12:$B$38,2,0),\"\")","v":""}]
[{"$f":"IF(A523<>\"\",A523,\"\")","v":""},{"$f":"IF(B523<>\"\",B523,\"\")","v":""},{"$f":"IF(C523<>\"\",C523,\"\")","v":""},{"$f":"IF(D523<>\"\",D523,\"\")","v":""},null,null,null,{"$f":"IF(AND(F524<>\"\",G524<>\"\"),VLOOKUP(F524,Desplegables!$E$2:$F$275,2,0)&G524,\"\")","v":""},null,null,null,null,null,null,null,{"$f":"IF(C524<>\"\",VLOOKUP(C524,Desplegables!$A$3:$B$12,2,0),\"\")","v":""},{"$f":"IF(D524<>\"\",VLOOKUP(D524,Desplegables!$A$26:$C$38,3,0),\"\")","v":""},{"$f":"IF(C524<>\"\",VLOOKUP(C524,Desplegables!$A$3:$C$12,3,0),\"\")","v":""},{"$f":"IF(D524<>\"\",VLOOKUP(D524,Desplegables!$A$12:$B$38,2,0),\"\")","v":""}]
[{"$f":"IF(A523<>\"\",A523,\"\")","v":""},{"$f":"IF(B523<>\"\",B523,\"\")","v":""},{"$f":"IF(C523<>\"\",C523,\"\")","v":""},{"$f":"IF(D523<>\"\",D523,\"\")","v":""},null,null,null,{"$f":"IF(AND(F525<>\"\",G525<>\"\"),VLOOKUP(F525,Desplegables!$E$2:$F$275,2,0)&G525,\"\")","v":""},null,null,null,null,null,null,null,{"$f":"IF(C525<>\"\",VLOOKUP(C525,Desplegables!$A$3:$B$12,2,0),\"\")","v":""},{"$f":"IF(D525<>\"\",VLOOKUP(D525,Desplegables!$A$26:$C$38,3,0),\"\")","v":""},{"$f":"IF(C525<>\"\",VLOOKUP(C525,Desplegables!$A$3:$C$12,3,0),\"\")","v":""},{"$f":"IF(D525<>\"\",VLOOKUP(D525,Desplegables!$A$12:$B$38,2,0),\"\")","v":""}]
[null,null,null,null,null,null,null,{"$f":"IF(AND(F526<>\"\",G526<>\"\"),VLOOKUP(F526,Desplegables!$E$2:$F$275,2,0)&G526,\"\")","v":""},null,null,null,null,null,null,null,{"$f":"IF(C526<>\"\",VLOOKUP(C526,Desplegables!$A$3:$B$12,2,0),\"\")","v":""},{"$f":"IF(D526<>\"\",VLOOKUP(D526,Desplegables!$A$26:$C$38,3,0),\"\")","v":""},{"$f":"IF(C526<>\"\",VLOOKUP(C526,Desplegables!$A$3:$C$12,3,0),\"\")","v":""},{"$f":"IF(D526<>\"\",VLOOKUP(D526,Desplegables!$A$12:$B$38,2,0),\"\")","v":""}]
[{"$f":"IF(A526<>\"\",A526,\"\")","v":""},{"$f":"IF(B526<>\"\",B526,\"\")","v":""},{"$f":"IF(C526<>\"\",C526,\"\")","v":""},{"$f":"IF(D526<>\"\",D526,\"\")","v":""},null,null,null,{"$f":"IF(AND(F527<>\"\",G527<>\"\"),VLOOKUP(F527,Desplegables!$E$2:$F$275,2,0)&G527,\"\")","v":""},null,null,null,null,null,null,null,{"$f":"IF(C527<>\"\",VLOOKUP(C527,Desplegables!$A$3:$B$12,2,0),\"\")","v":""},{"$f":"IF(D527<>\"\",VLOOKUP(D527,Desplegables!$A$26:$C$38,3,0),\"\")","v":""},{"$f":"IF(C527<>\"\",VLOOKUP(C527,Desplegables!$A$3:$C$12,3,0),\"\")","v":""},{"$f":"IF(D527<>\"\",VLOOKUP(D527,Desplegables!$A$12:$B$38,2,0),\"\")","v":""}]
[{"$f":"IF(A526<>\"\",A526,\"\")","v":""},{"$f":"IF(B526<>\"\",B526,\"\")","v":""},{"$f":"IF(C526<>\"\",C526,\"\")","v":""},{"$f":"IF(D526<>\"\",D526,\"\")","v":""},null,null,null,{"$f":"IF(AND(F528<>\"\",G528<>\"\"),VLOOKUP(F528,Desplegables!$E$2:$F$275,2,0)&G528,\"\")","v":""},null,null,null,null,null,null,null,{"$f":"IF(C528<>\"\",VLOOKUP(C528,Desplegables!$A$3:$B$12,2,0),\"\")","v":""},{"$f":"IF(D528<>\"\",VLOOKUP(D528,Desplegables!$A$26:$C$38,3,0),\"\")","v":""},{"$f":"IF(C528<>\"\",VLOOKUP(C528,Desplegables!$A$3:$C$12,3,0),\"\")","v":""},{"$f":"IF(D528<>\"\",VLOOKUP(D528,Desplegables!$A$12:$B$38,2,0),\"\")","v":""}]
[null,null,null,null,null,null,null,{"$f":"IF(AND(F529<>\"\",G529<>\"\"),VLOOKUP(F529,Desplegables!$E$2:$F$275,2,0)&G529,\"\")","v":""},null,null,null,null,null,null,null,{"$f":"IF(C529<>\"\",VLOOKUP(C529,Desplegables!$A$3:$B$12,2,0),\"\")","v":""},{"$f":"IF(D529<>\"\",VLOOKUP(D529,Desplegables!$A$26:$C$38,3,0),\"\")","v":""},{"$f":"IF(C529<>\"\",VLOOKUP(C529,Desplegables!$A$3:$C$12,3,0),\"\")","v":""},{"$f":"IF(D529<>\"\",VLOOKUP(D529,Desplegables!$A$12:$B$38,2,0),\"\")","v":""}]
[{"$f":"IF(A529<>\"\",A529,\"\")","v":""},{"$f":"IF(B529<>\"\",B529,\"\")","v":""},{"$f":"IF(C529<>\"\",C529,\"\")","v":""},{"$f":"IF(D529<>\"\",D529,\"\")","v":""},null,null,null,{"$f":"IF(AND(F530<>\"\",G530<>\"\"),VLOOKUP(F530,Desplegables!$E$2:$F$275,2,0)&G530,\"\")","v":""},null,null,null,null,null,null,null,{"$f":"IF(C530<>\"\",VLOOKUP(C530,Desplegables!$A$3:$B$12,2,0),\"\")","v":""},{"$f":"IF(D530<>\"\",VLOOKUP(D530,Desplegables!$A$26:$C$38,3,0),\"\")","v":""},{"$f":"IF(C530<>\"\",VLOOKUP(C530,Desplegables!$A$3:$C$12,3,0),\"\")","v":""},{"$f":"IF(D530<>\"\",VLOOKUP(D530,Desplegables!$A$12:$B$38,2,0),\"\")","v":""}]
[{"$f":"IF(A529<>\"\",A529,\"\")","v":""},{"$f":"IF(B529<>\"\",B529,\"\")","v":""},{"$f":"IF(C529<>\"\",C529,\"\")","v":""},{"$f":"IF(D529<>\"\",D529,\"\")","v":""},null,null,null,{"$f":"IF(AND(F531<>\"\",G531<>\"\"),VLOOKUP(F531,Desplegables!$E$2:$F$275,2,0)&G531,\"\")","v":""},null,null,null,null,null,null,null,{"$f":"IF(C531<>\"\",VLOOKUP(C531,Desplegables!$A$3:$B$12,2,0),\"\")","v":""},{"$f":"IF(D531<>\"\",VLOOKUP(D531,Desplegables!$A$26:$C$38,3,0),\"\")","v":""},{"$f":"IF(C531<>\"\",VLOOKUP(C531,Desplegables!$A$3:$C$12,3,0),\"\")","v":""},{"$f":"IF(D531<>\"\",VLOOKUP(D531,Desplegables!$A$12:$B$38,2,0),\"\")","v":""}]
[null,null,null,null,null,null,null,{"$f":"IF(AND(F532<>\"\",G532<>\"\"),VLOOKUP(F532,Desplegables!$E$2:$F$275,2,0)&G532,\"\")","v":""},null,null,null,null,null,null,null,{"$f":"IF(C532<>\"\",VLOOKUP(C532,Desplegables!$A$3:$B$12,2,0),\"\")","v":""},{"$f":"IF(D532<>\"\",VLOOKUP(D532,Desplegables!$A$26:$C$38,3,0),\"\")","v":""},{"$f":"IF(C532<>\"\",VLOOKUP(C532,Desplegables!$A$3:$C$12,3,0),\"\")","v":""},{"$f":"IF(D532<>\"\",VLOOKUP(D532,Desplegables!$A$12:$B$38,2,0),\"\")","v":""}]
[{"$f":"IF(A532<>\"\",A532,\"\")","v":""},{"$f":"IF(B532<>\"\",B532,\"\")","v":""},{"$f":"IF(C532<>\"\",C532,\"\")","v":""},{"$f":"IF(D532<>\"\",D532,\"\")","v":""},null,null,null,{"$f":"IF(AND(F533<>\"\",G533<>\"\"),VLOOKUP(F533,Desplegables!$E$2:$F$275,2,0)&G533,\"\")","v":""},null,null,null,null,null,null,null,{"$f":"IF(C533<>\"\",VLOOKUP(C533,Desplegables!$A$3:$B$12,2,0),\"\")","v":""},{"$f":"IF(D533<>\"\",VLOOKUP(D533,Desplegables!$A$26:$C$38,3,0),\"\")","v":""},{"$f":"IF(C533<>\"\",VLOOKUP(C533,Desplegables!$A$3:$C$12,3,0),\"\")","v":""},{"$f":"IF(D533<>\"\",VLOOKUP(D533,Desplegables!$A$12:$B$38,2,0),\"\")","v":""}]
[{"$f":"IF(A532<>\"\",A532,\"\")","v":""},{"$f":"IF(B532<>\"\",B532,\"\")","v":""},{"$f":"IF(C532<>\"\",C532,\"\")","v":""},{"$f":"IF(D532<>\"\",D532,\"\")","v":""},null,null,null,{"$f":"IF(AND(F534<>\"\",G534<>\"\"),VLOOKUP(F534,Desplegables!$E$2:$F$275,2,0)&G534,\"\")","v":""},null,null,null,null,null,null,null,{"$f":"IF(C534<>\"\",VLOOKUP(C534,Desplegables!$A$3:$B$12,2,0),\"\")","v":""},{"$f":"IF(D534<>\"\",VLOOKUP(D534,Desplegables!$A$26:$C$38,3,0),\"\")","v":""},{"$f":"IF(C534<>\"\",VLOOKUP(C534,Desplegables!$A$3:$C$12,3,0),\"\")","v":""},{"$f":"IF(D534<>\"\",VLOOKUP(D534,Desplegables!$A$12:$B$38,2,0),\"\")","v":""}]
[null,null,null,null,null,null,null,{"$f":"IF(AND(F535<>\"\",G535<>\"\"),VLOOKUP(F535,Desplegables!$E$2:$F$275,2,0)&G535,\"\")","v":""},null,null,null,null,null,null,null,{"$f":"IF(C535<>\"\",VLOOKUP(C535,Desplegables!$A$3:$B$12,2,0),\"\")","v":""},{"$f":"IF(D535<>\"\",VLOOKUP(D535,Desplegables!$A$26:$C$38,3,0),\"\")","v":""},{"$f":"IF(C535<>\"\",VLOOKUP(C535,Desplegables!$A$3:$C$12,3,0),\"\")","v":""},{"$f":"IF(D535<>\"\",VLOOKUP(D535,Desplegables!$A$12:$B$38,2,0),\"\")","v":""}]
[{"$f":"IF(A535<>\"\",A535,\"\")","v":""},{"$f":"IF(B535<>\"\",B535,\"\")","v":""},{"$f":"IF(C535<>\"\",C535,\"\")","v":""},{"$f":"IF(D535<>\"\",D535,\"\")","v":""},null,null,null,{"$f":"IF(AND(F536<>\"\",G536<>\"\"),VLOOKUP(F536,Desplegables!$E$2:$F$275,2,0)&G536,\"\")","v":""},null,null,null,null,null,null,null,{"$f":"IF(C536<>\"\",VLOOKUP(C536,Desplegables!$A$3:$B$12,2,0),\"\")","v":""},{"$f":"IF(D536<>\"\",VLOOKUP(D536,Desplegables!$A$26:$C$38,3,0),\"\")","v":""},{"$f":"IF(C536<>\"\",VLOOKUP(C536,Desplegables!$A$3:$C$12,3,0),\"\")","v":""},{"$f":"IF(D536<>\"\",VLOOKUP(D536,Desplegables!$A$12:$B$38,2,0),\"\")","v":""}]
[{"$f":"IF(A535<>\"\",A535,\"\")","v":""},{"$f":"IF(B535<>\"\",B535,\"\")","v":""},{"$f":"IF(C535<>\"\",C535,\"\")","v":""},{"$f":"IF(D535<>\"\",D535,\"\")","v":""},null,null,null,{"$f":"IF(AND(F537<>\"\",G537<>\"\"),VLOOKUP(F537,Desplegables!$E$2:$F$275,2,0)&G537,\"\")","v":""},null,null,null,null,null,null,null,{"$f":"IF(C537<>\"\",VLOOKUP(C537,Desplegables!$A$3:$B$12,2,0),\"\")","v":""},{"$f":"IF(D537<>\"\",VLOOKUP(D537,Desplegables!$A$26:$C$38,3,0),\"\")","v":""},{"$f":"IF(C537<>\"\",VLOOKUP(C537,Desplegables!$A$3:$C$12,3,0),\"\")","v":""},{"$f":"IF(D537<>\"\",VLOOKUP(D537,Desplegables!$A$12:$B$38,2,0),\"\")","v":""}]
[null,null,null,null,null,null,null,{"$f":"IF(AND(F538<>\"\",G538<>\"\"),VLOOKUP(F538,Desplegables!$E$2:$F$275,2,0)&G538,\"\")","v":""},null,null,null,null,null,null,null,{"$f":"IF(C538<>\"\",VLOOKUP(C538,Desplegables!$A$3:$B$12,2,0),\"\")","v":""},{"$f":"IF(D538<>\"\",VLOOKUP(D538,Desplegables!$A$26:$C$38,3,0),\"\")","v":""},{"$f":"IF(C538<>\"\",VLOOKUP(C538,Desplegables!$A$3:$C$12,3,0),\"\")","v":""},{"$f":"IF(D538<>\"\",VLOOKUP(D538,Desplegables!$A$12:$B$38,2,0),\"\")","v":""}]
[{"$f":"IF(A538<>\"\",A538,\"\")","v":""},{"$f":"IF(B538<>\"\",B538,\"\")","v":""},{"$f":"IF(C538<>\"\",C538,\"\")","v":""},{"$f":"IF(D538<>\"\",D538,\"\")","v":""},null,null,null,{"$f":"IF(AND(F539<>\"\",G539<>\"\"),VLOOKUP(F539,Desplegables!$E$2:$F$275,2,0)&G539,\"\")","v":""},null,null,null,null,null,null,null,{"$f":"IF(C539<>\"\",VLOOKUP(C539,Desplegables!$A$3:$B$12,2,0),\"\")","v":""},{"$f":"IF(D539<>\"\",VLOOKUP(D539,Desplegables!$A$26:$C$38,3,0),\"\")","v":""},{"$f":"IF(C539<>\"\",VLOOKUP(C539,Desplegables!$A$3:$C$12,3,0),\"\")","v":""},{"$f":"IF(D539<>\"\",VLOOKUP(D539,Desplegables!$A$12:$B$38,2,0),\"\")","v":""}]
[{"$f":"IF(A538<>\"\",A538,\"\")","v":""},{"$f":"IF(B538<>\"\",B538,\"\")","v":""},{"$f":"IF(C538<>\"\",C538,\"\")","v":""},{"$f":"IF(D538<>\"\",D538,\"\")","v":""},null,null,null,{"$f":"IF(AND(F540<>\"\",G540<>\"\"),VLOOKUP(F540,Desplegables!$E$2:$F$275,2,0)&G540,\"\")","v":""},null,null,null,null,null,null,null,{"$f":"IF(C540<>\"\",VLOOKUP(C540,Desplegables!$A$3:$B$12,2,0),\"\")","v":""},{"$f":"IF(D540<>\"\",VLOOKUP(D540,Desplegables!$A$26:$C$38,3,0),\"\")","v":""},{"$f":"IF(C540<>\"\",VLOOKUP(C540,Desplegables!$A$3:$C$12,3,0),\"\")","v":""},{"$f":"IF(D540<>\"\",VLOOKUP(D540,Desplegables!$A$12:$B$38,2,0),\"\")","v":""}]
[null,null,null,null,null,null,null,{"$f":"IF(AND(F541<>\"\",G541<>\"\"),VLOOKUP(F541,Desplegables!$E$2:$F$275,2,0)&G541,\"\")","v":""},null,null,null,null,null,null,null,{"$f":"IF(C541<>\"\",VLOOKUP(C541,Desplegables!$A$3:$B$12,2,0),\"\")","v":""},{"$f":"IF(D541<>\"\",VLOOKUP(D541,Desplegables!$A$26:$C$38,3,0),\"\")","v":""},{"$f":"IF(C541<>\"\",VLOOKUP(C541,Desplegables!$A$3:$C$12,3,0),\"\")","v":""},{"$f":"IF(D541<>\"\",VLOOKUP(D541,Desplegables!$A$12:$B$38,2,0),\"\")","v":""}]
[{"$f":"IF(A541<>\"\",A541,\"\")","v":""},{"$f":"IF(B541<>\"\",B541,\"\")","v":""},{"$f":"IF(C541<>\"\",C541,\"\")","v":""},{"$f":"IF(D541<>\"\",D541,\"\")","v":""},null,null,null,{"$f":"IF(AND(F542<>\"\",G542<>\"\"),VLOOKUP(F542,Desplegables!$E$2:$F$275,2,0)&G542,\"\")","v":""},null,null,null,null,null,null,null,{"$f":"IF(C542<>\"\",VLOOKUP(C542,Desplegables!$A$3:$B$12,2,0),\"\")","v":""},{"$f":"IF(D542<>\"\",VLOOKUP(D542,Desplegables!$A$26:$C$38,3,0),\"\")","v":""},{"$f":"IF(C542<>\"\",VLOOKUP(C542,Desplegables!$A$3:$C$12,3,0),\"\")","v":""},{"$f":"IF(D542<>\"\",VLOOKUP(D542,Desplegables!$A$12:$B$38,2,0),\"\")","v":""}]
[{"$f":"IF(A541<>\"\",A541,\"\")","v":""},{"$f":"IF(B541<>\"\",B541,\"\")","v":""},{"$f":"IF(C541<>\"\",C541,\"\")","v":""},{"$f":"IF(D541<>\"\",D541,\"\")","v":""},null,null,null,{"$f":"IF(AND(F543<>\"\",G543<>\"\"),VLOOKUP(F543,Desplegables!$E$2:$F$275,2,0)&G543,\"\")","v":""},null,null,null,null,null,null,null,{"$f":"IF(C543<>\"\",VLOOKUP(C543,Desplegables!$A$3:$B$12,2,0),\"\")","v":""},{"$f":"IF(D543<>\"\",VLOOKUP(D543,Desplegables!$A$26:$C$38,3,0),\"\")","v":""},{"$f":"IF(C543<>\"\",VLOOKUP(C543,Desplegables!$A$3:$C$12,3,0),\"\")","v":""},{"$f":"IF(D543<>\"\",VLOOKUP(D543,Desplegables!$A$12:$B$38,2,0),\"\")","v":""}]
[null,null,null,null,null,null,null,{"$f":"IF(AND(F544<>\"\",G544<>\"\"),VLOOKUP(F544,Desplegables!$E$2:$F$275,2,0)&G544,\"\")","v":""},null,null,null,null,null,null,null,{"$f":"IF(C544<>\"\",VLOOKUP(C544,Desplegables!$A$3:$B$12,2,0),\"\")","v":""},{"$f":"IF(D544<>\"\",VLOOKUP(D544,Desplegables!$A$26:$C$38,3,0),\"\")","v":""},{"$f":"IF(C544<>\"\",VLOOKUP(C544,Desplegables!$A$3:$C$12,3,0),\"\")","v":""},{"$f":"IF(D544<>\"\",VLOOKUP(D544,Desplegables!$A$12:$B$38,2,0),\"\")","v":""}]
[{"$f":"IF(A544<>\"\",A544,\"\")","v":""},{"$f":"IF(B544<>\"\",B544,\"\")","v":""},{"$f":"IF(C544<>\"\",C544,\"\")","v":""},{"$f":"IF(D544<>\"\",D544,\"\")","v":""},null,null,null,{"$f":"IF(AND(F545<>\"\",G545<>\"\"),VLOOKUP(F545,Desplegables!$E$2:$F$275,2,0)&G545,\"\")","v":""},null,null,null,null,null,null,null,{"$f":"IF(C545<>\"\",VLOOKUP(C545,Desplegables!$A$3:$B$12,2,0),\"\")","v":""},{"$f":"IF(D545<>\"\",VLOOKUP(D545,Desplegables!$A$26:$C$38,3,0),\"\")","v":""},{"$f":"IF(C545<>\"\",VLOOKUP(C545,Desplegables!$A$3:$C$12,3,0),\"\")","v":""},{"$f":"IF(D545<>\"\",VLOOKUP(D545,Desplegables!$A$12:$B$38,2,0),\"\")","v":""}]
[{"$f":"IF(A544<>\"\",A544,\"\")","v":""},{"$f":"IF(B544<>\"\",B544,\"\")","v":""},{"$f":"IF(C544<>\"\",C544,\"\")","v":""},{"$f":"IF(D544<>\"\",D544,\"\")","v":""},null,null,null,{"$f":"IF(AND(F546<>\"\",G546<>\"\"),VLOOKUP(F546,Desplegables!$E$2:$F$275,2,0)&G546,\"\")","v":""},null,null,null,null,null,null,null,{"$f":"IF(C546<>\"\",VLOOKUP(C546,Desplegables!$A$3:$B$12,2,0),\"\")","v":""},{"$f":"IF(D546<>\"\",VLOOKUP(D546,Desplegables!$A$26:$C$38,3,0),\"\")","v":""},{"$f":"IF(C546<>\"\",VLOOKUP(C546,Desplegables!$A$3:$C$12,3,0),\"\")","v":""},{"$f":"IF(D546<>\"\",VLOOKUP(D546,Desplegables!$A$12:$B$38,2,0),\"\")","v":""}]
[null,null,null,null,null,null,null,{"$f":"IF(AND(F547<>\"\",G547<>\"\"),VLOOKUP(F547,Desplegables!$E$2:$F$275,2,0)&G547,\"\")","v":""},null,null,null,null,null,null,null,{"$f":"IF(C547<>\"\",VLOOKUP(C547,Desplegables!$A$3:$B$12,2,0),\"\")","v":""},{"$f":"IF(D547<>\"\",VLOOKUP(D547,Desplegables!$A$26:$C$38,3,0),\"\")","v":""},{"$f":"IF(C547<>\"\",VLOOKUP(C547,Desplegables!$A$3:$C$12,3,0),\"\")","v":""},{"$f":"IF(D547<>\"\",VLOOKUP(D547,Desplegables!$A$12:$B$38,2,0),\"\")","v":""}]
[{"$f":"IF(A547<>\"\",A547,\"\")","v":""},{"$f":"IF(B547<>\"\",B547,\"\")","v":""},{"$f":"IF(C547<>\"\",C547,\"\")","v":""},{"$f":"IF(D547<>\"\",D547,\"\")","v":""},null,null,null,{"$f":"IF(AND(F548<>\"\",G548<>\"\"),VLOOKUP(F548,Desplegables!$E$2:$F$275,2,0)&G548,\"\")","v":""},null,null,null,null,null,null,null,{"$f":"IF(C548<>\"\",VLOOKUP(C548,Desplegables!$A$3:$B$12,2,0),\"\")","v":""},{"$f":"IF(D548<>\"\",VLOOKUP(D548,Desplegables!$A$26:$C$38,3,0),\"\")","v":""},{"$f":"IF(C548<>\"\",VLOOKUP(C548,Desplegables!$A$3:$C$12,3,0),\"\")","v":""},{"$f":"IF(D548<>\"\",VLOOKUP(D548,Desplegables!$A$12:$B$38,2,0),\"\")","v":""}]
[{"$f":"IF(A547<>\"\",A547,\"\")","v":""},{"$f":"IF(B547<>\"\",B547,\"\")","v":""},{"$f":"IF(C547<>\"\",C547,\"\")","v":""},{"$f":"IF(D547<>\"\",D547,\"\")","v":""},null,null,null,{"$f":"IF(AND(F549<>\"\",G549<>\"\"),VLOOKUP(F549,Desplegables!$E$2:$F$275,2,0)&G549,\"\")","v":""},null,null,null,null,null,null,null,{"$f":"IF(C549<>\"\",VLOOKUP(C549,Desplegables!$A$3:$B$12,2,0),\"\")","v":""},{"$f":"IF(D549<>\"\",VLOOKUP(D549,Desplegables!$A$26:$C$38,3,0),\"\")","v":""},{"$f":"IF(C549<>\"\",VLOOKUP(C549,Desplegables!$A$3:$C$12,3,0),\"\")","v":""},{"$f":"IF(D549<>\"\",VLOOKUP(D549,Desplegables!$A$12:$B$38,2,0),\"\")","v":""}]
[null,null,null,null,null,null,null,{"$f":"IF(AND(F550<>\"\",G550<>\"\"),VLOOKUP(F550,Desplegables!$E$2:$F$275,2,0)&G550,\"\")","v":""}]
[{"$f":"IF(A550<>\"\",A550,\"\")","v":""},{"$f":"IF(B550<>\"\",B550,\"\")","v":""},{"$f":"IF(C550<>\"\",C550,\"\")","v":""},{"$f":"IF(D550<>\"\",D550,\"\")","v":""},null,null,null,{"$f":"IF(AND(F551<>\"\",G551<>\"\"),VLOOKUP(F551,Desplegables!$E$2:$F$275,2,0)&G551,\"\")","v":""}]
[{"$f":"IF(A550<>\"\",A550,\"\")","v":""},{"$f":"IF(B550<>\"\",B550,\"\")","v":""},{"$f":"IF(C550<>\"\",C550,\"\")","v":""},{"$f":"IF(D550<>\"\",D550,\"\")","v":""},null,null,null,{"$f":"IF(AND(F552<>\"\",G552<>\"\"),VLOOKUP(F552,Desplegables!$E$2:$F$275,2,0)&G552,\"\")","v":""}]
[null,null,null,null,null,null,null,{"$f":"IF(AND(F553<>\"\",G553<>\"\"),VLOOKUP(F553,Desplegables!$E$2:$F$275,2,0)&G553,\"\")","v":""}]
[{"$f":"IF(A553<>\"\",A553,\"\")","v":""},{"$f":"IF(B553<>\"\",B553,\"\")","v":""},{"$f":"IF(C553<>\"\",C553,\"\")","v":""},{"$f":"IF(D553<>\"\",D553,\"\")","v":""},null,null,null,{"$f":"IF(AND(F554<>\"\",G554<>\"\"),VLOOKUP(F554,Desplegables!$E$2:$F$275,2,0)&G554,\"\")","v":""}]
[{"$f":"IF(A553<>\"\",A553,\"\")","v":""},{"$f":"IF(B553<>\"\",B553,\"\")","v":""},{"$f":"IF(C553<>\"\",C553,\"\")","v":""},{"$f":"IF(D553<>\"\",D553,\"\")","v":""},null,null,null,{"$f":"IF(AND(F555<>\"\",G555<>\"\"),VLOOKUP(F555,Desplegables!$E$2:$F$275,2,0)&G555,\"\")","v":""}]
[null,null,null,null,null,null,null,{"$f":"IF(AND(F556<>\"\",G556<>\"\"),VLOOKUP(F556,Desplegables!$E$2:$F$275,2,0)&G556,\"\")","v":""}]
[{"$f":"IF(A556<>\"\",A556,\"\")","v":""},{"$f":"IF(B556<>\"\",B556,\"\")","v":""},{"$f":"IF(C556<>\"\",C556,\"\")","v":""},{"$f":"IF(D556<>\"\",D556,\"\")","v":""},null,null,null,{"$f":"IF(AND(F557<>\"\",G557<>\"\"),VLOOKUP(F557,Desplegables!$E$2:$F$275,2,0)&G557,\"\")","v":""}]
[{"$f":"IF(A556<>\"\",A556,\"\")","v":""},{"$f":"IF(B556<>\"\",B556,\"\")","v":""},{"$f":"IF(C556<>\"\",C556,\"\")","v":""},{"$f":"IF(D556<>\"\",D556,\"\")","v":""},null,null,null,{"$f":"IF(AND(F558<>\"\",G558<>\"\"),VLOOKUP(F558,Desplegables!$E$2:$F$275,2,0)&G558,\"\")","v":""}]
[null,null,null,null,null,null,null,{"$f":"IF(AND(F559<>\"\",G559<>\"\"),VLOOKUP(F559,Desplegables!$E$2:$F$275,2,0)&G559,\"\")","v":""}]
[{"$f":"IF(A559<>\"\",A559,\"\")","v":""},{"$f":"IF(B559<>\"\",B559,\"\")","v":""},{"$f":"IF(C559<>\"\",C559,\"\")","v":""},{"$f":"IF(D559<>\"\",D559,\"\")","v":""},null,null,null,{"$f":"IF(AND(F560<>\"\",G560<>\"\"),VLOOKUP(F560,Desplegables!$E$2:$F$275,2,0)&G560,\"\")","v":""}]
[{"$f":"IF(A559<>\"\",A559,\"\")","v":""},{"$f":"IF(B559<>\"\",B559,\"\")","v":""},{"$f":"IF(C559<>\"\",C559,\"\")","v":""},{"$f":"IF(D559<>\"\",D559,\"\")","v":""},null,null,null,{"$f":"IF(AND(F561<>\"\",G561<>\"\"),VLOOKUP(F561,Desplegables!$E$2:$F$275,2,0)&G561,\"\")","v":""}]
[null,null,null,null,null,null,null,{"$f":"IF(AND(F562<>\"\",G562<>\"\"),VLOOKUP(F562,Desplegables!$E$2:$F$275,2,0)&G562,\"\")","v":""}]
[{"$f":"IF(A562<>\"\",A562,\"\")","v":""},{"$f":"IF(B562<>\"\",B562,\"\")","v":""},{"$f":"IF(C562<>\"\",C562,\"\")","v":""},{"$f":"IF(D562<>\"\",D562,\"\")","v":""},null,null,null,{"$f":"IF(AND(F563<>\"\",G563<>\"\"),VLOOKUP(F563,Desplegables!$E$2:$F$275,2,0)&G563,\"\")","v":""}]
[{"$f":"IF(A562<>\"\",A562,\"\")","v":""},{"$f":"IF(B562<>\"\",B562,\"\")","v":""},{"$f":"IF(C562<>\"\",C562,\"\")","v":""},{"$f":"IF(D562<>\"\",D562,\"\")","v":""},null,null,null,{"$f":"IF(AND(F564<>\"\",G564<>\"\"),VLOOKUP(F564,Desplegables!$E$2:$F$275,2,0)&G564,\"\")","v":""}]
[null,null,null,null,null,null,null,{"$f":"IF(AND(F565<>\"\",G565<>\"\"),VLOOKUP(F565,Desplegables!$E$2:$F$275,2,0)&G565,\"\")","v":""}]
[{"$f":"IF(A565<>\"\",A565,\"\")","v":""},{"$f":"IF(B565<>\"\",B565,\"\")","v":""},{"$f":"IF(C565<>\"\",C565,\"\")","v":""},{"$f":"IF(D565<>\"\",D565,\"\")","v":""},null,null,null,{"$f":"IF(AND(F566<>\"\",G566<>\"\"),VLOOKUP(F566,Desplegables!$E$2:$F$275,2,0)&G566,\"\")","v":""}]
[{"$f":"IF(A565<>\"\",A565,\"\")","v":""},{"$f":"IF(B565<>\"\",B565,\"\")","v":""},{"$f":"IF(C565<>\"\",C565,\"\")","v":""},{"$f":"IF(D565<>\"\",D565,\"\")","v":""},null,null,null,{"$f":"IF(AND(F567<>\"\",G567<>\"\"),VLOOKUP(F567,Desplegables!$E$2:$F$275,2,0)&G567,\"\")","v":""}]
[null,null,null,null,null,null,null,{"$f":"IF(AND(F568<>\"\",G568<>\"\"),VLOOKUP(F568,Desplegables!$E$2:$F$275,2,0)&G568,\"\")","v":""}]
[{"$f":"IF(A568<>\"\",A568,\"\")","v":""},{"$f":"IF(B568<>\"\",B568,\"\")","v":""},{"$f":"IF(C568<>\"\",C568,\"\")","v":""},{"$f":"IF(D568<>\"\",D568,\"\")","v":""},null,null,null,{"$f":"IF(AND(F569<>\"\",G569<>\"\"),VLOOKUP(F569,Desplegables!$E$2:$F$275,2,0)&G569,\"\")","v":""}]
[{"$f":"IF(A568<>\"\",A568,\"\")","v":""},{"$f":"IF(B568<>\"\",B568,\"\")","v":""},{"$f":"IF(C568<>\"\",C568,\"\")","v":""},{"$f":"IF(D568<>\"\",D568,\"\")","v":""},null,null,null,{"$f":"IF(AND(F570<>\"\",G570<>\"\"),VLOOKUP(F570,Desplegables!$E$2:$F$275,2,0)&G570,\"\")","v":""}]
[null,null,null,null,null,null,null,{"$f":"IF(AND(F571<>\"\",G571<>\"\"),VLOOKUP(F571,Desplegables!$E$2:$F$275,2,0)&G571,\"\")","v":""}]
[{"$f":"IF(A571<>\"\",A571,\"\")","v":""},{"$f":"IF(B571<>\"\",B571,\"\")","v":""},{"$f":"IF(C571<>\"\",C571,\"\")","v":""},{"$f":"IF(D571<>\"\",D571,\"\")","v":""},null,null,null,{"$f":"IF(AND(F572<>\"\",G572<>\"\"),VLOOKUP(F572,Desplegables!$E$2:$F$275,2,0)&G572,\"\")","v":""}]
[{"$f":"IF(A571<>\"\",A571,\"\")","v":""},{"$f":"IF(B571<>\"\",B571,\"\")","v":""},{"$f":"IF(C571<>\"\",C571,\"\")","v":""},{"$f":"IF(D571<>\"\",D571,\"\")","v":""},null,null,null,{"$f":"IF(AND(F573<>\"\",G573<>\"\"),VLOOKUP(F573,Desplegables!$E$2:$F$275,2,0)&G573,\"\")","v":""}]
[null,null,null,null,null,null,null,{"$f":"IF(AND(F574<>\"\",G574<>\"\"),VLOOKUP(F574,Desplegables!$E$2:$F$275,2,0)&G574,\"\")","v":""}]
[{"$f":"IF(A574<>\"\",A574,\"\")","v":""},{"$f":"IF(B574<>\"\",B574,\"\")","v":""},{"$f":"IF(C574<>\"\",C574,\"\")","v":""},{"$f":"IF(D574<>\"\",D574,\"\")","v":""},null,null,null,{"$f":"IF(AND(F575<>\"\",G575<>\"\"),VLOOKUP(F575,Desplegables!$E$2:$F$275,2,0)&G575,\"\")","v":""}]
[{"$f":"IF(A574<>\"\",A574,\"\")","v":""},{"$f":"IF(B574<>\"\",B574,\"\")","v":""},{"$f":"IF(C574<>\"\",C574,\"\")","v":""},{"$f":"IF(D574<>\"\",D574,\"\")","v":""},null,null,null,{"$f":"IF(AND(F576<>\"\",G576<>\"\"),VLOOKUP(F576,Desplegables!$E$2:$F$275,2,0)&G576,\"\")","v":""}]
[null,null,null,null,null,null,null,{"$f":"IF(AND(F577<>\"\",G577<>\"\"),VLOOKUP(F577,Desplegables!$E$2:$F$275,2,0)&G577,\"\")","v":""}]
[{"$f":"IF(A577<>\"\",A577,\"\")","v":""},{"$f":"IF(B577<>\"\",B577,\"\")","v":""},{"$f":"IF(C577<>\"\",C577,\"\")","v":""},{"$f":"IF(D577<>\"\",D577,\"\")","v":""},null,null,null,{"$f":"IF(AND(F578<>\"\",G578<>\"\"),VLOOKUP(F578,Desplegables!$E$2:$F$275,2,0)&G578,\"\")","v":""}]
[{"$f":"IF(A577<>\"\",A577,\"\")","v":""},{"$f":"IF(B577<>\"\",B577,\"\")","v":""},{"$f":"IF(C577<>\"\",C577,\"\")","v":""},{"$f":"IF(D577<>\"\",D577,\"\")","v":""},null,null,null,{"$f":"IF(AND(F579<>\"\",G579<>\"\"),VLOOKUP(F579,Desplegables!$E$2:$F$275,2,0)&G579,\"\")","v":""}]
[null,null,null,null,null,null,null,{"$f":"IF(AND(F580<>\"\",G580<>\"\"),VLOOKUP(F580,Desplegables!$E$2:$F$275,2,0)&G580,\"\")","v":""}]
[{"$f":"IF(A580<>\"\",A580,\"\")","v":""},{"$f":"IF(B580<>\"\",B580,\"\")","v":""},{"$f":"IF(C580<>\"\",C580,\"\")","v":""},{"$f":"IF(D580<>\"\",D580,\"\")","v":""},null,null,null,{"$f":"IF(AND(F581<>\"\",G581<>\"\"),VLOOKUP(F581,Desplegables!$E$2:$F$275,2,0)&G581,\"\")","v":""}]
[{"$f":"IF(A580<>\"\",A580,\"\")","v":""},{"$f":"IF(B580<>\"\",B580,\"\")","v":""},{"$f":"IF(C580<>\"\",C580,\"\")","v":""},{"$f":"IF(D580<>\"\",D580,\"\")","v":""},null,null,null,{"$f":"IF(AND(F582<>\"\",G582<>\"\"),VLOOKUP(F582,Desplegables!$E$2:$F$275,2,0)&G582,\"\")","v":""}]
[null,null,null,null,null,null,null,{"$f":"IF(AND(F583<>\"\",G583<>\"\"),VLOOKUP(F583,Desplegables!$E$2:$F$275,2,0)&G583,\"\")","v":""}]
[{"$f":"IF(A583<>\"\",A583,\"\")","v":""},{"$f":"IF(B583<>\"\",B583,\"\")","v":""},{"$f":"IF(C583<>\"\",C583,\"\")","v":""},{"$f":"IF(D583<>\"\",D583,\"\")","v":""},null,null,null,{"$f":"IF(AND(F584<>\"\",G584<>\"\"),VLOOKUP(F584,Desplegables!$E$2:$F$275,2,0)&G584,\"\")","v":""}]
[{"$f":"IF(A583<>\"\",A583,\"\")","v":""},{"$f":"IF(B583<>\"\",B583,\"\")","v":""},{"$f":"IF(C583<>\"\",C583,\"\")","v":""},{"$f":"IF(D583<>\"\",D583,\"\")","v":""},null,null,null,{"$f":"IF(AND(F585<>\"\",G585<>\"\"),VLOOKUP(F585,Desplegables!$E$2:$F$275,2,0)&G585,\"\")","v":""}]
[null,null,null,null,null,null,null,{"$f":"IF(AND(F586<>\"\",G586<>\"\"),VLOOKUP(F586,Desplegables!$E$2:$F$275,2,0)&G586,\"\")","v":""}]
[{"$f":"IF(A586<>\"\",A586,\"\")","v":""},{"$f":"IF(B586<>\"\",B586,\"\")","v":""},{"$f":"IF(C586<>\"\",C586,\"\")","v":""},{"$f":"IF(D586<>\"\",D586,\"\")","v":""},null,null,null,{"$f":"IF(AND(F587<>\"\",G587<>\"\"),VLOOKUP(F587,Desplegables!$E$2:$F$275,2,0)&G587,\"\")","v":""}]
[{"$f":"IF(A586<>\"\",A586,\"\")","v":""},{"$f":"IF(B586<>\"\",B586,\"\")","v":""},{"$f":"IF(C586<>\"\",C586,\"\")","v":""},{"$f":"IF(D586<>\"\",D586,\"\")","v":""},null,null,null,{"$f":"IF(AND(F588<>\"\",G588<>\"\"),VLOOKUP(F588,Desplegables!$E$2:$F$275,2,0)&G588,\"\")","v":""}]
[null,null,null,null,null,null,null,{"$f":"IF(AND(F589<>\"\",G589<>\"\"),VLOOKUP(F589,Desplegables!$E$2:$F$275,2,0)&G589,\"\")","v":""}]
[{"$f":"IF(A589<>\"\",A589,\"\")","v":""},{"$f":"IF(B589<>\"\",B589,\"\")","v":""},{"$f":"IF(C589<>\"\",C589,\"\")","v":""},{"$f":"IF(D589<>\"\",D589,\"\")","v":""},null,null,null,{"$f":"IF(AND(F590<>\"\",G590<>\"\"),VLOOKUP(F590,Desplegables!$E$2:$F$275,2,0)&G590,\"\")","v":""}]
[{"$f":"IF(A589<>\"\",A589,\"\")","v":""},{"$f":"IF(B589<>\"\",B589,\"\")","v":""},{"$f":"IF(C589<>\"\",C589,\"\")","v":""},{"$f":"IF(D589<>\"\",D589,\"\")","v":""},null,null,null,{"$f":"IF(AND(F591<>\"\",G591<>\"\"),VLOOKUP(F591,Desplegables!$E$2:$F$275,2,0)&G591,\"\")","v":""}]
[null,null,null,null,null,null,null,{"$f":"IF(AND(F592<>\"\",G592<>\"\"),VLOOKUP(F592,Desplegables!$E$2:$F$275,2,0)&G592,\"\")","v":""}]
[{"$f":"IF(A592<>\"\",A592,\"\")","v":""},{"$f":"IF(B592<>\"\",B592,\"\")","v":""},{"$f":"IF(C592<>\"\",C592,\"\")","v":""},{"$f":"IF(D592<>\"\",D592,\"\")","v":""},null,null,null,{"$f":"IF(AND(F593<>\"\",G593<>\"\"),VLOOKUP(F593,Desplegables!$E$2:$F$275,2,0)&G593,\"\")","v":""}]
[{"$f":"IF(A592<>\"\",A592,\"\")","v":""},{"$f":"IF(B592<>\"\",B592,\"\")","v":""},{"$f":"IF(C592<>\"\",C592,\"\")","v":""},{"$f":"IF(D592<>\"\",D592,\"\")","v":""},null,null,null,{"$f":"IF(AND(F594<>\"\",G594<>\"\"),VLOOKUP(F594,Desplegables!$E$2:$F$275,2,0)&G594,\"\")","v":""}]
[null,null,null,null,null,null,null,{"$f":"IF(AND(F595<>\"\",G595<>\"\"),VLOOKUP(F595,Desplegables!$E$2:$F$275,2,0)&G595,\"\")","v":""}]
[{"$f":"IF(A595<>\"\",A595,\"\")","v":""},{"$f":"IF(B595<>\"\",B595,\"\")","v":""},{"$f":"IF(C595<>\"\",C595,\"\")","v":""},{"$f":"IF(D595<>\"\",D595,\"\")","v":""},null,null,null,{"$f":"IF(AND(F596<>\"\",G596<>\"\"),VLOOKUP(F596,Desplegables!$E$2:$F$275,2,0)&G596,\"\")","v":""}]
[{"$f":"IF(A595<>\"\",A595,\"\")","v":""},{"$f":"IF(B595<>\"\",B595,\"\")","v":""},{"$f":"IF(C595<>\"\",C595,\"\")","v":""},{"$f":"IF(D595<>\"\",D595,\"\")","v":""},null,null,null,{"$f":"IF(AND(F597<>\"\",G597<>\"\"),VLOOKUP(F597,Desplegables!$E$2:$F$275,2,0)&G597,\"\")","v":""}]
[null,null,null,null,null,null,null,{"$f":"IF(AND(F598<>\"\",G598<>\"\"),VLOOKUP(F598,Desplegables!$E$2:$F$275,2,0)&G598,\"\")","v":""}]
[{"$f":"IF(A598<>\"\",A598,\"\")","v":""},{"$f":"IF(B598<>\"\",B598,\"\")","v":""},{"$f":"IF(C598<>\"\",C598,\"\")","v":""},{"$f":"IF(D598<>\"\",D598,\"\")","v":""},null,null,null,{"$f":"IF(AND(F599<>\"\",G599<>\"\"),VLOOKUP(F599,Desplegables!$E$2:$F$275,2,0)&G599,\"\")","v":""}]
[{"$f":"IF(A598<>\"\",A598,\"\")","v":""},{"$f":"IF(B598<>\"\",B598,\"\")","v":""},{"$f":"IF(C598<>\"\",C598,\"\")","v":""},{"$f":"IF(D598<>\"\",D598,\"\")","v":""},null,null,null,{"$f":"IF(AND(F600<>\"\",G600<>\"\"),VLOOKUP(F600,Desplegables!$E$2:$F$275,2,0)&G600,\"\")","v":""}]
[null,null,null,null,null,null,null,{"$f":"IF(AND(F601<>\"\",G601<>\"\"),VLOOKUP(F601,Desplegables!$E$2:$F$275,2,0)&G601,\"\")","v":""}]
[null,null,null,null,null,null,null,{"$f":"IF(AND(F602<>\"\",G602<>\"\"),VLOOKUP(F602,Desplegables!$E$2:$F$275,2,0)&G602,\"\")","v":""}]
[null,null,null,null,null,null,null,{"$f":"IF(AND(F603<>\"\",G603<>\"\"),VLOOKUP(F603,Desplegables!$E$2:$F$275,2,0)&G603,\"\")","v":""}]
[null,null,null,null,null,null,null,{"$f":"IF(AND(F604<>\"\",G604<>\"\"),VLOOKUP(F604,Desplegables!$E$2:$F$275,2,0)&G604,\"\")","v":""}]
[null,null,null,null,null,null,null,{"$f":"IF(AND(F605<>\"\",G605<>\"\"),VLOOKUP(F605,Desplegables!$E$2:$F$275,2,0)&G605,\"\")","v":""}]
[null,null,null,null,null,null,null,{"$f":"IF(AND(F606<>\"\",G606<>\"\"),VLOOKUP(F606,Desplegables!$E$2:$F$275,2,0)&G606,\"\")","v":""}]
[null,null,null,null,null,null,null,{"$f":"IF(AND(F607<>\"\",G607<>\"\"),VLOOKUP(F607,Desplegables!$E$2:$F$275,2,0)&G607,\"\")","v":""}]
[null,null,null,null,null,null,null,{"$f":"IF(AND(F608<>\"\",G608<>\"\"),VLOOKUP(F608,Desplegables!$E$2:$F$275,2,0)&G608,\"\")","v":""}]
[null,null,null,null,null,null,null,{"$f":"IF(AND(F609<>\"\",G609<>\"\"),VLOOKUP(F609,Desplegables!$E$2:$F$275,2,0)&G609,\"\")","v":""}]
[null,null,null,null,null,null,null,{"$f":"IF(AND(F610<>\"\",G610<>\"\"),VLOOKUP(F610,Desplegables!$E$2:$F$275,2,0)&G610,\"\")","v":""}]
[null,null,null,null,null,null,null,{"$f":"IF(AND(F611<>\"\",G611<>\"\"),VLOOKUP(F611,Desplegables!$E$2:$F$275,2,0)&G611,\"\")","v":""}]
[null,null,null,null,null,null,null,{"$f":"IF(AND(F612<>\"\",G612<>\"\"),VLOOKUP(F612,Desplegables!$E$2:$F$275,2,0)&G612,\"\")","v":""}]
[null,null,null,null,null,null,null,{"$f":"IF(AND(F613<>\"\",G613<>\"\"),VLOOKUP(F613,Desplegables!$E$2:$F$275,2,0)&G613,\"\")","v":""}]
[null,null,null,null,null,null,null,{"$f":"IF(AND(F614<>\"\",G614<>\"\"),VLOOKUP(F614,Desplegables!$E$2:$F$275,2,0)&G614,\"\")","v":""}]
[null,null,null,null,null,null,null,{"$f":"IF(AND(F615<>\"\",G615<>\"\"),VLOOKUP(F615,Desplegables!$E$2:$F$275,2,0)&G615,\"\")","v":""}]
[null,null,null,null,null,null,null,{"$f":"IF(AND(F616<>\"\",G616<>\"\"),VLOOKUP(F616,Desplegables!$E$2:$F$275,2,0)&G616,\"\")","v":""}]
[null,null,null,null,null,null,null,{"$f":"IF(AND(F617<>\"\",G617<>\"\"),VLOOKUP(F617,Desplegables!$E$2:$F$275,2,0)&G617,\"\")","v":""}]
[null,null,null,null,null,null,null,{"$f":"IF(AND(F618<>\"\",G618<>\"\"),VLOOKUP(F618,Desplegables!$E$2:$F$275,2,0)&G618,\"\")","v":""}]
[null,null,null,null,null,null,null,{"$f":"IF(AND(F619<>\"\",G619<>\"\"),VLOOKUP(F619,Desplegables!$E$2:$F$275,2,0)&G619,\"\")","v":""}]
[null,null,null,null,null,null,null,{"$f":"IF(AND(F620<>\"\",G620<>\"\"),VLOOKUP(F620,Desplegables!$E$2:$F$275,2,0)&G620,\"\")","v":""}]
[null,null,null,null,null,null,null,{"$f":"IF(AND(F621<>\"\",G621<>\"\"),VLOOKUP(F621,Desplegables!$E$2:$F$275,2,0)&G621,\"\")","v":""}]

{"sheet":"Desplegables","index":1,"n_rows":275,"n_cols":6,"rows_kept":275,"cut":false,"hidden":false,"merged":[[21,0,21,1]]}
["Cuadro Repertoriado:",null,"\"Concepto de gasto\"",null,"\"Paises\"","\"Codigo Pais\""]
["fichero de carga csv:","\"CÓDIGO CONCEPTO\"","\"CONCEPTO DE GASTO\"",null,"AFGANISTAN","AF"]
["A._Coste_de_personal",1,"A. Coste de personal",null,"ALAND","AX"]
["B1._Gastos_de_transporte_alojamiento_y_manutención",2,"B1. Gastos de transporte, alojamiento y manutención",null,"ALBANIA","AL"]
["B2._Entornos_virtuales",3,"B2. Entornos virtuales",null,"ALEMANIA","DE"]
["B3._Material_de_asesoramiento",4,"B3. Material de asesoramiento",null,"ANDORRA","AD"]
["B3._Servicios_de_contratacion_de_personal",4,"B3. Servicios de contratación de personal",null,"ANGOLA","AO"]
["B4._Licencia_de_actividad",5,"B4. Licencia de actividad",null,"ANGUILA","AI"]
["B4._Seguros",5,"B4. Seguros",null,"ANTARTIDA","AQ"]
["B5._Auditoría",6,"B5. Auditoría",null,"ANTIGUA REPUBLICA YUGOSLAVA DE MACEDONIA","XM"]
["B6._Alquileres",7,"B6. Alquileres",null,"ANTIGUA REPUBLICA YUGOSLAVA DE MACEDONIA","MK"]
["C._Inversiones",8,"C1. Inversiones",null,"ANTIGUA Y BARBUDA","AG"]
[null,null,null,null,"ANTILLAS NEERLANDESAS","AN"]
[null,null,null,null,"ARABIA SAUDI","SA"]
[null,null,null,null,"ARGELIA","DZ"]
[null,null,null,null,"ARGENTINA","AR"]
[null,null,null,null,"ARMENIA","AM"]
[null,null,null,null,"ARUBA","AW"]
[null,null,null,null,"AUSTRALIA","AU"]
[null,null,null,null,"AUSTRIA","AT"]
[null,null,null,null,"AVITUALLAMIENTO Y COMBUSTIBLE","QQ"]
["VALORES PREDETERMINADOS PARA CAMPOS \"Límites\"",null,null,null,"AVITUALLAMIENTOS BUQUES Y AERONAV. NAC","X9"]
[null,null,null,null,"AVI.Y COMB.MARCO INTER. INTRACOMUNITARIO","QR"]
["Cuadro Repertoriado:","\"Límite anexo\"",null,null,"AVI.Y COMB.MARCO INTER.TERCEROS PAISES","QS"]
["fichero de carga csv:",null,null,null,"AZERBAIYAN","AZ"]
["A1_Personal_de_asesoria_externo","A.1 Personal de asesoría externo",51,null,"BAHAMAS","BS"]
["B11_Alojamiento","B.1.1 Alojamiento",55,null,"BAHRAIN","BH"]
["B12_Manutencion","B.1.2 Manutención",56,null,"BANGLADESH","BD"]
["B13_Transporte","B.1.3 Transporte",57,null,"BARBADOS","BB"]
["B21_Entornos_virtuales","B.2.1 Entornos virtuales",58,null,"BELARUS (BIELORUSIA)","BY"]
["B31_Material_de_Asesoramiento","B.3.1 Material de Asesoramiento",59,null,"BELGICA","BE"]
["B31_Servicios_de_Contratacion_de_Personal","B.3.1 Servicios de contratación de personal",60,null,"BELICE","BZ"]
["B41_Licencia_de_Actividad","B.4.1 Licencia de Actividad",62,null,"BENIN","BJ"]
["B41_Seguros","B.4.1 Seguros",61,null,"BERMUDAS","BM"]
["B51_Auditoria","B.5.1 Auditoria",63,null,"BOLIVIA","BO"]
["B61_Alquileres","B.6.1 Alquileres",64,null,"BONAIRE, SAN EUSTAQUIO Y SABA","BQ"]
["C1_Bienes_Inventeables","C.1 Bienes Inventeables",65,null,"BOSNIA Y HERCEGOVINA","BA"]
["C2_Otras_Inversiones","C.2 Otras Inversiones",66,null,"BOTSUANA","BW"]
[null,null,null,null,"BOUVET (ISLA)","BV"]
[null,null,null,null,"BRASIL","BR"]
[null,null,null,null,"BRUNEI DARUSSALAM","BN"]
[null,null,null,null,"BULGARIA","BG"]
[null,null,null,null,"BURKINA FASO","BF"]
[null,null,null,null,"BURUNDI","BI"]
[null,null,null,null,"BUTAN","BT"]
[null,null,null,null,"CABO VERDE","CV"]
[null,null,null,null,"CAMBOYA","KH"]
[null,null,null,null,"CAMERUN","CM"]
[null,null,null,null,"CANADA","CA"]
[null,null,null,null,"CEUTA","XC"]
[null,null,null,null,"CHAD","TD"]
[null,null,null,null,"CHILE","CL"]
[null,null,null,null,"CHINA (REPUBLICA POPULAR DE)","CN"]
[null,null,null,null,"CHIPRE","CY"]
[null,null,null,null,"CISJORDANIA/FRANJA DE GAZA","XP"]
[null,null,null,null,"COCOS (ISLA) (O ISLAS KEELING)","CC"]
[null,null,null,null,"COLOMBIA","CO"]
[null,null,null,null,"COMORAS","KM"]
[null,null,null,null,"CONGO","CG"]
[null,null,null,null,"CONGO (REPUBLICA DEMOCRATICA DEL)","CD"]
[null,null,null,null,"COOK (ISLAS)","CK"]
[null,null,null,null,"COREA (REPUBLICA DE)","KR"]
[null,null,null,null,"COREA (REPUBLICA POPULAR DEMOCRATICA)","KP"]
[null,null,null,null,"COSTA DE MARFIL","CI"]
[null,null,null,null,"COSTA RICA","CR"]
[null,null,null,null,"CROACIA","HR"]
[null,null,null,null,"CUBA","CU"]
[null,null,null,null,"CURAZAO","CW"]
[null,null,null,null,"DINAMARCA","DK"]
[null,null,null,null,"DOMINICA","DM"]
[null,null,null,null,"ECUADOR","EC"]
[null,null,null,null,"EGIPTO","EG"]
[null,null,null,null,"EL SALVADOR","SV"]
[null,null,null,null,"EMIRATOS ARABES UNIDOS","AE"]
[null,null,null,null,"ERITREA","ER"]
[null,null,null,null,"ESLOVAQUIA","SK"]
[null,null,null,null,"ESLOVENIA","SI"]
[null,null,null,null,"ESPAÑA","ES"]
[null,null,null,null,"ESTADOS UNIDOS","US"]
[null,null,null,null,"ESTONIA","EE"]
[null,null,null,null,"ETIOPIA","ET"]
[null,null,null,null,"FEROE (ISLAS)","FO"]
[null,null,null,null,"FILIPINAS","PH"]
[null,null,null,null,"FINLANDIA","FI"]
[null,null,null,null,"FIYI (ISLAS)","FJ"]
[null,null,null,null,"FRANCIA","FR"]
[null,null,null,null,"GABON","GA"]
[null,null,null,null,"GAMBIA","GM"]
[null,null,null,null,"GEORGIA","GE"]
[null,null,null,null,"GEORGIA DEL SUR E ISLAS SANDWICH DEL SUR","GS"]
[null,null,null,null,"GHANA","GH"]
[null,null,null,null,"GIBRALTAR","GI"]
[null,null,null,null,"GRANADA","GD"]
[null,null,null,null,"GRECIA","GR"]
[null,null,null,null,"GROENLANDIA","GL"]
[null,null,null,null,"GUADALUPE","GP"]
[null,null,null,null,"GUAM","GU"]
[null,null,null,null,"GUATEMALA","GT"]
[null,null,null,null,"GUAYANA FRANCESA","GF"]
[null,null,null,null,"GUERNSEY","GG"]
[null,null,null,null,"GUINEA","GN"]
[null,null,null,null,"GUINEA ECUATORIAL","GQ"]
[null,null,null,null,"GUINEA-BISSAU","GW"]
[null,null,null,null,"GUYANA","GY"]
[null,null,null,null,"HAITI","HT"]
[null,null,null,null,"HONDURAS","HN"]
[null,null,null,null,"HONG KONG","HK"]
[null,null,null,null,"HUNGRIA","HU"]
[null,null,null,null,"INDIA","IN"]
[null,null,null,null,"INDONESIA","ID"]
[null,null,null,null,"IRAN (REPUBLICA ISLAMICA)","IR"]
[null,null,null,null,"IRAQ","IQ"]
[null,null,null,null,"IRLANDA","IE"]
[null,null,null,null,"ISLA DE MAN","IM"]
[null,null,null,null,"ISLA HEARD Y ISLAS MCDONALD","HM"]
[null,null,null,null,"ISLANDIA","IS"]
[null,null,null,null,"ISLAS CAIMAN","KY"]
[null,null,null,null,"ISLAS MENORES ALEJADAS DE ESTADOS UNIDOS","UM"]
[null,null,null,null,"ISLAS SALOMON","SB"]
[null,null,null,null,"ISRAEL","IL"]
[null,null,null,null,"ITALIA","IT"]
[null,null,null,null,"JAMAICA","JM"]
[null,null,null,null,"JAPON","JP"]
[null,null,null,null,"JERSEY","JE"]
[null,null,null,null,"JORDANIA","JO"]
[null,null,null,null,"KAZAJISTAN","KZ"]
[null,null,null,null,"KENIA","KE"]
[null,null,null,null,"KIRGUZISTAN","KG"]
[null,null,null,null,"KIRIBATI","KI"]
[null,null,null,null,"KOSOVO","XK"]
[null,null,null,null,"KUWAIT","KW"]
[null,null,null,null,"LAO","LA"]
[null,null,null,null,"LESOTO","LS"]
[null,null,null,null,"LETONIA","LV"]
[null,null,null,null,"LIBANO","LB"]
[null,null,null,null,"LIBERIA","LR"]
[null,null,null,null,"LIBIA (JAMAHIRIYA ARABE)","LY"]
[null,null,null,null,"LIECHTENSTEIN","LI"]
[null,null,null,null,"LITUANIA","LT"]
[null,null,null,null,"LUXEMBURGO","LU"]
[null,null,null,null,"MACAO","MO"]
[null,null,null,null,"MADAGASCAR","MG"]
[null,null,null,null,"MALASIA","MY"]
[null,null,null,null,"MALAUI","MW"]
[null,null,null,null,"MALDIVAS","MV"]
[null,null,null,null,"MALI","ML"]
[null,null,null,null,"MALTA","MT"]
[null,null,null,null,"MALVINAS (ISLAS) (FALKLAND)","FK"]
[null,null,null,null,"MARIANAS DEL NORTE (ISLAS)","MP"]
[null,null,null,null,"MARRUECOS","MA"]
[null,null,null,null,"MARSHALL (ISLAS)","MH"]
[null,null,null,null,"MARTINICA","MQ"]
[null,null,null,null,"MAURICIO","MU"]
[null,null,null,null,"MAURITANIA","MR"]
[null,null,null,null,"MAYOTTE","YT"]
[null,null,null,null,"MAYOTTE","XD"]
[null,null,null,null,"MELILLA","XL"]
[null,null,null,null,"MEXICO","MX"]
[null,null,null,null,"MICRONESIA (ESTADOS FEDERADOS)","FM"]
[null,null,null,null,"MONACO","MC"]
[null,null,null,null,"MONGOLIA","MN"]
[null,null,null,null,"MONTENEGRO","ME"]
[null,null,null,null,"MONTSERRAT","MS"]
[null,null,null,null,"MOZAMBIQUE","MZ"]
[null,null,null,null,"MYANMAR","MM"]
[null,null,null,null,"NAMIBIA","NA"]
[null,null,null,null,"NAURU","NR"]
[null,null,null,null,"NAVIDAD (ISLA)","CX"]
[null,null,null,null,"NEPAL","NP"]
[null,null,null,null,"NICARAGUA","NI"]
[null,null,null,null,"NIGER","NE"]
[null,null,null,null,"NIGERIA","NG"]
[null,null,null,null,"NIUE (ISLA)","NU"]
[null,null,null,null,"NORFOLK (ISLA)","NF"]
[null,null,null,null,"NORUEGA","NO"]
[null,null,null,null,"NUEVA CELEDONIA","NC"]
[null,null,null,null,"NUEVA ZELANDA","NZ"]
[null,null,null,null,"OCEANIA AMERICANA","XA"]
[null,null,null,null,"OCEANIA AUSTRALIANA","XO"]
[null,null,null,null,"OCEANIA NEOZELANDESA","XZ"]
[null,null,null,null,"OMAN","OM"]
[null,null,null,null,"PAISES BAJOS","NL"]
[null,null,null,null,"PAISES Y TERRITORIOS NO DETERMINADOS","QU"]
[null,null,null,null,"PAIS.Y TERRI.NO DETER.MARCO INTER.INTRA.","QV"]
[null,null,null,null,"PAIS.Y TERRI.NO PREC.RAZO.COME. O MILIT.","QX"]
[null,null,null,null,"PAIS.Y TERRI.NO PREC.R.COME.O MILIT.INT.","QY"]
[null,null,null,null,"PAIS.Y TERRI.NO PREC.R.CO.O MIL.TE.PAI.","QZ"]
[null,null,null,null,"PAI.Y TERRI.NO DETER.MAR.INTR.TER.PAIS.","QW"]
[null,null,null,null,"PAKISTAN","PK"]
[null,null,null,null,"PALAOS","PW"]
[null,null,null,null,"PANAMA","PA"]
[null,null,null,null,"PAPUA-NUEVA GUINEA","PG"]
[null,null,null,null,"PARAGUAY","PY"]
[null,null,null,null,"PERU","PE"]
[null,null,null,null,"PITCAIRN","PN"]
[null,null,null,null,"POLINESIA FRANCESA","PF"]
[null,null,null,null,"POLONIA","PL"]
[null,null,null,null,"PORTUGAL","PT"]
[null,null,null,null,"PUERTO RICO","PR"]
[null,null,null,null,"QATAR","QA"]
[null,null,null,null,"REGIONES POLARES","XR"]
[null,null,null,null,"REINO UNIDO","GB"]
[null,null,null,null,"REPUBLICA ARABE SIRIA","SY"]
[null,null,null,null,"REPUBLICA CENTROAFRICANA","CF"]
[null,null,null,null,"REPUBLICA CHECA","CZ"]
[null,null,null,null,"REPUBLICA DE MOLDAVIA","MD"]
[null,null,null,null,"REPUBLICA DOMINICANA","DO"]
[null,null,null,null,"REUNION","RE"]
[null,null,null,null,"RUANDA","RW"]
[null,null,null,null,"RUMANIA","RO"]
[null,null,null,null,"RUSIA (FEDERACION DE)","RU"]
[null,null,null,null,"SAHARA OCCIDENTAL","EH"]
[null,null,null,null,"SAMOA","WS"]
[null,null,null,null,"SAMOA AMERICANA","AS"]
[null,null,null,null,"SAN BARTOLOME","BL"]
[null,null,null,null,"SAN CRISTOBAL Y NIEVES","KN"]
[null,null,null,null,"SAN MARINO","SM"]
[null,null,null,null,"SAN MARTIN","MF"]
[null,null,null,null,"SAN PEDRO Y MIQUELON","PM"]
[null,null,null,null,"SAN VICENTE Y LAS GRANADINAS","VC"]
[null,null,null,null,"SANTA ELENA","SH"]
[null,null,null,null,"SANTA LUCIA","LC"]
[null,null,null,null,"SANTA SEDE","VA"]
[null,null,null,null,"SANTO TOME Y PRINCIPE","ST"]
[null,null,null,null,"SENEGAL","SN"]
[null,null,null,null,"SERBIA","RS"]
[null,null,null,null,"SERBIA","XS"]
[null,null,null,null,"SERBIA Y MONTENEGRO","CS"]
[null,null,null,null,"SEYCHELLES","SC"]
[null,null,null,null,"SIERRA LEONA","SL"]
[null,null,null,null,"SINGAPUR","SG"]
[null,null,null,null,"SINT MAARTEN","SX"]
[null,null,null,null,"SOMALIA","SO"]
[null,null,null,null,"SRI LANKA","LK"]
[null,null,null,null,"SUAZILANDIA","SZ"]
[null,null,null,null,"SUDAFRICA","ZA"]
[null,null,null,null,"SUDAN","SD"]
[null,null,null,null,"SUDAN DEL SUR","SS"]
[null,null,null,null,"SUECIA","SE"]
[null,null,null,null,"SUIZA","CH"]
[null,null,null,null,"SURINAM","SR"]
[null,null,null,null,"SVALBARD  Y JAN MAYEN","SJ"]
[null,null,null,null,"TAILANDIA","TH"]
[null,null,null,null,"TAIWAN","TW"]
[null,null,null,null,"TANZANIA (REPUBLICA UNIDA DE)","TZ"]
[null,null,null,null,"TAYIKISTAN","TJ"]
[null,null,null,null,"TERRITORIO BRITANICO DEL OCEANO INDICO","IO"]
[null,null,null,null,"TERRITORIO PALESTINO OCUPADO","PS"]
[null,null,null,null,"TIERRAS AUSTRALES FRANCESAS","TF"]
[null,null,null,null,"TIMOR ORIENTAL","TL"]
[null,null,null,null,"TIMOR-ESTE","TP"]
[null,null,null,null,"TOGO","TG"]
[null,null,null,null,"TOKELAU (ISLAS)","TK"]
[null,null,null,null,"TONGA","TO"]
[null,null,null,null,"TRINIDAD Y TOBAGO","TT"]
[null,null,null,null,"TUNEZ","TN"]
[null,null,null,null,"TURCAS Y CAICOS (ISLAS)","TC"]
[null,null,null,null,"TURKMENISTAN","TM"]
[null,null,null,null,"TURQUIA","TR"]
[null,null,null,null,"TUVALU","TV"]
[null,null,null,null,"UCRANIA","UA"]
[null,null,null,null,"UGANDA","UG"]
[null,null,null,null,"URUGUAY","UY"]
[null,null,null,null,"UZBEKISTAN","UZ"]
[null,null,null,null,"VANUATU","VU"]
[null,null,null,null,"VENEZUELA","VE"]
[null,null,null,null,"VIETNAM","VN"]
[null,null,null,null,"VIRGENES BRITANICAS (ISLAS)","VG"]
[null,null,null,null,"VIRGENES DE LOS ESTADOS UNIDOS (ISLAS)","VI"]
[null,null,null,null,"WALLIS Y FUTUNA","WF"]
[null,null,null,null,"YEMEN","YE"]
[null,null,null,null,"YIBUTI","DJ"]
[null,null,null,null,"YUGOSLAVIA","YU"]
[null,null,null,null,"ZAMBIA","ZM"]
[null,null,null,null,"ZIMBABUE","ZW"]